BEGIN:VCALENDAR
VERSION:2.0
PRODID:-//TJ Meteor České Budějovice z.s.91170//NONSGML kigkonsult.se iCalcreator 2.41.80//
CALSCALE:GREGORIAN
UID:39343066-3330-4862-b461-386639663034
BEGIN:VEVENT
UID:39353831-6234-4536-b737-356462366262
DTSTAMP:20260422T022913Z
DESCRIPTION:3/12 Meteor ČB - Slovan ČB 0:3 (-17\,-23\,-24)
DTSTART;TZID=Europe/Berlin:20250911T170000
DTEND;TZID=Europe/Berlin:20250911T190000
LOCATION:TJ Meteor České Budějovice z.s.\, Jana Kollára 2316 České Budějovi
 ce - České Budějovice 7
SUMMARY:JC-M-2A: Meteor ČB-Slovan ČB
END:VEVENT
BEGIN:VEVENT
UID:65393133-6434-4430-a535-363539663633
DTSTAMP:20260422T022913Z
DESCRIPTION:5/19 Meteor ČB - PrachaticeSokol Vladimír
DTSTART;TZID=Europe/Berlin:20260521T170000
DTEND;TZID=Europe/Berlin:20260521T190000
LOCATION:TJ Meteor České Budějovice z.s.\, Jana Kollára 2316 České Budějovi
 ce - České Budějovice 7
SUMMARY:JC-M-2A: Meteor ČB-Prachatice
END:VEVENT
BEGIN:VEVENT
UID:62336535-3336-4631-a466-386362386665
DTSTAMP:20260422T022913Z
DESCRIPTION:7/26 Meteor ČB - Jihostroj ČB 0:3 (-25\,-21\,-15)
DTSTART;TZID=Europe/Berlin:20251010T190000
DTEND;TZID=Europe/Berlin:20251010T210000
LOCATION:TJ Meteor České Budějovice z.s.\, Jana Kollára 2316 České Budějovi
 ce - České Budějovice 7
SUMMARY:JC-M-2A: Meteor ČB-Jihostroj ČB
END:VEVENT
BEGIN:VEVENT
UID:65383866-3561-4538-b662-386665313239
DTSTAMP:20260422T022913Z
DESCRIPTION:8/32 Meteor ČB - Č.Krumlov 2:3 (-20\,-22\,16\,20\,-10)
DTSTART;TZID=Europe/Berlin:20251114T190000
DTEND;TZID=Europe/Berlin:20251114T210000
LOCATION:TJ Meteor České Budějovice z.s.\, Jana Kollára 2316 České Budějovi
 ce - České Budějovice 7
SUMMARY:JC-M-2A: Meteor ČB-Č.Krumlov
END:VEVENT
BEGIN:VEVENT
UID:66386566-6332-4338-b665-393362633466
DTSTAMP:20260422T022913Z
DESCRIPTION:9/33 Meteor ČB - StrakoniceAubrecht Václav
DTSTART;TZID=Europe/Berlin:20260528T173000
DTEND;TZID=Europe/Berlin:20260528T193000
LOCATION:TJ Meteor České Budějovice z.s.\, Jana Kollára 2316 České Budějovi
 ce - České Budějovice 7
SUMMARY:JC-M-2A: Meteor ČB-Strakonice
END:VEVENT
BEGIN:VEVENT
UID:62326433-3564-4064-b134-313136393632
DTSTAMP:20260422T022913Z
DESCRIPTION:11/42 Meteor ČB - St.HodějoviceJanoušek Vlastimil
DTSTART;TZID=Europe/Berlin:20260521T173000
DTEND;TZID=Europe/Berlin:20260521T193000
LOCATION:TJ Meteor České Budějovice z.s.\, Jana Kollára 2316 České Budějovi
 ce - České Budějovice 7
SUMMARY:JC-M-2A: Meteor ČB-St.Hodějovice
END:VEVENT
BEGIN:VEVENT
UID:31613335-3961-4666-b866-636565326339
DTSTAMP:20260422T022913Z
DESCRIPTION:13/51 Meteor ČB - SoběslavBřeznický Jakub
DTSTART;TZID=Europe/Berlin:20260604T173000
DTEND;TZID=Europe/Berlin:20260604T193000
LOCATION:TJ Meteor České Budějovice z.s.\, Jana Kollára 2316 České Budějovi
 ce - České Budějovice 7
SUMMARY:JC-M-2A: Meteor ČB-Soběslav
END:VEVENT
BEGIN:VEVENT
UID:35363131-3931-4564-a235-343533376466
DTSTAMP:20260422T022913Z
DESCRIPTION:1/4 Č.Krumlov - Meteor ČB 2:3 (19\,18\,-20\,-17\,-9)
DTSTART;TZID=Europe/Berlin:20250828T170000
DTEND;TZID=Europe/Berlin:20250828T190000
LOCATION:ZŠ Za Nádražím Český Krumlov\, Za Nádražím 222 Český Krumlov - Nád
 ražní Předměstí
SUMMARY:JC-M-2A: Č.Krumlov-Meteor ČB
END:VEVENT
BEGIN:VEVENT
UID:33353138-3361-4664-a435-313466623737
DTSTAMP:20260422T022913Z
DESCRIPTION:2/5 Strakonice - Meteor ČB 3:2 (-23\,27\,19\,-10\,13)
DTSTART;TZID=Europe/Berlin:20250904T170000
DTEND;TZID=Europe/Berlin:20250904T190000
LOCATION:Hala TJ ČZ Strakonice\, Máchova 108 Strakonice - Strakonice I
SUMMARY:JC-M-2A: Strakonice-Meteor ČB
END:VEVENT
BEGIN:VEVENT
UID:34623165-6539-4130-b561-363235383662
DTSTAMP:20260422T022913Z
DESCRIPTION:4/14 St.Hodějovice - Meteor ČB 2:3 (-14\,-19\,23\,17\,-9)
DTSTART;TZID=Europe/Berlin:20250918T170000
DTEND;TZID=Europe/Berlin:20250918T190000
LOCATION:Sportovní hala Jihočeské univerzity\, Na Sádkách 305 České Budějov
 ice - České Budějovice 2
SUMMARY:JC-M-2A: St.Hodějovice-Meteor ČB
END:VEVENT
BEGIN:VEVENT
UID:38313436-3237-4537-b639-663064623133
DTSTAMP:20260422T022913Z
DESCRIPTION:6/23 Soběslav - Meteor ČB 2:3 (21\,-19\,18\,-23\,-10)
DTSTART;TZID=Europe/Berlin:20251002T190000
DTEND;TZID=Europe/Berlin:20251002T210000
LOCATION:Sokolovna\, Nová 401 Soběslav - Soběslav II
SUMMARY:JC-M-2A: Soběslav-Meteor ČB
END:VEVENT
BEGIN:VEVENT
UID:34303164-6333-4763-b231-383032373934
DTSTAMP:20260422T022913Z
DESCRIPTION:10/40 Slovan ČB - Meteor ČBPitner Jan
DTSTART;TZID=Europe/Berlin:20260514T173000
DTEND;TZID=Europe/Berlin:20260514T193000
LOCATION:Sportovní hala\, Stromovka 1216 České Budějovice - České Budějovic
 e 2
SUMMARY:JC-M-2A: Slovan ČB-Meteor ČB
END:VEVENT
BEGIN:VEVENT
UID:61653561-3961-4139-b662-666632366535
DTSTAMP:20260422T022913Z
DESCRIPTION:12/47 Prachatice - Meteor ČB 1:3 (-11\,-14\,24\,-22)
DTSTART;TZID=Europe/Berlin:20251111T193000
DTEND;TZID=Europe/Berlin:20251111T213000
LOCATION:, U Stadionu 764 Prachatice - Prachatice II
SUMMARY:JC-M-2A: Prachatice-Meteor ČB
END:VEVENT
BEGIN:VEVENT
UID:36633136-3337-4439-a165-633638353838
DTSTAMP:20260422T022913Z
DESCRIPTION:14/54 Jihostroj ČB - Meteor ČBZaiblová Kateřina
DTSTART;TZID=Europe/Berlin:20260423T182000
DTEND;TZID=Europe/Berlin:20260423T202000
LOCATION:ZŠ Oskara Nedbala České Budějovice\, O. Nedbala 882 České Budějovi
 ce - České Budějovice 2
SUMMARY:JC-M-2A: Jihostroj ČB-Meteor ČB
END:VEVENT
END:VCALENDAR
