BEGIN:VCALENDAR
VERSION:2.0
PRODID:-//VSK Český Krumlov z.s.91181//NONSGML kigkonsult.se iCalcreator 2.41.80//
CALSCALE:GREGORIAN
UID:64366534-3531-4233-b862-326233616533
BEGIN:VEVENT
UID:33646639-6263-4635-b765-313762666665
DTSTAMP:20260421T210035Z
DESCRIPTION:1/4 Č. Krumlov - Písek 3:0 (23\,21\,23)
DTSTART;TZID=Europe/Berlin:20251002T193000
DTEND;TZID=Europe/Berlin:20251002T213000
LOCATION:ZŠ Za Nádražím Český Krumlov\, Za Nádražím 222 Český Krumlov - Nád
 ražní Předměstí
SUMMARY:JC-M-1: Č. Krumlov-Písek
END:VEVENT
BEGIN:VEVENT
UID:61346462-3163-4563-b563-643363303834
DTSTAMP:20260421T210035Z
DESCRIPTION:3/12 Č. Krumlov - Křemže 3:1 (20\,18\,-22\,19)
DTSTART;TZID=Europe/Berlin:20251016T193000
DTEND;TZID=Europe/Berlin:20251016T213000
LOCATION:ZŠ Za Nádražím Český Krumlov\, Za Nádražím 222 Český Krumlov - Nád
 ražní Předměstí
SUMMARY:JC-M-1: Č. Krumlov-Křemže
END:VEVENT
BEGIN:VEVENT
UID:30376566-6231-4735-b739-643739366266
DTSTAMP:20260421T210035Z
DESCRIPTION:7/26 Č. Krumlov - Vltava ČB 3:0 (18\,23\,18)
DTSTART;TZID=Europe/Berlin:20251113T193000
DTEND;TZID=Europe/Berlin:20251113T213000
LOCATION:ZŠ Za Nádražím Český Krumlov\, Za Nádražím 222 Český Krumlov - Nád
 ražní Předměstí
SUMMARY:JC-M-1: Č. Krumlov-Vltava ČB
END:VEVENT
BEGIN:VEVENT
UID:62373430-6534-4136-a465-363566373765
DTSTAMP:20260421T210035Z
DESCRIPTION:9/33 Č. Krumlov - Jihostroj ČB 3:0 (15\,14\,23)
DTSTART;TZID=Europe/Berlin:20251127T193000
DTEND;TZID=Europe/Berlin:20251127T213000
LOCATION:ZŠ Za Nádražím Český Krumlov\, Za Nádražím 222 Český Krumlov - Nád
 ražní Předměstí
SUMMARY:JC-M-1: Č. Krumlov-Jihostroj ČB
END:VEVENT
BEGIN:VEVENT
UID:61383632-3437-4364-a437-336363623230
DTSTAMP:20260421T210035Z
DESCRIPTION:11/42 Č. Krumlov - LOKO ČB 3:1 (-22\,13\,20\,22)
DTSTART;TZID=Europe/Berlin:20260319T193000
DTEND;TZID=Europe/Berlin:20260319T213000
LOCATION:ZŠ Za Nádražím Český Krumlov\, Za Nádražím 222 Český Krumlov - Nád
 ražní Předměstí
SUMMARY:JC-M-1: Č. Krumlov-LOKO ČB
END:VEVENT
BEGIN:VEVENT
UID:34343235-3232-4063-a166-616564366563
DTSTAMP:20260421T210035Z
DESCRIPTION:12/47 Č. Krumlov - Č. Budějovice 3:1 (-21\,22\,19\,21)
DTSTART;TZID=Europe/Berlin:20260326T193000
DTEND;TZID=Europe/Berlin:20260326T213000
LOCATION:ZŠ Za Nádražím Český Krumlov\, Za Nádražím 222 Český Krumlov - Nád
 ražní Předměstí
SUMMARY:JC-M-1: Č. Krumlov-Č. Budějovice
END:VEVENT
BEGIN:VEVENT
UID:33646635-3361-4164-b932-633434393635
DTSTAMP:20260421T210035Z
DESCRIPTION:13/51 Č. Krumlov - Týn 3:0 (15\,13\,18)
DTSTART;TZID=Europe/Berlin:20260305T193000
DTEND;TZID=Europe/Berlin:20260305T213000
LOCATION:ZŠ Za Nádražím Český Krumlov\, Za Nádražím 222 Český Krumlov - Nád
 ražní Předměstí
SUMMARY:JC-M-1: Č. Krumlov-Týn
END:VEVENT
BEGIN:VEVENT
UID:33393137-3438-4432-a632-363065346231
DTSTAMP:20260421T210035Z
DESCRIPTION:2/5 Jihostroj ČB - Č. Krumlov 0:3 (-13\,-16\,-8)
DTSTART;TZID=Europe/Berlin:20251205T182000
DTEND;TZID=Europe/Berlin:20251205T202000
LOCATION:ZŠ Oskara Nedbala České Budějovice\, O. Nedbala 882 České Budějovi
 ce - České Budějovice 2
SUMMARY:JC-M-1: Jihostroj ČB-Č. Krumlov
END:VEVENT
BEGIN:VEVENT
UID:34643166-3162-4936-a133-393463643666
DTSTAMP:20260421T210035Z
DESCRIPTION:4/14 LOKO ČB - Č. Krumlov 2:3 (-18\,-20\,15\,19\,-13)
DTSTART;TZID=Europe/Berlin:20251022T205000
DTEND;TZID=Europe/Berlin:20251022T225000
LOCATION:ZŠ Oskara Nedbala České Budějovice\, O. Nedbala 882 České Budějovi
 ce - České Budějovice 2
SUMMARY:JC-M-1: LOKO ČB-Č. Krumlov
END:VEVENT
BEGIN:VEVENT
UID:34383861-6663-4437-a434-373865333337
DTSTAMP:20260421T210035Z
DESCRIPTION:5/19 Č. Budějovice - Č. Krumlov 3:0 (20\,14\,18)
DTSTART;TZID=Europe/Berlin:20251119T205000
DTEND;TZID=Europe/Berlin:20251119T225000
LOCATION:Sportovní hala Jihočeské univerzity\, Na Sádkách 305 České Budějov
 ice - České Budějovice 2
SUMMARY:JC-M-1: Č. Budějovice-Č. Krumlov
END:VEVENT
BEGIN:VEVENT
UID:65386632-6163-4361-a432-363063616137
DTSTAMP:20260421T210035Z
DESCRIPTION:6/23 Týn - Č. Krumlov 0:3 (-20\,-17\,-17)
DTSTART;TZID=Europe/Berlin:20251107T173000
DTEND;TZID=Europe/Berlin:20251107T193000
LOCATION:Tělocvična ZŠ Hlinecká \, Komenského 748 Týn nad Vltavou
SUMMARY:JC-M-1: Týn-Č. Krumlov
END:VEVENT
BEGIN:VEVENT
UID:39343235-3138-4661-b632-643464313238
DTSTAMP:20260421T210035Z
DESCRIPTION:8/32 Písek - Č. Krumlov 0:3 (-21\,-23\,-23)
DTSTART;TZID=Europe/Berlin:20260126T195000
DTEND;TZID=Europe/Berlin:20260126T215000
LOCATION:Sportovní hala Sokol Písek\, Tyršova 395 Písek - Budějovické Předm
 ěstí
SUMMARY:JC-M-1: Písek-Č. Krumlov
END:VEVENT
BEGIN:VEVENT
UID:33303536-6564-4562-b337-326264663365
DTSTAMP:20260421T210035Z
DESCRIPTION:10/40 Křemže - Č. Krumlov 1:3 (-19\,-17\,19\,-15)\nPo dohodě tý
 mů se hraje v hale ZŠ Za Nádražím\, Český Krumlov
DTSTART;TZID=Europe/Berlin:20260205T193000
DTEND;TZID=Europe/Berlin:20260205T213000
LOCATION:ZŠ Chvalšiny\,  Chvalšiny150
SUMMARY:JC-M-1: Křemže-Č. Krumlov
END:VEVENT
BEGIN:VEVENT
UID:33303361-6135-4534-a161-346435303938
DTSTAMP:20260421T210035Z
DESCRIPTION:14/54 Vltava ČB - Č. Krumlov 0:3 (-23\,-18\,-19)
DTSTART;TZID=Europe/Berlin:20260312T192000
DTEND;TZID=Europe/Berlin:20260312T212000
LOCATION:ZŠ E. Destinové\, Emy Destinové 1138 České Budějovice - České Budě
 jovice 2
SUMMARY:JC-M-1: Vltava ČB-Č. Krumlov
END:VEVENT
END:VCALENDAR
