BEGIN:VCALENDAR
VERSION:2.0
PRODID:-//VK Černilov, z.s.91210//NONSGML kigkonsult.se iCalcreator 2.41.80//
CALSCALE:GREGORIAN
UID:31663563-3664-4331-b636-303236353363
BEGIN:VEVENT
UID:39336631-6435-4463-b366-346364653432
DTSTAMP:20260422T224335Z
DESCRIPTION:2/4 VK Černilov\, z.s. - VK Lhota pod Libčany\, z.s. 3:2 (-16\,
 20\,20\,-18\,11)
DTSTART;TZID=Europe/Berlin:20250908T170000
DTEND;TZID=Europe/Berlin:20250908T190000
LOCATION:Černilov 50343 Černilov
SUMMARY:H-Z-1: VK Černilov\, z.s.-VK Lhota pod Libčany\, z.s.
END:VEVENT
BEGIN:VEVENT
UID:36313033-3066-4335-b836-616234373130
DTSTAMP:20260422T224335Z
DESCRIPTION:4/10 VK Černilov\, z.s. - TJ Jiskra Nový Bydžov\, z.s. 3:1 (19\
 ,21\,-19\,6)
DTSTART;TZID=Europe/Berlin:20250915T170000
DTEND;TZID=Europe/Berlin:20250915T190000
LOCATION:Černilov 50343 Černilov
SUMMARY:H-Z-1: VK Černilov\, z.s.-TJ Jiskra Nový Bydžov\, z.s.
END:VEVENT
BEGIN:VEVENT
UID:31326330-3533-4335-b564-366632353831
DTSTAMP:20260422T224335Z
DESCRIPTION:6/16 VK Černilov\, z.s. - TJ Sokol Slezské Předměstí 3:0 (25\,5
 \,24)
DTSTART;TZID=Europe/Berlin:20250922T170000
DTEND;TZID=Europe/Berlin:20250922T190000
LOCATION:Černilov 50343 Černilov
SUMMARY:H-Z-1: VK Černilov\, z.s.-TJ Sokol Slezské Předměstí
END:VEVENT
BEGIN:VEVENT
UID:37313331-6237-4466-b834-323835653162
DTSTAMP:20260422T224335Z
DESCRIPTION:8/22 VK Černilov\, z.s. - Tělocvičná jednota Sokol Nechanice 3:
 0 (18\,20\,12)
DTSTART;TZID=Europe/Berlin:20250929T170000
DTEND;TZID=Europe/Berlin:20250929T190000
LOCATION:Černilov 50343 Černilov
SUMMARY:H-Z-1: VK Černilov\, z.s.-Tělocvičná jednota Sokol Nechanice
END:VEVENT
BEGIN:VEVENT
UID:39333165-6535-4231-a438-343065333932
DTSTAMP:20260422T224335Z
DESCRIPTION:10/28 VK Černilov\, z.s. - Tělovýchovná jednota Sokol Třebeš\, 
 z.s.
DTSTART;TZID=Europe/Berlin:20260504T173000
DTEND;TZID=Europe/Berlin:20260504T193000
LOCATION:Černilov 50343 Černilov
SUMMARY:H-Z-1: VK Černilov\, z.s.-Tělovýchovná jednota Sokol Třebeš\, z.s.
END:VEVENT
BEGIN:VEVENT
UID:37313363-3531-4431-b630-356465656530
DTSTAMP:20260422T224335Z
DESCRIPTION:12/34 VK Černilov\, z.s. - VK Lhota pod Libčany\, z.s.
DTSTART;TZID=Europe/Berlin:20260511T173000
DTEND;TZID=Europe/Berlin:20260511T193000
LOCATION:Černilov 50343 Černilov
SUMMARY:H-Z-1: VK Černilov\, z.s.-VK Lhota pod Libčany\, z.s.
END:VEVENT
BEGIN:VEVENT
UID:61643064-6339-4636-b838-633764353261
DTSTAMP:20260422T224335Z
DESCRIPTION:14/40 VK Černilov\, z.s. - TJ Jiskra Nový Bydžov\, z.s.
DTSTART;TZID=Europe/Berlin:20260518T173000
DTEND;TZID=Europe/Berlin:20260518T193000
LOCATION:Černilov 50343 Černilov
SUMMARY:H-Z-1: VK Černilov\, z.s.-TJ Jiskra Nový Bydžov\, z.s.
END:VEVENT
BEGIN:VEVENT
UID:36313564-3232-4932-b764-383062343730
DTSTAMP:20260422T224335Z
DESCRIPTION:16/46 VK Černilov\, z.s. - TJ Sokol Slezské Předměstí
DTSTART;TZID=Europe/Berlin:20260525T173000
DTEND;TZID=Europe/Berlin:20260525T193000
LOCATION:Černilov 50343 Černilov
SUMMARY:H-Z-1: VK Černilov\, z.s.-TJ Sokol Slezské Předměstí
END:VEVENT
BEGIN:VEVENT
UID:62626666-3561-4766-b736-663931353730
DTSTAMP:20260422T224335Z
DESCRIPTION:18/52 VK Černilov\, z.s. - Tělocvičná jednota Sokol Nechanice
DTSTART;TZID=Europe/Berlin:20260601T173000
DTEND;TZID=Europe/Berlin:20260601T193000
LOCATION:Černilov 50343 Černilov
SUMMARY:H-Z-1: VK Černilov\, z.s.-Tělocvičná jednota Sokol Nechanice
END:VEVENT
BEGIN:VEVENT
UID:34643166-3637-4830-b930-623463646663
DTSTAMP:20260422T224335Z
DESCRIPTION:20/58 VK Černilov\, z.s. - Tělovýchovná jednota Sokol Třebeš\, 
 z.s.
DTSTART;TZID=Europe/Berlin:20260608T173000
DTEND;TZID=Europe/Berlin:20260608T193000
LOCATION:Černilov 50343 Černilov
SUMMARY:H-Z-1: VK Černilov\, z.s.-Tělovýchovná jednota Sokol Třebeš\, z.s.
END:VEVENT
BEGIN:VEVENT
UID:63356536-6264-4839-b138-343035373733
DTSTAMP:20260422T224335Z
DESCRIPTION:1/1 TJ Sokol Slezské Předměstí - VK Černilov\, z.s. 0:3 (-27\,-
 13\,-13)
DTSTART;TZID=Europe/Berlin:20250903T170000
DTEND;TZID=Europe/Berlin:20250903T190000
LOCATION:Háječek Hradec Králové Slezské Předměstí Topolová 1153/2
SUMMARY:H-Z-1: TJ Sokol Slezské Předměstí-VK Černilov\, z.s.
END:VEVENT
BEGIN:VEVENT
UID:62666663-3561-4434-b065-663637636664
DTSTAMP:20260422T224335Z
DESCRIPTION:3/7 Tělocvičná jednota Sokol Nechanice - VK Černilov\, z.s. 3:1
  (21\,-25\,11\,16)\nDohoda družstev
DTSTART;TZID=Europe/Berlin:20250923T180000
DTEND;TZID=Europe/Berlin:20250923T200000
LOCATION:Tělocvičná jednota Sokol Nechanice\, Školská 348 Nechanice
SUMMARY:H-Z-1: Tělocvičná jednota Sokol Nechanice-VK Černilov\, z.s.
END:VEVENT
BEGIN:VEVENT
UID:63623732-3131-4132-a232-643365633031
DTSTAMP:20260422T224335Z
DESCRIPTION:5/13 Tělovýchovná jednota Sokol Třebeš\, z.s. - VK Černilov\, z
 .s. 0:3 (-9\,-21\,-24)
DTSTART;TZID=Europe/Berlin:20250917T170000
DTEND;TZID=Europe/Berlin:20250917T190000
LOCATION:Sportovní hala Třebeš\, Na Potoce 691 Hradec Králové - Třebeš
SUMMARY:H-Z-1: Tělovýchovná jednota Sokol Třebeš\, z.s.-VK Černilov\, z.s.
END:VEVENT
BEGIN:VEVENT
UID:30643264-3963-4137-b162-656164386531
DTSTAMP:20260422T224335Z
DESCRIPTION:7/19 VK Lhota pod Libčany\, z.s. - VK Černilov\, z.s. 3:2 (19\,
 -17\,-22\,26\,12)
DTSTART;TZID=Europe/Berlin:20250924T170000
DTEND;TZID=Europe/Berlin:20250924T190000
LOCATION:sportovní areál sokola Lhota pod Libčany Lhota pod Libčany 50
SUMMARY:H-Z-1: VK Lhota pod Libčany\, z.s.-VK Černilov\, z.s.
END:VEVENT
BEGIN:VEVENT
UID:62353561-3965-4639-a338-656137326164
DTSTAMP:20260422T224335Z
DESCRIPTION:9/25 TJ Jiskra Nový Bydžov\, z.s. - VK Černilov\, z.s. 0:3 (-14
 \,-23\,-13)
DTSTART;TZID=Europe/Berlin:20251009T180000
DTEND;TZID=Europe/Berlin:20251009T200000
LOCATION:M Revoluční\, Nový Bydžov
SUMMARY:H-Z-1: TJ Jiskra Nový Bydžov\, z.s.-VK Černilov\, z.s.
END:VEVENT
BEGIN:VEVENT
UID:32626138-3961-4739-b261-633932303265
DTSTAMP:20260422T224335Z
DESCRIPTION:11/31 TJ Sokol Slezské Předměstí - VK Černilov\, z.s.
DTSTART;TZID=Europe/Berlin:20260506T173000
DTEND;TZID=Europe/Berlin:20260506T193000
LOCATION:Háječek Hradec Králové Slezské Předměstí Topolová 1153/2
SUMMARY:H-Z-1: TJ Sokol Slezské Předměstí-VK Černilov\, z.s.
END:VEVENT
BEGIN:VEVENT
UID:38306539-6530-4639-a535-653437633538
DTSTAMP:20260422T224335Z
DESCRIPTION:13/37 Tělocvičná jednota Sokol Nechanice - VK Černilov\, z.s.
DTSTART;TZID=Europe/Berlin:20260513T173000
DTEND;TZID=Europe/Berlin:20260513T193000
LOCATION:Tělocvičná jednota Sokol Nechanice\, Školská 348 Nechanice
SUMMARY:H-Z-1: Tělocvičná jednota Sokol Nechanice-VK Černilov\, z.s.
END:VEVENT
BEGIN:VEVENT
UID:64376165-3631-4966-b066-623662333431
DTSTAMP:20260422T224335Z
DESCRIPTION:15/43 Tělovýchovná jednota Sokol Třebeš\, z.s. - VK Černilov\, 
 z.s.
DTSTART;TZID=Europe/Berlin:20260520T173000
DTEND;TZID=Europe/Berlin:20260520T193000
LOCATION:Sportovní hala Třebeš\, Na Potoce 691 Hradec Králové - Třebeš
SUMMARY:H-Z-1: Tělovýchovná jednota Sokol Třebeš\, z.s.-VK Černilov\, z.s.
END:VEVENT
BEGIN:VEVENT
UID:37363764-3733-4362-b238-643639336465
DTSTAMP:20260422T224335Z
DESCRIPTION:17/49 VK Lhota pod Libčany\, z.s. - VK Černilov\, z.s.
DTSTART;TZID=Europe/Berlin:20260527T173000
DTEND;TZID=Europe/Berlin:20260527T193000
LOCATION:sportovní areál sokola Lhota pod Libčany Lhota pod Libčany 50
SUMMARY:H-Z-1: VK Lhota pod Libčany\, z.s.-VK Černilov\, z.s.
END:VEVENT
BEGIN:VEVENT
UID:33386533-6462-4362-b231-333863663739
DTSTAMP:20260422T224335Z
DESCRIPTION:19/55 TJ Jiskra Nový Bydžov\, z.s. - VK Černilov\, z.s.
DTSTART;TZID=Europe/Berlin:20260603T173000
DTEND;TZID=Europe/Berlin:20260603T193000
LOCATION:M Revoluční\, Nový Bydžov
SUMMARY:H-Z-1: TJ Jiskra Nový Bydžov\, z.s.-VK Černilov\, z.s.
END:VEVENT
END:VCALENDAR
