BEGIN:VCALENDAR
VERSION:2.0
PRODID:-//SK TŘEBÍN91215//NONSGML kigkonsult.se iCalcreator 2.41.80//
CALSCALE:GREGORIAN
UID:38626164-3239-4237-a539-373438383266
BEGIN:VEVENT
UID:38653836-3163-4139-b635-343631346363
DTSTAMP:20260422T061816Z
DESCRIPTION:1/4 SK TŘEBÍN A - SK TŘEBÍN U22 1:3 (17\,-9\,-18\,-19)
DTSTART;TZID=Europe/Berlin:20251001T190000
DTEND;TZID=Europe/Berlin:20251001T210000
LOCATION:ZŠ Máj I\, M. Chlajna 1319 České Budějovice - České Budějovice 2
SUMMARY:JC-Z-1: SK TŘEBÍN A-SK TŘEBÍN U22
END:VEVENT
BEGIN:VEVENT
UID:61633230-3437-4863-a366-373839336235
DTSTAMP:20260422T061816Z
DESCRIPTION:3/13 SK TŘEBÍN A - VSK Slavia JU ČB B 1:3 (-17\,-20\,13\,-10)
DTSTART;TZID=Europe/Berlin:20251015T190000
DTEND;TZID=Europe/Berlin:20251015T210000
LOCATION:ZŠ Máj I\, M. Chlajna 1319 České Budějovice - České Budějovice 2
SUMMARY:JC-Z-1: SK TŘEBÍN A-VSK Slavia JU ČB B
END:VEVENT
BEGIN:VEVENT
UID:32626635-6362-4432-b666-326163336463
DTSTAMP:20260422T061816Z
DESCRIPTION:5/22 SK TŘEBÍN A - SK-V 41 Tábor 1:3 (21\,-10\,-14\,-15)
DTSTART;TZID=Europe/Berlin:20251029T190000
DTEND;TZID=Europe/Berlin:20251029T210000
LOCATION:ZŠ Máj I\, M. Chlajna 1319 České Budějovice - České Budějovice 2
SUMMARY:JC-Z-1: SK TŘEBÍN A-SK-V 41 Tábor
END:VEVENT
BEGIN:VEVENT
UID:33656563-6339-4365-a332-646331653432
DTSTAMP:20260422T061816Z
DESCRIPTION:8/40 SK TŘEBÍN A - SK Otava Písek 3:2 (21\,-15\,-24\,22\,16)
DTSTART;TZID=Europe/Berlin:20251119T190000
DTEND;TZID=Europe/Berlin:20251119T210000
LOCATION:ZŠ Máj I\, M. Chlajna 1319 České Budějovice - České Budějovice 2
SUMMARY:JC-Z-1: SK TŘEBÍN A-SK Otava Písek
END:VEVENT
BEGIN:VEVENT
UID:32663563-3731-4532-b365-633930363437
DTSTAMP:20260422T061816Z
DESCRIPTION:11/53 SK TŘEBÍN A - Jihovolej 0:3 (-19\,-18\,-13)
DTSTART;TZID=Europe/Berlin:20260128T190000
DTEND;TZID=Europe/Berlin:20260128T210000
LOCATION:ZŠ Máj I\, M. Chlajna 1319 České Budějovice - České Budějovice 2
SUMMARY:JC-Z-1: SK TŘEBÍN A-Jihovolej
END:VEVENT
BEGIN:VEVENT
UID:63666639-3664-4531-a565-303335343266
DTSTAMP:20260422T061816Z
DESCRIPTION:13/64 SK TŘEBÍN A - TJ Loko ČB 1:3 (22\,-19\,-23\,-19)
DTSTART;TZID=Europe/Berlin:20260218T190000
DTEND;TZID=Europe/Berlin:20260218T210000
LOCATION:ZŠ Máj I\, M. Chlajna 1319 České Budějovice - České Budějovice 2
SUMMARY:JC-Z-1: SK TŘEBÍN A-TJ Loko ČB
END:VEVENT
BEGIN:VEVENT
UID:33323230-3365-4862-b638-646339666338
DTSTAMP:20260422T061816Z
DESCRIPTION:15/75 SK TŘEBÍN A - TJ Slovan J. Hradec 0:3 (-15\,-14\,-20)
DTSTART;TZID=Europe/Berlin:20260304T190000
DTEND;TZID=Europe/Berlin:20260304T210000
LOCATION:ZŠ Máj I\, M. Chlajna 1319 České Budějovice - České Budějovice 2
SUMMARY:JC-Z-1: SK TŘEBÍN A-TJ Slovan J. Hradec
END:VEVENT
BEGIN:VEVENT
UID:65343538-3531-4762-b332-376233646331
DTSTAMP:20260422T061816Z
DESCRIPTION:18/87 SK TŘEBÍN A - VSK Slavia JU ČB A 2:3 (18\,20\,-15\,-16\,-
 8)
DTSTART;TZID=Europe/Berlin:20251126T190000
DTEND;TZID=Europe/Berlin:20251126T210000
LOCATION:ZŠ Máj I\, M. Chlajna 1319 České Budějovice - České Budějovice 2
SUMMARY:JC-Z-1: SK TŘEBÍN A-VSK Slavia JU ČB A
END:VEVENT
BEGIN:VEVENT
UID:66656132-3766-4633-b935-316634356638
DTSTAMP:20260422T061816Z
DESCRIPTION:2/8 Jihovolej - SK TŘEBÍN A 3:0 (14\,20\,13)
DTSTART;TZID=Europe/Berlin:20251006T202000
DTEND;TZID=Europe/Berlin:20251006T222000
LOCATION:ZŠ Oskara Nedbala České Budějovice\, O. Nedbala 882 České Budějovi
 ce - České Budějovice 2
SUMMARY:JC-Z-1: Jihovolej-SK TŘEBÍN A
END:VEVENT
BEGIN:VEVENT
UID:63373931-3366-4336-b337-323932346166
DTSTAMP:20260422T061816Z
DESCRIPTION:4/19 TJ Loko ČB - SK TŘEBÍN A 2:3 (12\,-18\,-13\,24\,-12)
DTSTART;TZID=Europe/Berlin:20251022T202000
DTEND;TZID=Europe/Berlin:20251022T222000
LOCATION:TĚLOVÝCHOVNÁ JEDNOTA LOKOMOTIVA z. s.\, Třebízského 1044 České Bud
 ějovice - České Budějovice 5
SUMMARY:JC-Z-1: TJ Loko ČB-SK TŘEBÍN A
END:VEVENT
BEGIN:VEVENT
UID:38316537-3531-4461-b438-316536663131
DTSTAMP:20260422T061816Z
DESCRIPTION:6/30 TJ Slovan J. Hradec - SK TŘEBÍN A 3:0 (18\,10\,23)
DTSTART;TZID=Europe/Berlin:20251106T201500
DTEND;TZID=Europe/Berlin:20251106T221500
LOCATION:Sportovní hala J. Hradec\, U Stadionu 1137 Jindřichův Hradec - Jin
 dřichův Hradec II
SUMMARY:JC-Z-1: TJ Slovan J. Hradec-SK TŘEBÍN A
END:VEVENT
BEGIN:VEVENT
UID:31303838-3239-4238-b865-633130326165
DTSTAMP:20260422T061816Z
DESCRIPTION:9/42 VSK Slavia JU ČB A - SK TŘEBÍN A 3:0 (22\,23\,13)
DTSTART;TZID=Europe/Berlin:20260323T192000
DTEND;TZID=Europe/Berlin:20260323T212000
LOCATION:Sportovní hala Jihočeské univerzity\, Na Sádkách 305 České Budějov
 ice - České Budějovice 2
SUMMARY:JC-Z-1: VSK Slavia JU ČB A-SK TŘEBÍN A
END:VEVENT
BEGIN:VEVENT
UID:35613161-6537-4230-b033-386265353336
DTSTAMP:20260422T061816Z
DESCRIPTION:10/49 SK TŘEBÍN U22 - SK TŘEBÍN A 0:3 (-21\,-22\,-15)
DTSTART;TZID=Europe/Berlin:20251203T193000
DTEND;TZID=Europe/Berlin:20251203T213000
LOCATION:ZŠ Máj I\, M. Chlajna 1319 České Budějovice - České Budějovice 2
SUMMARY:JC-Z-1: SK TŘEBÍN U22-SK TŘEBÍN A
END:VEVENT
BEGIN:VEVENT
UID:65313839-3235-4465-a564-333965383631
DTSTAMP:20260422T061816Z
DESCRIPTION:12/58 VSK Slavia JU ČB B - SK TŘEBÍN A 3:0 (19\,22\,17)
DTSTART;TZID=Europe/Berlin:20260202T191500
DTEND;TZID=Europe/Berlin:20260202T211500
LOCATION:Sportovní hala Jihočeské univerzity\, Na Sádkách 305 České Budějov
 ice - České Budějovice 2
SUMMARY:JC-Z-1: VSK Slavia JU ČB B-SK TŘEBÍN A
END:VEVENT
BEGIN:VEVENT
UID:65633937-6264-4234-b166-323737303330
DTSTAMP:20260422T061816Z
DESCRIPTION:14/67 SK-V 41 Tábor - SK TŘEBÍN A 3:0 (17\,15\,14)
DTSTART;TZID=Europe/Berlin:20260226T193000
DTEND;TZID=Europe/Berlin:20260226T213000
LOCATION:Sportovní hala Kvapilova\, Kvapilova 2419 Tábor
SUMMARY:JC-Z-1: SK-V 41 Tábor-SK TŘEBÍN A
END:VEVENT
BEGIN:VEVENT
UID:36333362-3132-4732-a230-653465616163
DTSTAMP:20260422T061816Z
DESCRIPTION:17/85 SK Otava Písek - SK TŘEBÍN A 2:3 (20\,-20\,-20\,18\,-14)
DTSTART;TZID=Europe/Berlin:20260316T193000
DTEND;TZID=Europe/Berlin:20260316T213000
LOCATION:Střední lesnická škola\, Lesnická 55 Písek - Václavské Předměstí
SUMMARY:JC-Z-1: SK Otava Písek-SK TŘEBÍN A
END:VEVENT
END:VCALENDAR
