BEGIN:VCALENDAR
VERSION:2.0
PRODID:-//Volejbal Praga91238//NONSGML kigkonsult.se iCalcreator 2.41.80//
CALSCALE:GREGORIAN
UID:62383163-3636-4465-a237-396333643435
BEGIN:VEVENT
UID:36363735-3731-4862-b430-393333383732
DTSTAMP:20260422T213347Z
DESCRIPTION:2/8 Volejbal Praga - ABC BraníkŠkoda Zdeněk
DTSTART;TZID=Europe/Berlin:20260609T180000
DTEND;TZID=Europe/Berlin:20260609T200000
LOCATION:Sportovní areál Volejbal Praga U Lidového domu 6\, 190 00 Praha 9\
 , Vysočany
SUMMARY:PP-M-1: Volejbal Praga-ABC Braník
END:VEVENT
BEGIN:VEVENT
UID:34326566-3234-4731-a536-316338376638
DTSTAMP:20260422T213347Z
DESCRIPTION:4/17 Volejbal Praga - Sokol SmíchovBuchar Tomáš
DTSTART;TZID=Europe/Berlin:20260514T180000
DTEND;TZID=Europe/Berlin:20260514T200000
LOCATION:Sportovní areál Volejbal Praga U Lidového domu 6\, 190 00 Praha 9\
 , Vysočany
SUMMARY:PP-M-1: Volejbal Praga-Sokol Smíchov
END:VEVENT
BEGIN:VEVENT
UID:64393766-3332-4662-a535-666464643764
DTSTAMP:20260422T213347Z
DESCRIPTION:7/35 Volejbal Praga - MFF B 3:0 (18\,21\,19)
DTSTART;TZID=Europe/Berlin:20250923T173000
DTEND;TZID=Europe/Berlin:20250923T193000
LOCATION:Sportovní areál Volejbal Praga U Lidového domu 6\, 190 00 Praha 9\
 , Vysočany
SUMMARY:PP-M-1: Volejbal Praga-MFF B
END:VEVENT
BEGIN:VEVENT
UID:31346162-6638-4766-a663-636537643531
DTSTAMP:20260422T213347Z
DESCRIPTION:9/44 Volejbal Praga - SK Meteor DPopadinec Břetislav
DTSTART;TZID=Europe/Berlin:20260507T180000
DTEND;TZID=Europe/Berlin:20260507T200000
LOCATION:Sportovní areál Volejbal Praga U Lidového domu 6\, 190 00 Praha 9\
 , Vysočany
SUMMARY:PP-M-1: Volejbal Praga-SK Meteor D
END:VEVENT
BEGIN:VEVENT
UID:62653463-3032-4462-a436-326437663937
DTSTAMP:20260422T213347Z
DESCRIPTION:10/48 Volejbal Praga - VK ŽIŽKA APopadinec Břetislav
DTSTART;TZID=Europe/Berlin:20260512T180000
DTEND;TZID=Europe/Berlin:20260512T200000
LOCATION:Sportovní areál Volejbal Praga U Lidového domu 6\, 190 00 Praha 9\
 , Vysočany
SUMMARY:PP-M-1: Volejbal Praga-VK ŽIŽKA A
END:VEVENT
BEGIN:VEVENT
UID:32303636-6661-4135-b338-343066393432
DTSTAMP:20260422T213347Z
DESCRIPTION:12/59 Volejbal Praga - Dobeška AMajstríková Radka
DTSTART;TZID=Europe/Berlin:20260521T180000
DTEND;TZID=Europe/Berlin:20260521T200000
LOCATION:Sportovní areál Volejbal Praga U Lidového domu 6\, 190 00 Praha 9\
 , Vysočany
SUMMARY:PP-M-1: Volejbal Praga-Dobeška A
END:VEVENT
BEGIN:VEVENT
UID:31393166-3230-4066-a634-383831316435
DTSTAMP:20260422T213347Z
DESCRIPTION:14/70 Volejbal Praga - Sokol Horní Počernice A
DTSTART;TZID=Europe/Berlin:20260602T180000
DTEND;TZID=Europe/Berlin:20260602T200000
LOCATION:Sportovní areál Volejbal Praga U Lidového domu 6\, 190 00 Praha 9\
 , Vysočany
SUMMARY:PP-M-1: Volejbal Praga-Sokol Horní Počernice A
END:VEVENT
BEGIN:VEVENT
UID:35333533-6234-4262-b033-313266353631
DTSTAMP:20260422T213347Z
DESCRIPTION:15/71 Volejbal Praga - Dobeška B
DTSTART;TZID=Europe/Berlin:20260604T180000
DTEND;TZID=Europe/Berlin:20260604T200000
LOCATION:Sportovní areál Volejbal Praga U Lidového domu 6\, 190 00 Praha 9\
 , Vysočany
SUMMARY:PP-M-1: Volejbal Praga-Dobeška B
END:VEVENT
BEGIN:VEVENT
UID:34393534-3537-4938-b936-333138316561
DTSTAMP:20260422T213347Z
DESCRIPTION:17/82 Volejbal Praga - Modřany A
DTSTART;TZID=Europe/Berlin:20260616T180000
DTEND;TZID=Europe/Berlin:20260616T200000
LOCATION:Sportovní areál Volejbal Praga U Lidového domu 6\, 190 00 Praha 9\
 , Vysočany
SUMMARY:PP-M-1: Volejbal Praga-Modřany A
END:VEVENT
BEGIN:VEVENT
UID:64333737-6132-4138-a266-363737303139
DTSTAMP:20260422T213347Z
DESCRIPTION:1/3 VK ŽIŽKA A - Volejbal Praga 0:3 (-21\,-22\,-24)
DTSTART;TZID=Europe/Berlin:20250902T173000
DTEND;TZID=Europe/Berlin:20250902T193000
LOCATION:Sportovní areál Volejbal Praga U Lidového domu 6\, 190 00 Praha 9\
 , Vysočany
SUMMARY:PP-M-1: VK ŽIŽKA A-Volejbal Praga
END:VEVENT
BEGIN:VEVENT
UID:35363838-6561-4431-a531-663161653238
DTSTAMP:20260422T213347Z
DESCRIPTION:3/14 Dobeška A - Volejbal Praga 0:3 (-15\,-18\,-18)
DTSTART;TZID=Europe/Berlin:20250909T173000
DTEND;TZID=Europe/Berlin:20250909T193000
LOCATION:Na Dobešce Nad Lomem 1777\, 14700 Praha 4
SUMMARY:PP-M-1: Dobeška A-Volejbal Praga
END:VEVENT
BEGIN:VEVENT
UID:32336263-3166-4732-b832-636230303136
DTSTAMP:20260422T213347Z
DESCRIPTION:5/25 Sokol Horní Počernice A - Volejbal Praga 0:3 (-17\,-15\,-1
 7)
DTSTART;TZID=Europe/Berlin:20250916T173000
DTEND;TZID=Europe/Berlin:20250916T193000
LOCATION:TJ Sokol Hor. Počernice (u sokolovny)\, Chvalkovická 2031/47\, Pra
 ha 9 - Hor. Počernice 19300
SUMMARY:PP-M-1: Sokol Horní Počernice A-Volejbal Praga
END:VEVENT
BEGIN:VEVENT
UID:38326564-6534-4564-a632-666331626162
DTSTAMP:20260422T213347Z
DESCRIPTION:6/26 Dobeška B - Volejbal PragaBlažek Miroslav
DTSTART;TZID=Europe/Berlin:20260526T180000
DTEND;TZID=Europe/Berlin:20260526T200000
LOCATION:areál Dobeška Nad Lomem 1777/1a\, 147 00 Praha 4
SUMMARY:PP-M-1: Dobeška B-Volejbal Praga
END:VEVENT
BEGIN:VEVENT
UID:66306638-3335-4036-a463-333134666366
DTSTAMP:20260422T213347Z
DESCRIPTION:8/37 Modřany A - Volejbal PragaZich Jiří
DTSTART;TZID=Europe/Berlin:20260505T180000
DTEND;TZID=Europe/Berlin:20260505T200000
LOCATION:TJ Sokol Modřany K Vltavě 410/23\, Praha 4 14300
SUMMARY:PP-M-1: Modřany A-Volejbal Praga
END:VEVENT
BEGIN:VEVENT
UID:35383930-6539-4866-b765-376632326532
DTSTAMP:20260422T213347Z
DESCRIPTION:11/53 ABC Braník - Volejbal PragaZich Jiří
DTSTART;TZID=Europe/Berlin:20260519T180000
DTEND;TZID=Europe/Berlin:20260519T200000
LOCATION:4 antukové hřiště\, Za Mlýnem 10\, Praha 4\, Braník 147 00
SUMMARY:PP-M-1: ABC Braník-Volejbal Praga
END:VEVENT
BEGIN:VEVENT
UID:65333066-6437-4465-a332-363439333531
DTSTAMP:20260422T213347Z
DESCRIPTION:13/62 Sokol Smíchov - Volejbal Praga
DTSTART;TZID=Europe/Berlin:20260528T180000
DTEND;TZID=Europe/Berlin:20260528T200000
LOCATION:Na květnici 700/1a\, 14000 Praha 4 - Nusle Na květnici 700/1a\, 14
 000 Praha 4 - Nusle
SUMMARY:PP-M-1: Sokol Smíchov-Volejbal Praga
END:VEVENT
BEGIN:VEVENT
UID:66356230-6237-4936-b139-613362346466
DTSTAMP:20260422T213347Z
DESCRIPTION:16/80 MFF B - Volejbal Praga
DTSTART;TZID=Europe/Berlin:20260611T180000
DTEND;TZID=Europe/Berlin:20260611T200000
LOCATION:Sportovní areál Albertov Albertov 2098\, 128 00 Praha 2\, Nové Měs
 to (Albertovské schody)
SUMMARY:PP-M-1: MFF B-Volejbal Praga
END:VEVENT
BEGIN:VEVENT
UID:33616130-6639-4436-a331-643032646462
DTSTAMP:20260422T213347Z
DESCRIPTION:18/89 SK Meteor D - Volejbal Praga
DTSTART;TZID=Europe/Berlin:20260618T180000
DTEND;TZID=Europe/Berlin:20260618T200000
LOCATION:Areál SK Meteor Praha U Meteoru 29/3\, 18000 Praha 8 - Libeň
SUMMARY:PP-M-1: SK Meteor D-Volejbal Praga
END:VEVENT
END:VCALENDAR
