BEGIN:VCALENDAR
VERSION:2.0
PRODID:-//TJ Sokol Žižkov I91250//NONSGML kigkonsult.se iCalcreator 2.41.80//
CALSCALE:GREGORIAN
UID:32633865-3539-4031-b337-386536383366
BEGIN:VEVENT
UID:36333135-3637-4633-a465-303664373638
DTSTAMP:20260421T182802Z
DESCRIPTION:1/3 TJ Sokol Žižkov I - ASTRA Zahradní Město 3:0 (15\,15\,21)
DTSTART;TZID=Europe/Berlin:20250901T173000
DTEND;TZID=Europe/Berlin:20250901T193000
LOCATION:hřiště areálu TJ Sokol Žižkov I park Vítkov\, Koněvova 19\, Praha 
 3 13000
SUMMARY:PP-M-2-A: TJ Sokol Žižkov I-ASTRA Zahradní Město
END:VEVENT
BEGIN:VEVENT
UID:39313966-3162-4535-a131-373961336466
DTSTAMP:20260421T182802Z
DESCRIPTION:3/12 TJ Sokol Žižkov I - TJ Orion A 3:1 (-22\,16\,16\,21)
DTSTART;TZID=Europe/Berlin:20250908T173000
DTEND;TZID=Europe/Berlin:20250908T193000
LOCATION:hřiště areálu TJ Sokol Žižkov I park Vítkov\, Koněvova 19\, Praha 
 3 13000
SUMMARY:PP-M-2-A: TJ Sokol Žižkov I-TJ Orion A
END:VEVENT
BEGIN:VEVENT
UID:38363063-3438-4664-b031-626438353861
DTSTAMP:20260421T182802Z
DESCRIPTION:5/21 TJ Sokol Žižkov I - VK PÁČA MANINY 1:3 (-15\,19\,-19\,-22)
DTSTART;TZID=Europe/Berlin:20250915T173000
DTEND;TZID=Europe/Berlin:20250915T193000
LOCATION:hřiště areálu TJ Sokol Žižkov I park Vítkov\, Koněvova 19\, Praha 
 3 13000
SUMMARY:PP-M-2-A: TJ Sokol Žižkov I-VK PÁČA MANINY
END:VEVENT
BEGIN:VEVENT
UID:65663438-3638-4638-b730-643539643738
DTSTAMP:20260421T182802Z
DESCRIPTION:6/30 TJ Sokol Žižkov I - Dobeška D 1:3 (19\,-20\,-14\,-25)
DTSTART;TZID=Europe/Berlin:20250917T173000
DTEND;TZID=Europe/Berlin:20250917T193000
LOCATION:hřiště areálu TJ Sokol Žižkov I park Vítkov\, Koněvova 19\, Praha 
 3 13000
SUMMARY:PP-M-2-A: TJ Sokol Žižkov I-Dobeška D
END:VEVENT
BEGIN:VEVENT
UID:64333639-3034-4538-b561-313939386636
DTSTAMP:20260421T182802Z
DESCRIPTION:8/39 TJ Sokol Žižkov I - TJ Sokol Krč BBuchar Tomáš
DTSTART;TZID=Europe/Berlin:20260504T180000
DTEND;TZID=Europe/Berlin:20260504T200000
LOCATION:hřiště areálu TJ Sokol Žižkov I park Vítkov\, Koněvova 19\, Praha 
 3 13000
SUMMARY:PP-M-2-A: TJ Sokol Žižkov I-TJ Sokol Krč B
END:VEVENT
BEGIN:VEVENT
UID:37363037-3437-4531-b232-616634353031
DTSTAMP:20260421T182802Z
DESCRIPTION:11/54 TJ Sokol Žižkov I - VSK MFF UK EVaněk Jan
DTSTART;TZID=Europe/Berlin:20260518T180000
DTEND;TZID=Europe/Berlin:20260518T200000
LOCATION:hřiště areálu TJ Sokol Žižkov I park Vítkov\, Koněvova 19\, Praha 
 3 13000
SUMMARY:PP-M-2-A: TJ Sokol Žižkov I-VSK MFF UK E
END:VEVENT
BEGIN:VEVENT
UID:35626264-6337-4535-b063-633536393564
DTSTAMP:20260421T182802Z
DESCRIPTION:13/65 TJ Sokol Žižkov I - SK Meteor A
DTSTART;TZID=Europe/Berlin:20260527T180000
DTEND;TZID=Europe/Berlin:20260527T200000
LOCATION:hřiště areálu TJ Sokol Žižkov I park Vítkov\, Koněvova 19\, Praha 
 3 13000
SUMMARY:PP-M-2-A: TJ Sokol Žižkov I-SK Meteor A
END:VEVENT
BEGIN:VEVENT
UID:37383466-3036-4261-a432-373361313562
DTSTAMP:20260421T182802Z
DESCRIPTION:16/77 TJ Sokol Žižkov I - Radotín A
DTSTART;TZID=Europe/Berlin:20260610T180000
DTEND;TZID=Europe/Berlin:20260610T200000
LOCATION:hřiště areálu TJ Sokol Žižkov I park Vítkov\, Koněvova 19\, Praha 
 3 13000
SUMMARY:PP-M-2-A: TJ Sokol Žižkov I-Radotín A
END:VEVENT
BEGIN:VEVENT
UID:37663135-3239-4263-b338-303061333665
DTSTAMP:20260421T182802Z
DESCRIPTION:18/88 TJ Sokol Žižkov I - SK Meteor B
DTSTART;TZID=Europe/Berlin:20260617T180000
DTEND;TZID=Europe/Berlin:20260617T200000
LOCATION:hřiště areálu TJ Sokol Žižkov I park Vítkov\, Koněvova 19\, Praha 
 3 13000
SUMMARY:PP-M-2-A: TJ Sokol Žižkov I-SK Meteor B
END:VEVENT
BEGIN:VEVENT
UID:32323063-6365-4162-a631-353263656533
DTSTAMP:20260421T182802Z
DESCRIPTION:2/9 VSK MFF UK E - TJ Sokol Žižkov I 2:3 (18\,-19\,-18\,23\,-12
 )
DTSTART;TZID=Europe/Berlin:20250903T173000
DTEND;TZID=Europe/Berlin:20250903T193000
LOCATION:Hřiště VSK MFF UK na Albertově Albertov\, Praha 2 128 00
SUMMARY:PP-M-2-A: VSK MFF UK E-TJ Sokol Žižkov I
END:VEVENT
BEGIN:VEVENT
UID:32633864-3733-4430-b730-633831653435
DTSTAMP:20260421T182802Z
DESCRIPTION:4/20 SK Meteor A - TJ Sokol Žižkov ITkáč Arpád
DTSTART;TZID=Europe/Berlin:20260429T180000
DTEND;TZID=Europe/Berlin:20260429T200000
LOCATION:Areál SK Meteor Praha U Meteoru 29/3\, 18000 Praha 8 - Libeň
SUMMARY:PP-M-2-A: SK Meteor A-TJ Sokol Žižkov I
END:VEVENT
BEGIN:VEVENT
UID:62623932-6135-4837-a633-306463386661
DTSTAMP:20260421T182802Z
DESCRIPTION:7/32 Radotín A - TJ Sokol Žižkov I 0:3 (-27\,-15\,-22)
DTSTART;TZID=Europe/Berlin:20250922T173000
DTEND;TZID=Europe/Berlin:20250922T193000
LOCATION:Sportovní areál Radotín K Lázním 1693/6a\, 15300 Praha 5 - Radotín
SUMMARY:PP-M-2-A: Radotín A-TJ Sokol Žižkov I
END:VEVENT
BEGIN:VEVENT
UID:36343662-6536-4037-b733-666537663435
DTSTAMP:20260421T182802Z
DESCRIPTION:9/43 SK Meteor B - TJ Sokol Žižkov IŠedá Vladana
DTSTART;TZID=Europe/Berlin:20260506T180000
DTEND;TZID=Europe/Berlin:20260506T200000
LOCATION:Areál SK Meteor Praha U Meteoru 29/3\, 18000 Praha 8 - Libeň
SUMMARY:PP-M-2-A: SK Meteor B-TJ Sokol Žižkov I
END:VEVENT
BEGIN:VEVENT
UID:64616532-3539-4435-a337-623436393936
DTSTAMP:20260421T182802Z
DESCRIPTION:10/48 ASTRA Zahradní Město - TJ Sokol Žižkov IRychlík Dušan
DTSTART;TZID=Europe/Berlin:20260511T180000
DTEND;TZID=Europe/Berlin:20260511T200000
LOCATION:Areál TJ Astra Zahradní město V Korytech 157/27 10600\, Praha 10
SUMMARY:PP-M-2-A: ASTRA Zahradní Město-TJ Sokol Žižkov I
END:VEVENT
BEGIN:VEVENT
UID:65656133-6531-4037-b638-396430636463
DTSTAMP:20260421T182802Z
DESCRIPTION:12/57 TJ Orion A - TJ Sokol Žižkov IMatoušek Petr
DTSTART;TZID=Europe/Berlin:20260520T180000
DTEND;TZID=Europe/Berlin:20260520T200000
LOCATION:hřiště TJ ABC Braník Za mlýnem 1778/10\, 147 00 Praha 4
SUMMARY:PP-M-2-A: TJ Orion A-TJ Sokol Žižkov I
END:VEVENT
BEGIN:VEVENT
UID:35663939-6130-4032-b834-343739626439
DTSTAMP:20260421T182802Z
DESCRIPTION:14/66 VK PÁČA MANINY - TJ Sokol Žižkov I
DTSTART;TZID=Europe/Berlin:20260601T180000
DTEND;TZID=Europe/Berlin:20260601T200000
LOCATION:Areál SK Meteor Praha U Meteoru 29/3\, 18000 Praha 8 - Libeň
SUMMARY:PP-M-2-A: VK PÁČA MANINY-TJ Sokol Žižkov I
END:VEVENT
BEGIN:VEVENT
UID:66663636-3665-4265-b763-346430333033
DTSTAMP:20260421T182802Z
DESCRIPTION:15/75 Dobeška D - TJ Sokol Žižkov I
DTSTART;TZID=Europe/Berlin:20260603T180000
DTEND;TZID=Europe/Berlin:20260603T200000
LOCATION:TJ Praha Podolí - Dobeška Nad lomem 1777/1A\, Praha 14700
SUMMARY:PP-M-2-A: Dobeška D-TJ Sokol Žižkov I
END:VEVENT
BEGIN:VEVENT
UID:61363365-3265-4339-b034-353364333833
DTSTAMP:20260421T182802Z
DESCRIPTION:17/84 TJ Sokol Krč B - TJ Sokol Žižkov I
DTSTART;TZID=Europe/Berlin:20260615T180000
DTEND;TZID=Europe/Berlin:20260615T200000
LOCATION:Tělocvičná Jednota Sokol Praha - Krč Za Obecním úřadem 354/7\, 140
  00 Praha 4 - Krč
SUMMARY:PP-M-2-A: TJ Sokol Krč B-TJ Sokol Žižkov I
END:VEVENT
END:VCALENDAR
