BEGIN:VCALENDAR
VERSION:2.0
PRODID:-//Slavoj Hloubětín91269//NONSGML kigkonsult.se iCalcreator 2.41.80//
CALSCALE:GREGORIAN
UID:32643631-3739-4135-b466-383937393265
BEGIN:VEVENT
UID:30343037-3462-4136-a466-623333333566
DTSTAMP:20260422T001248Z
DESCRIPTION:2/6 Slavoj Hloubětín - VSK MFF UK C 0:3 (-12\,-10\,-18)
DTSTART;TZID=Europe/Berlin:20250903T173000
DTEND;TZID=Europe/Berlin:20250903T193000
LOCATION:TJ Spoje TJ Spoje Praha\,Na Balkáně 812\,Praha 3\, 130 00
SUMMARY:PP-M-3-A: Slavoj Hloubětín-VSK MFF UK C
END:VEVENT
BEGIN:VEVENT
UID:36356262-3832-4162-b533-386635666562
DTSTAMP:20260422T001248Z
DESCRIPTION:4/16 Slavoj Hloubětín - TJ Slavoj PrahaGill Michal
DTSTART;TZID=Europe/Berlin:20260513T180000
DTEND;TZID=Europe/Berlin:20260513T200000
LOCATION:TJ Spoje TJ Spoje Praha\,Na Balkáně 812\,Praha 3\, 130 00
SUMMARY:PP-M-3-A: Slavoj Hloubětín-TJ Slavoj Praha
END:VEVENT
BEGIN:VEVENT
UID:65333465-3337-4463-a331-353763333865
DTSTAMP:20260422T001248Z
DESCRIPTION:6/26 Slavoj Hloubětín - Sokol Nové Vysočany 0:3 (-18\,-15\,-9)
DTSTART;TZID=Europe/Berlin:20250917T173000
DTEND;TZID=Europe/Berlin:20250917T193000
LOCATION:TJ Spoje TJ Spoje Praha\,Na Balkáně 812\,Praha 3\, 130 00
SUMMARY:PP-M-3-A: Slavoj Hloubětín-Sokol Nové Vysočany
END:VEVENT
BEGIN:VEVENT
UID:38336566-3861-4637-a533-373935613066
DTSTAMP:20260422T001248Z
DESCRIPTION:8/36 Slavoj Hloubětín - Medvědi Praha 0:3 (-17\,-17\,-18)\n!změ
 na kvůli střídání družstev na hřišti!
DTSTART;TZID=Europe/Berlin:20250924T173000
DTEND;TZID=Europe/Berlin:20250924T193000
LOCATION:TJ Spoje TJ Spoje Praha\,Na Balkáně 812\,Praha 3\, 130 00
SUMMARY:PP-M-3-A: Slavoj Hloubětín-Medvědi Praha
END:VEVENT
BEGIN:VEVENT
UID:30333739-6633-4666-b836-366337613266
DTSTAMP:20260422T001248Z
DESCRIPTION:10/46 Slavoj Hloubětín - VSK MFF UK G\n!změna kvůli střídání dr
 užstev na hřišti!
DTSTART;TZID=Europe/Berlin:20260624T180000
DTEND;TZID=Europe/Berlin:20260624T200000
LOCATION:TJ Spoje TJ Spoje Praha\,Na Balkáně 812\,Praha 3\, 130 00
SUMMARY:PP-M-3-A: Slavoj Hloubětín-VSK MFF UK G
END:VEVENT
BEGIN:VEVENT
UID:36326665-6662-4333-a530-626133613131
DTSTAMP:20260422T001248Z
DESCRIPTION:12/56 Slavoj Hloubětín - TJ Letov LetňanyBlažek Miroslav
DTSTART;TZID=Europe/Berlin:20260520T180000
DTEND;TZID=Europe/Berlin:20260520T200000
LOCATION:TJ Spoje TJ Spoje Praha\,Na Balkáně 812\,Praha 3\, 130 00
SUMMARY:PP-M-3-A: Slavoj Hloubětín-TJ Letov Letňany
END:VEVENT
BEGIN:VEVENT
UID:39653532-3334-4465-b336-303132626365
DTSTAMP:20260422T001248Z
DESCRIPTION:14/66 Slavoj Hloubětín - TJ DuklaSyrový Michael\n!změna kvůli s
 třídání družstev na hřišti!
DTSTART;TZID=Europe/Berlin:20260513T180000
DTEND;TZID=Europe/Berlin:20260513T200000
LOCATION:TJ Spoje TJ Spoje Praha\,Na Balkáně 812\,Praha 3\, 130 00
SUMMARY:PP-M-3-A: Slavoj Hloubětín-TJ Dukla
END:VEVENT
BEGIN:VEVENT
UID:30373034-6639-4135-a131-306466396332
DTSTAMP:20260422T001248Z
DESCRIPTION:16/76 Slavoj Hloubětín - VSK MFF UK F
DTSTART;TZID=Europe/Berlin:20260610T180000
DTEND;TZID=Europe/Berlin:20260610T200000
LOCATION:TJ Spoje TJ Spoje Praha\,Na Balkáně 812\,Praha 3\, 130 00
SUMMARY:PP-M-3-A: Slavoj Hloubětín-VSK MFF UK F
END:VEVENT
BEGIN:VEVENT
UID:37616139-6336-4935-a362-346634613734
DTSTAMP:20260422T001248Z
DESCRIPTION:18/86 Slavoj Hloubětín - TJ Břevnov
DTSTART;TZID=Europe/Berlin:20260617T180000
DTEND;TZID=Europe/Berlin:20260617T200000
LOCATION:TJ Spoje TJ Spoje Praha\,Na Balkáně 812\,Praha 3\, 130 00
SUMMARY:PP-M-3-A: Slavoj Hloubětín-TJ Břevnov
END:VEVENT
BEGIN:VEVENT
UID:34353065-3663-4461-a336-366262373036
DTSTAMP:20260422T001248Z
DESCRIPTION:1/1 VSK MFF UK G - Slavoj Hloubětín 3:1 (23\,9\,-14\,16)
DTSTART;TZID=Europe/Berlin:20250901T173000
DTEND;TZID=Europe/Berlin:20250901T193000
LOCATION:sportovní areál Albertov Albertov 2098\, 12800 Praha 2\, Nové Měst
 o (Albertovské schody)
SUMMARY:PP-M-3-A: VSK MFF UK G-Slavoj Hloubětín
END:VEVENT
BEGIN:VEVENT
UID:39643733-6264-4366-b964-336633366530
DTSTAMP:20260422T001248Z
DESCRIPTION:3/11 TJ Letov Letňany - Slavoj Hloubětín 3:0 (18\,18\,12)
DTSTART;TZID=Europe/Berlin:20250908T173000
DTEND;TZID=Europe/Berlin:20250908T193000
LOCATION:TJ Kyje Hamerská 1307\, Praha 9\, 19800
SUMMARY:PP-M-3-A: TJ Letov Letňany-Slavoj Hloubětín
END:VEVENT
BEGIN:VEVENT
UID:39623139-3833-4233-b831-303732356534
DTSTAMP:20260422T001248Z
DESCRIPTION:5/21 TJ Dukla - Slavoj Hloubětín 3:1 (13\,15\,-19\,17)
DTSTART;TZID=Europe/Berlin:20250915T173000
DTEND;TZID=Europe/Berlin:20250915T193000
LOCATION:Hřiště v areálu Vojenského objektu Ruzyně Pilotů 217/12\, Praha 6 
 - Ruzyně 16100
SUMMARY:PP-M-3-A: TJ Dukla-Slavoj Hloubětín
END:VEVENT
BEGIN:VEVENT
UID:61353136-3264-4762-a233-613830326233
DTSTAMP:20260422T001248Z
DESCRIPTION:7/31 VSK MFF UK F - Slavoj Hloubětín 3:1 (6\,19\,-26\,15)
DTSTART;TZID=Europe/Berlin:20250922T173000
DTEND;TZID=Europe/Berlin:20250922T193000
LOCATION:sportovní areál Albertov\, Albertov 2098\, 128 00\, Albertovské sc
 hody
SUMMARY:PP-M-3-A: VSK MFF UK F-Slavoj Hloubětín
END:VEVENT
BEGIN:VEVENT
UID:64646332-6439-4135-b435-386634316639
DTSTAMP:20260422T001248Z
DESCRIPTION:9/41 TJ Břevnov - Slavoj HloubětínMlejnecký František
DTSTART;TZID=Europe/Berlin:20260506T180000
DTEND;TZID=Europe/Berlin:20260506T200000
LOCATION:Meteor Praha Meteor Praha U Meteoru 29/3\, Praha 8\, 18000
SUMMARY:PP-M-3-A: TJ Břevnov-Slavoj Hloubětín
END:VEVENT
BEGIN:VEVENT
UID:38646662-6362-4663-a138-343365326534
DTSTAMP:20260422T001248Z
DESCRIPTION:11/51 VSK MFF UK C - Slavoj HloubětínKristl Vlastimil
DTSTART;TZID=Europe/Berlin:20260518T180000
DTEND;TZID=Europe/Berlin:20260518T200000
LOCATION:Hrist arealu VSK MFF UK Na Albertove (Albertov\, Praha 2) Albertov
  2098/9a\, 128 00 Praha
SUMMARY:PP-M-3-A: VSK MFF UK C-Slavoj Hloubětín
END:VEVENT
BEGIN:VEVENT
UID:30383632-6664-4436-b062-373339666332
DTSTAMP:20260422T001248Z
DESCRIPTION:13/61 TJ Slavoj Praha - Slavoj Hloubětín
DTSTART;TZID=Europe/Berlin:20260527T180000
DTEND;TZID=Europe/Berlin:20260527T200000
LOCATION:kurty TJ Praga U Lidového domu 6\, Praha 9 19000
SUMMARY:PP-M-3-A: TJ Slavoj Praha-Slavoj Hloubětín
END:VEVENT
BEGIN:VEVENT
UID:37386233-3435-4731-b364-626663633731
DTSTAMP:20260422T001248Z
DESCRIPTION:15/71 Sokol Nové Vysočany - Slavoj Hloubětín
DTSTART;TZID=Europe/Berlin:20260603T180000
DTEND;TZID=Europe/Berlin:20260603T200000
LOCATION:Volejbal Praga U Lidového domu 11\, 190 00 Praha 9
SUMMARY:PP-M-3-A: Sokol Nové Vysočany-Slavoj Hloubětín
END:VEVENT
BEGIN:VEVENT
UID:36653630-6161-4065-b436-656465303163
DTSTAMP:20260422T001248Z
DESCRIPTION:17/81 Medvědi Praha - Slavoj Hloubětín
DTSTART;TZID=Europe/Berlin:20260615T180000
DTEND;TZID=Europe/Berlin:20260615T200000
LOCATION:Sportovní areál Volejbal Praga U Lidového domu 6\, 190 00 Praha 9\
 , Vysočany
SUMMARY:PP-M-3-A: Medvědi Praha-Slavoj Hloubětín
END:VEVENT
END:VCALENDAR
