BEGIN:VCALENDAR
VERSION:2.0
PRODID:-//TJ Sokol Praha - Krč A91272//NONSGML kigkonsult.se iCalcreator 2.41.80//
CALSCALE:GREGORIAN
UID:65613662-3666-4436-b035-346237303434
BEGIN:VEVENT
UID:30346335-6338-4366-a362-343730636432
DTSTAMP:20260422T224336Z
DESCRIPTION:1/1 TJ Sokol Krč A - Radotín B 3:0 (22\,20\,15)
DTSTART;TZID=Europe/Berlin:20250901T173000
DTEND;TZID=Europe/Berlin:20250901T193000
LOCATION:Tělocvičná Jednota Sokol Praha - Krč Za Obecním úřadem 354/7\, Pra
 ha 4 - Krč\, 140 00
SUMMARY:PP-M-3-B: TJ Sokol Krč A-Radotín B
END:VEVENT
BEGIN:VEVENT
UID:37393037-6131-4331-a338-383838616666
DTSTAMP:20260422T224336Z
DESCRIPTION:2/10 TJ Sokol Krč A - TJ Sokol Vršovice 3:1 (-17\,16\,18\,12)
DTSTART;TZID=Europe/Berlin:20250903T173000
DTEND;TZID=Europe/Berlin:20250903T193000
LOCATION:Tělocvičná Jednota Sokol Praha - Krč Za Obecním úřadem 354/7\, Pra
 ha 4 - Krč\, 140 00
SUMMARY:PP-M-3-B: TJ Sokol Krč A-TJ Sokol Vršovice
END:VEVENT
BEGIN:VEVENT
UID:37363162-3030-4231-a166-653161303833
DTSTAMP:20260422T224336Z
DESCRIPTION:4/19 TJ Sokol Krč A - Sokol Chodov A 3:0 (22\,18\,9)
DTSTART;TZID=Europe/Berlin:20250924T173000
DTEND;TZID=Europe/Berlin:20250924T193000
LOCATION:Tělocvičná Jednota Sokol Praha - Krč Za Obecním úřadem 354/7\, Pra
 ha 4 - Krč\, 140 00
SUMMARY:PP-M-3-B: TJ Sokol Krč A-Sokol Chodov A
END:VEVENT
BEGIN:VEVENT
UID:31383763-6131-4330-b236-653462313365
DTSTAMP:20260422T224336Z
DESCRIPTION:6/28 TJ Sokol Krč A - TJ ABC Braník B 1:3 (16\,-20\,-18\,-17)
DTSTART;TZID=Europe/Berlin:20250917T173000
DTEND;TZID=Europe/Berlin:20250917T193000
LOCATION:Tělocvičná Jednota Sokol Praha - Krč Za Obecním úřadem 354/7\, Pra
 ha 4 - Krč\, 140 00
SUMMARY:PP-M-3-B: TJ Sokol Krč A-TJ ABC Braník B
END:VEVENT
BEGIN:VEVENT
UID:35313036-6635-4565-a536-353661366433
DTSTAMP:20260422T224336Z
DESCRIPTION:8/37 TJ Sokol Krč A - TJ Malešice ACucová Radka
DTSTART;TZID=Europe/Berlin:20260504T180000
DTEND;TZID=Europe/Berlin:20260504T200000
LOCATION:Tělocvičná Jednota Sokol Praha - Krč Za Obecním úřadem 354/7\, Pra
 ha 4 - Krč\, 140 00
SUMMARY:PP-M-3-B: TJ Sokol Krč A-TJ Malešice A
END:VEVENT
BEGIN:VEVENT
UID:66643236-3334-4433-b263-623663623863
DTSTAMP:20260422T224336Z
DESCRIPTION:12/57 TJ Sokol Krč A - ASTRA Zahradní MěstoPechá Alena
DTSTART;TZID=Europe/Berlin:20260520T180000
DTEND;TZID=Europe/Berlin:20260520T200000
LOCATION:Tělocvičná Jednota Sokol Praha - Krč Za Obecním úřadem 354/7\, Pra
 ha 4 - Krč\, 140 00
SUMMARY:PP-M-3-B: TJ Sokol Krč A-ASTRA Zahradní Město
END:VEVENT
BEGIN:VEVENT
UID:32633965-3930-4664-a333-626462393966
DTSTAMP:20260422T224336Z
DESCRIPTION:14/68 TJ Sokol Krč A - TJ Sokol Modřany C
DTSTART;TZID=Europe/Berlin:20260601T180000
DTEND;TZID=Europe/Berlin:20260601T200000
LOCATION:Tělocvičná Jednota Sokol Praha - Krč Za Obecním úřadem 354/7\, Pra
 ha 4 - Krč\, 140 00
SUMMARY:PP-M-3-B: TJ Sokol Krč A-TJ Sokol Modřany C
END:VEVENT
BEGIN:VEVENT
UID:37323238-3333-4630-b564-313835366662
DTSTAMP:20260422T224336Z
DESCRIPTION:16/79 TJ Sokol Krč A - TJ Sokol Spořilov
DTSTART;TZID=Europe/Berlin:20260610T180000
DTEND;TZID=Europe/Berlin:20260610T200000
LOCATION:Tělocvičná Jednota Sokol Praha - Krč Za Obecním úřadem 354/7\, Pra
 ha 4 - Krč\, 140 00
SUMMARY:PP-M-3-B: TJ Sokol Krč A-TJ Sokol Spořilov
END:VEVENT
BEGIN:VEVENT
UID:33396539-3865-4132-b536-393964643132
DTSTAMP:20260422T224336Z
DESCRIPTION:18/90 TJ Sokol Krč A - SC K3 B
DTSTART;TZID=Europe/Berlin:20260617T180000
DTEND;TZID=Europe/Berlin:20260617T200000
LOCATION:Tělocvičná Jednota Sokol Praha - Krč Za Obecním úřadem 354/7\, Pra
 ha 4 - Krč\, 140 00
SUMMARY:PP-M-3-B: TJ Sokol Krč A-SC K3 B
END:VEVENT
BEGIN:VEVENT
UID:35333161-3964-4836-a464-366331666464
DTSTAMP:20260422T224336Z
DESCRIPTION:3/12 ASTRA Zahradní Město - TJ Sokol Krč A 3:1 (-22\,20\,16\,19
 )
DTSTART;TZID=Europe/Berlin:20250908T173000
DTEND;TZID=Europe/Berlin:20250908T193000
LOCATION:areál TJ Astra Zahradní Město V Korytech 157/27 10600\, Praha 10
SUMMARY:PP-M-3-B: ASTRA Zahradní Město-TJ Sokol Krč A
END:VEVENT
BEGIN:VEVENT
UID:36643862-6636-4939-a430-383034376331
DTSTAMP:20260422T224336Z
DESCRIPTION:5/23 TJ Sokol Modřany C - TJ Sokol Krč A 2:3 (17\,18\,-21\,-22\
 ,-13)
DTSTART;TZID=Europe/Berlin:20250915T173000
DTEND;TZID=Europe/Berlin:20250915T193000
LOCATION:falcon arena K Vltavě 410/23\, 14300
SUMMARY:PP-M-3-B: TJ Sokol Modřany C-TJ Sokol Krč A
END:VEVENT
BEGIN:VEVENT
UID:64303936-6339-4266-b535-366265663532
DTSTAMP:20260422T224336Z
DESCRIPTION:7/34 TJ Sokol Spořilov - TJ Sokol Krč A 1:3 (-22\,22\,-9\,-14)
DTSTART;TZID=Europe/Berlin:20250922T173000
DTEND;TZID=Europe/Berlin:20250922T193000
LOCATION:Sportovní areál Volejbal Praga U Lidového domu 6\, 190 00 Praha 9\
 , Vysočany
SUMMARY:PP-M-3-B: TJ Sokol Spořilov-TJ Sokol Krč A
END:VEVENT
BEGIN:VEVENT
UID:64343462-6535-4062-b339-633537636666
DTSTAMP:20260422T224336Z
DESCRIPTION:9/45 SC K3 B - TJ Sokol Krč AMatoušek Petr
DTSTART;TZID=Europe/Berlin:20260506T180000
DTEND;TZID=Europe/Berlin:20260506T200000
LOCATION:Hřiště areálu TJ Sokol Michle Pod Starkou\, Praha 4 – Michle 14000
SUMMARY:PP-M-3-B: SC K3 B-TJ Sokol Krč A
END:VEVENT
BEGIN:VEVENT
UID:64623239-3933-4661-a265-356666643665
DTSTAMP:20260422T224336Z
DESCRIPTION:10/46 Radotín B - TJ Sokol Krč ASehnal Ivan
DTSTART;TZID=Europe/Berlin:20260511T180000
DTEND;TZID=Europe/Berlin:20260511T200000
LOCATION:Sportovní areál Radotín K Lázním 1693/6a\, Praha 5 - Radotín\, 153
 00
SUMMARY:PP-M-3-B: Radotín B-TJ Sokol Krč A
END:VEVENT
BEGIN:VEVENT
UID:31353364-3837-4965-b961-383130383966
DTSTAMP:20260422T224336Z
DESCRIPTION:11/55 TJ Sokol Vršovice - TJ Sokol Krč ASyrový Michael
DTSTART;TZID=Europe/Berlin:20260518T180000
DTEND;TZID=Europe/Berlin:20260518T200000
LOCATION:Sokolovna Vršovice - kurt Sportovní 3\, Praha 10\, 10100
SUMMARY:PP-M-3-B: TJ Sokol Vršovice-TJ Sokol Krč A
END:VEVENT
BEGIN:VEVENT
UID:63393931-3162-4164-b635-383637333734
DTSTAMP:20260422T224336Z
DESCRIPTION:13/64 Sokol Chodov A - TJ Sokol Krč A
DTSTART;TZID=Europe/Berlin:20260527T180000
DTEND;TZID=Europe/Berlin:20260527T200000
LOCATION:Hřiště Sokola Chodov (u Sokolovny) Starochodovská 521/53\, 149 00 
 Praha 11-Chodov
SUMMARY:PP-M-3-B: Sokol Chodov A-TJ Sokol Krč A
END:VEVENT
BEGIN:VEVENT
UID:39653932-6163-4432-b663-306139383039
DTSTAMP:20260422T224336Z
DESCRIPTION:15/73 TJ ABC Braník B - TJ Sokol Krč A
DTSTART;TZID=Europe/Berlin:20260603T180000
DTEND;TZID=Europe/Berlin:20260603T200000
LOCATION:hřiště TJ ABC Braník Za Mlýnem 10 Praha 4 - 14700
SUMMARY:PP-M-3-B: TJ ABC Braník B-TJ Sokol Krč A
END:VEVENT
BEGIN:VEVENT
UID:64636239-3535-4537-a236-303637663230
DTSTAMP:20260422T224336Z
DESCRIPTION:17/82 TJ Malešice A - TJ Sokol Krč A
DTSTART;TZID=Europe/Berlin:20260615T180000
DTEND;TZID=Europe/Berlin:20260615T200000
LOCATION:hřiště Rektorská 149/9\, 108 00 Praha 10-Malešice Rektorská 149/9\
 , 108 00 Praha 10-Malešice
SUMMARY:PP-M-3-B: TJ Malešice A-TJ Sokol Krč A
END:VEVENT
END:VCALENDAR
