BEGIN:VCALENDAR
VERSION:2.0
PRODID:-//Radotín B91276//NONSGML kigkonsult.se iCalcreator 2.41.80//
CALSCALE:GREGORIAN
UID:33393732-6436-4636-a437-393133303464
BEGIN:VEVENT
UID:61376138-3333-4634-b630-666463343532
DTSTAMP:20260422T231838Z
DESCRIPTION:2/6 Radotín B - TJ ABC Braník B 0:3 (-13\,-10\,-21)
DTSTART;TZID=Europe/Berlin:20250903T173000
DTEND;TZID=Europe/Berlin:20250903T193000
LOCATION:Sportovní areál Radotín K Lázním 1693/6a\, Praha 5 - Radotín\, 153
 00
SUMMARY:PP-M-3-B: Radotín B-TJ ABC Braník B
END:VEVENT
BEGIN:VEVENT
UID:38373335-6263-4936-b161-366138633162
DTSTAMP:20260422T231838Z
DESCRIPTION:4/16 Radotín B - TJ Sokol SpořilovZich Jiří
DTSTART;TZID=Europe/Berlin:20260513T180000
DTEND;TZID=Europe/Berlin:20260513T200000
LOCATION:Sportovní areál Radotín K Lázním 1693/6a\, Praha 5 - Radotín\, 153
 00
SUMMARY:PP-M-3-B: Radotín B-TJ Sokol Spořilov
END:VEVENT
BEGIN:VEVENT
UID:64646564-6531-4935-a331-656565313236
DTSTAMP:20260422T231838Z
DESCRIPTION:6/26 Radotín B - TJ Malešice A 1:3 (18\,-24\,-24\,-12)
DTSTART;TZID=Europe/Berlin:20250917T173000
DTEND;TZID=Europe/Berlin:20250917T193000
LOCATION:Sportovní areál Radotín K Lázním 1693/6a\, Praha 5 - Radotín\, 153
 00
SUMMARY:PP-M-3-B: Radotín B-TJ Malešice A
END:VEVENT
BEGIN:VEVENT
UID:37333665-6330-4530-b031-383031623461
DTSTAMP:20260422T231838Z
DESCRIPTION:8/36 Radotín B - SC K3 BSehnal Ivan
DTSTART;TZID=Europe/Berlin:20260504T180000
DTEND;TZID=Europe/Berlin:20260504T200000
LOCATION:Sportovní areál Radotín K Lázním 1693/6a\, Praha 5 - Radotín\, 153
 00
SUMMARY:PP-M-3-B: Radotín B-SC K3 B
END:VEVENT
BEGIN:VEVENT
UID:30313664-6138-4239-a336-323764343263
DTSTAMP:20260422T231838Z
DESCRIPTION:10/46 Radotín B - TJ Sokol Krč ASehnal Ivan
DTSTART;TZID=Europe/Berlin:20260511T180000
DTEND;TZID=Europe/Berlin:20260511T200000
LOCATION:Sportovní areál Radotín K Lázním 1693/6a\, Praha 5 - Radotín\, 153
 00
SUMMARY:PP-M-3-B: Radotín B-TJ Sokol Krč A
END:VEVENT
BEGIN:VEVENT
UID:61363131-6163-4734-a663-326630313562
DTSTAMP:20260422T231838Z
DESCRIPTION:12/56 Radotín B - TJ Sokol VršoviceSehnal Ivan
DTSTART;TZID=Europe/Berlin:20260520T180000
DTEND;TZID=Europe/Berlin:20260520T200000
LOCATION:Sportovní areál Radotín K Lázním 1693/6a\, Praha 5 - Radotín\, 153
 00
SUMMARY:PP-M-3-B: Radotín B-TJ Sokol Vršovice
END:VEVENT
BEGIN:VEVENT
UID:37303135-3665-4733-b638-353164653135
DTSTAMP:20260422T231838Z
DESCRIPTION:14/66 Radotín B - ASTRA Zahradní Město
DTSTART;TZID=Europe/Berlin:20260601T180000
DTEND;TZID=Europe/Berlin:20260601T200000
LOCATION:Sportovní areál Radotín K Lázním 1693/6a\, Praha 5 - Radotín\, 153
 00
SUMMARY:PP-M-3-B: Radotín B-ASTRA Zahradní Město
END:VEVENT
BEGIN:VEVENT
UID:31616238-6264-4363-a663-353638313461
DTSTAMP:20260422T231838Z
DESCRIPTION:16/76 Radotín B - Sokol Chodov A
DTSTART;TZID=Europe/Berlin:20260610T180000
DTEND;TZID=Europe/Berlin:20260610T200000
LOCATION:Sportovní areál Radotín K Lázním 1693/6a\, Praha 5 - Radotín\, 153
 00
SUMMARY:PP-M-3-B: Radotín B-Sokol Chodov A
END:VEVENT
BEGIN:VEVENT
UID:32326165-3663-4363-b131-613130646433
DTSTAMP:20260422T231838Z
DESCRIPTION:18/86 Radotín B - TJ Sokol Modřany C
DTSTART;TZID=Europe/Berlin:20260617T180000
DTEND;TZID=Europe/Berlin:20260617T200000
LOCATION:Sportovní areál Radotín K Lázním 1693/6a\, Praha 5 - Radotín\, 153
 00
SUMMARY:PP-M-3-B: Radotín B-TJ Sokol Modřany C
END:VEVENT
BEGIN:VEVENT
UID:30633734-3032-4636-b836-303461656530
DTSTAMP:20260422T231838Z
DESCRIPTION:1/1 TJ Sokol Krč A - Radotín B 3:0 (22\,20\,15)
DTSTART;TZID=Europe/Berlin:20250901T173000
DTEND;TZID=Europe/Berlin:20250901T193000
LOCATION:Tělocvičná Jednota Sokol Praha - Krč Za Obecním úřadem 354/7\, Pra
 ha 4 - Krč\, 140 00
SUMMARY:PP-M-3-B: TJ Sokol Krč A-Radotín B
END:VEVENT
BEGIN:VEVENT
UID:31353933-3662-4231-a436-333239346335
DTSTAMP:20260422T231838Z
DESCRIPTION:3/11 TJ Sokol Vršovice - Radotín B 0:3 (-18\,-21\,-18)
DTSTART;TZID=Europe/Berlin:20250908T173000
DTEND;TZID=Europe/Berlin:20250908T193000
LOCATION:Sokolovna Vršovice - kurt Sportovní 3\, Praha 10\, 10100
SUMMARY:PP-M-3-B: TJ Sokol Vršovice-Radotín B
END:VEVENT
BEGIN:VEVENT
UID:66393238-3630-4132-b237-323931313830
DTSTAMP:20260422T231838Z
DESCRIPTION:5/21 ASTRA Zahradní Město - Radotín B 3:0 (8\,25\,17)
DTSTART;TZID=Europe/Berlin:20250915T173000
DTEND;TZID=Europe/Berlin:20250915T193000
LOCATION:areál TJ Astra Zahradní Město V Korytech 157/27 10600\, Praha 10
SUMMARY:PP-M-3-B: ASTRA Zahradní Město-Radotín B
END:VEVENT
BEGIN:VEVENT
UID:61353862-6339-4130-b565-663934666366
DTSTAMP:20260422T231838Z
DESCRIPTION:7/31 Sokol Chodov A - Radotín BŠůchová Zuzana\n!změna kvůli stř
 ídání družstev na hřišti!
DTSTART;TZID=Europe/Berlin:20260429T180000
DTEND;TZID=Europe/Berlin:20260429T200000
LOCATION:Hřiště Sokola Chodov (u Sokolovny) Starochodovská 521/53\, 149 00 
 Praha 11-Chodov
SUMMARY:PP-M-3-B: Sokol Chodov A-Radotín B
END:VEVENT
BEGIN:VEVENT
UID:64646538-3830-4263-a461-366434643462
DTSTAMP:20260422T231838Z
DESCRIPTION:9/41 TJ Sokol Modřany C - Radotín BVeselý Jan
DTSTART;TZID=Europe/Berlin:20260506T180000
DTEND;TZID=Europe/Berlin:20260506T200000
LOCATION:falcon arena K Vltavě 410/23\, 14300
SUMMARY:PP-M-3-B: TJ Sokol Modřany C-Radotín B
END:VEVENT
BEGIN:VEVENT
UID:30326233-3764-4964-b132-623832323135
DTSTAMP:20260422T231838Z
DESCRIPTION:11/51 TJ ABC Braník B - Radotín BCucová Radka
DTSTART;TZID=Europe/Berlin:20260518T180000
DTEND;TZID=Europe/Berlin:20260518T200000
LOCATION:hřiště TJ ABC Braník Za Mlýnem 10 Praha 4 - 14700
SUMMARY:PP-M-3-B: TJ ABC Braník B-Radotín B
END:VEVENT
BEGIN:VEVENT
UID:34643065-6530-4735-b339-313663623533
DTSTAMP:20260422T231838Z
DESCRIPTION:13/61 TJ Sokol Spořilov - Radotín B
DTSTART;TZID=Europe/Berlin:20260527T180000
DTEND;TZID=Europe/Berlin:20260527T200000
LOCATION:Sportovní areál Volejbal Praga U Lidového domu 6\, 190 00 Praha 9\
 , Vysočany
SUMMARY:PP-M-3-B: TJ Sokol Spořilov-Radotín B
END:VEVENT
BEGIN:VEVENT
UID:36623566-3830-4634-b737-663664646165
DTSTAMP:20260422T231838Z
DESCRIPTION:15/71 TJ Malešice A - Radotín B
DTSTART;TZID=Europe/Berlin:20260603T180000
DTEND;TZID=Europe/Berlin:20260603T200000
LOCATION:hřiště Rektorská 149/9\, 108 00 Praha 10-Malešice Rektorská 149/9\
 , 108 00 Praha 10-Malešice
SUMMARY:PP-M-3-B: TJ Malešice A-Radotín B
END:VEVENT
BEGIN:VEVENT
UID:30383431-3338-4432-b531-383862333262
DTSTAMP:20260422T231838Z
DESCRIPTION:17/81 SC K3 B - Radotín B
DTSTART;TZID=Europe/Berlin:20260615T180000
DTEND;TZID=Europe/Berlin:20260615T200000
LOCATION:Hřiště areálu TJ Sokol Michle Pod Starkou\, Praha 4 – Michle 14000
SUMMARY:PP-M-3-B: SC K3 B-Radotín B
END:VEVENT
END:VCALENDAR
