BEGIN:VCALENDAR
VERSION:2.0
PRODID:-//TJ Sokol Spořilov91278//NONSGML kigkonsult.se iCalcreator 2.41.80//
CALSCALE:GREGORIAN
UID:66623630-3035-4133-a234-326530303561
BEGIN:VEVENT
UID:35313861-3730-4531-a365-666666303664
DTSTAMP:20260422T205249Z
DESCRIPTION:2/7 TJ Sokol Spořilov - TJ Sokol Modřany C 1:3 (20\,-15\,-18\,-
 23)
DTSTART;TZID=Europe/Berlin:20250903T173000
DTEND;TZID=Europe/Berlin:20250903T193000
LOCATION:Sportovní areál Volejbal Praga U Lidového domu 6\, 190 00 Praha 9\
 , Vysočany
SUMMARY:PP-M-3-B: TJ Sokol Spořilov-TJ Sokol Modřany C
END:VEVENT
BEGIN:VEVENT
UID:66656233-6336-4762-b364-316161613630
DTSTAMP:20260422T205249Z
DESCRIPTION:5/25 TJ Sokol Spořilov - TJ Malešice A 3:0 (23\,18\,20)
DTSTART;TZID=Europe/Berlin:20250915T173000
DTEND;TZID=Europe/Berlin:20250915T193000
LOCATION:Sportovní areál Volejbal Praga U Lidového domu 6\, 190 00 Praha 9\
 , Vysočany
SUMMARY:PP-M-3-B: TJ Sokol Spořilov-TJ Malešice A
END:VEVENT
BEGIN:VEVENT
UID:30666539-6338-4461-b538-343430633730
DTSTAMP:20260422T205249Z
DESCRIPTION:7/34 TJ Sokol Spořilov - TJ Sokol Krč A 1:3 (-22\,22\,-9\,-14)
DTSTART;TZID=Europe/Berlin:20250922T173000
DTEND;TZID=Europe/Berlin:20250922T193000
LOCATION:Sportovní areál Volejbal Praga U Lidového domu 6\, 190 00 Praha 9\
 , Vysočany
SUMMARY:PP-M-3-B: TJ Sokol Spořilov-TJ Sokol Krč A
END:VEVENT
BEGIN:VEVENT
UID:66346634-3539-4633-a635-383266386538
DTSTAMP:20260422T205249Z
DESCRIPTION:9/43 TJ Sokol Spořilov - ASTRA Zahradní MěstoTkáč Arpád
DTSTART;TZID=Europe/Berlin:20260506T180000
DTEND;TZID=Europe/Berlin:20260506T200000
LOCATION:Sportovní areál Volejbal Praga U Lidového domu 6\, 190 00 Praha 9\
 , Vysočany
SUMMARY:PP-M-3-B: TJ Sokol Spořilov-ASTRA Zahradní Město
END:VEVENT
BEGIN:VEVENT
UID:36323766-6365-4532-a366-386331313662
DTSTAMP:20260422T205249Z
DESCRIPTION:10/49 TJ Sokol Spořilov - Sokol Chodov AAtaniyazova Diana
DTSTART;TZID=Europe/Berlin:20260511T180000
DTEND;TZID=Europe/Berlin:20260511T200000
LOCATION:Sportovní areál Volejbal Praga U Lidového domu 6\, 190 00 Praha 9\
 , Vysočany
SUMMARY:PP-M-3-B: TJ Sokol Spořilov-Sokol Chodov A
END:VEVENT
BEGIN:VEVENT
UID:30303530-3566-4436-a337-363331316665
DTSTAMP:20260422T205249Z
DESCRIPTION:12/60 TJ Sokol Spořilov - TJ ABC Braník BTkáč Arpád
DTSTART;TZID=Europe/Berlin:20260520T180000
DTEND;TZID=Europe/Berlin:20260520T200000
LOCATION:Sportovní areál Volejbal Praga U Lidového domu 6\, 190 00 Praha 9\
 , Vysočany
SUMMARY:PP-M-3-B: TJ Sokol Spořilov-TJ ABC Braník B
END:VEVENT
BEGIN:VEVENT
UID:66376265-6363-4335-b363-303439343765
DTSTAMP:20260422T205249Z
DESCRIPTION:13/61 TJ Sokol Spořilov - Radotín B
DTSTART;TZID=Europe/Berlin:20260527T180000
DTEND;TZID=Europe/Berlin:20260527T200000
LOCATION:Sportovní areál Volejbal Praga U Lidového domu 6\, 190 00 Praha 9\
 , Vysočany
SUMMARY:PP-M-3-B: TJ Sokol Spořilov-Radotín B
END:VEVENT
BEGIN:VEVENT
UID:36633138-3865-4361-b662-656466663739
DTSTAMP:20260422T205249Z
DESCRIPTION:15/72 TJ Sokol Spořilov - SC K3 B
DTSTART;TZID=Europe/Berlin:20260603T180000
DTEND;TZID=Europe/Berlin:20260603T200000
LOCATION:Sportovní areál Volejbal Praga U Lidového domu 6\, 190 00 Praha 9\
 , Vysočany
SUMMARY:PP-M-3-B: TJ Sokol Spořilov-SC K3 B
END:VEVENT
BEGIN:VEVENT
UID:35636365-3430-4564-b365-336266393865
DTSTAMP:20260422T205249Z
DESCRIPTION:17/83 TJ Sokol Spořilov - TJ Sokol Vršovice
DTSTART;TZID=Europe/Berlin:20260615T180000
DTEND;TZID=Europe/Berlin:20260615T200000
LOCATION:Sportovní areál Volejbal Praga U Lidového domu 6\, 190 00 Praha 9\
 , Vysočany
SUMMARY:PP-M-3-B: TJ Sokol Spořilov-TJ Sokol Vršovice
END:VEVENT
BEGIN:VEVENT
UID:63353533-6536-4037-a365-666234353763
DTSTAMP:20260422T205249Z
DESCRIPTION:1/4 Sokol Chodov A - TJ Sokol Spořilov 3:2 (-18\,-14\,25\,23\,1
 2)
DTSTART;TZID=Europe/Berlin:20250901T173000
DTEND;TZID=Europe/Berlin:20250901T193000
LOCATION:Hřiště Sokola Chodov (u Sokolovny) Starochodovská 521/53\, 149 00 
 Praha 11-Chodov
SUMMARY:PP-M-3-B: Sokol Chodov A-TJ Sokol Spořilov
END:VEVENT
BEGIN:VEVENT
UID:32366230-3633-4666-a662-303263303633
DTSTAMP:20260422T205249Z
DESCRIPTION:3/15 TJ ABC Braník B - TJ Sokol Spořilov 3:0 (21\,23\,13)
DTSTART;TZID=Europe/Berlin:20250908T173000
DTEND;TZID=Europe/Berlin:20250908T193000
LOCATION:hřiště TJ ABC Braník Za Mlýnem 10 Praha 4 - 14700
SUMMARY:PP-M-3-B: TJ ABC Braník B-TJ Sokol Spořilov
END:VEVENT
BEGIN:VEVENT
UID:64386263-3239-4636-a639-393931393035
DTSTAMP:20260422T205249Z
DESCRIPTION:4/16 Radotín B - TJ Sokol SpořilovZich Jiří
DTSTART;TZID=Europe/Berlin:20260513T180000
DTEND;TZID=Europe/Berlin:20260513T200000
LOCATION:Sportovní areál Radotín K Lázním 1693/6a\, Praha 5 - Radotín\, 153
 00
SUMMARY:PP-M-3-B: Radotín B-TJ Sokol Spořilov
END:VEVENT
BEGIN:VEVENT
UID:63386237-6331-4032-b836-346339653261
DTSTAMP:20260422T205249Z
DESCRIPTION:6/27 SC K3 B - TJ Sokol Spořilov 3:0 (25\,25\,14)
DTSTART;TZID=Europe/Berlin:20250917T173000
DTEND;TZID=Europe/Berlin:20250917T193000
LOCATION:Hřiště areálu TJ Sokol Michle Pod Starkou\, Praha 4 – Michle 14000
SUMMARY:PP-M-3-B: SC K3 B-TJ Sokol Spořilov
END:VEVENT
BEGIN:VEVENT
UID:39393666-3433-4830-a262-643238653236
DTSTAMP:20260422T205249Z
DESCRIPTION:8/38 TJ Sokol Vršovice - TJ Sokol SpořilovZávora Jan
DTSTART;TZID=Europe/Berlin:20260504T180000
DTEND;TZID=Europe/Berlin:20260504T200000
LOCATION:Sokolovna Vršovice - kurt Sportovní 3\, Praha 10\, 10100
SUMMARY:PP-M-3-B: TJ Sokol Vršovice-TJ Sokol Spořilov
END:VEVENT
BEGIN:VEVENT
UID:37626665-3337-4261-b263-616164346535
DTSTAMP:20260422T205249Z
DESCRIPTION:11/52 TJ Sokol Modřany C - TJ Sokol SpořilovKalina Jaroslav
DTSTART;TZID=Europe/Berlin:20260518T180000
DTEND;TZID=Europe/Berlin:20260518T200000
LOCATION:falcon arena K Vltavě 410/23\, 14300
SUMMARY:PP-M-3-B: TJ Sokol Modřany C-TJ Sokol Spořilov
END:VEVENT
BEGIN:VEVENT
UID:62343236-3136-4066-a337-393162633337
DTSTAMP:20260422T205249Z
DESCRIPTION:14/70 TJ Malešice A - TJ Sokol Spořilov
DTSTART;TZID=Europe/Berlin:20260601T180000
DTEND;TZID=Europe/Berlin:20260601T200000
LOCATION:hřiště Rektorská 149/9\, 108 00 Praha 10-Malešice Rektorská 149/9\
 , 108 00 Praha 10-Malešice
SUMMARY:PP-M-3-B: TJ Malešice A-TJ Sokol Spořilov
END:VEVENT
BEGIN:VEVENT
UID:63343431-3432-4632-b037-353964366431
DTSTAMP:20260422T205249Z
DESCRIPTION:16/79 TJ Sokol Krč A - TJ Sokol Spořilov
DTSTART;TZID=Europe/Berlin:20260610T180000
DTEND;TZID=Europe/Berlin:20260610T200000
LOCATION:Tělocvičná Jednota Sokol Praha - Krč Za Obecním úřadem 354/7\, Pra
 ha 4 - Krč\, 140 00
SUMMARY:PP-M-3-B: TJ Sokol Krč A-TJ Sokol Spořilov
END:VEVENT
BEGIN:VEVENT
UID:63336164-3735-4865-a539-323065393830
DTSTAMP:20260422T205249Z
DESCRIPTION:18/88 ASTRA Zahradní Město - TJ Sokol Spořilov
DTSTART;TZID=Europe/Berlin:20260617T180000
DTEND;TZID=Europe/Berlin:20260617T200000
LOCATION:areál TJ Astra Zahradní Město V Korytech 157/27 10600\, Praha 10
SUMMARY:PP-M-3-B: ASTRA Zahradní Město-TJ Sokol Spořilov
END:VEVENT
END:VCALENDAR
