BEGIN:VCALENDAR
VERSION:2.0
PRODID:-//TJ Sokol Horní Počernice B91287//NONSGML kigkonsult.se iCalcreator 2.41.80//
CALSCALE:GREGORIAN
UID:37373836-6463-4833-b534-303936616636
BEGIN:VEVENT
UID:34306631-3362-4230-b436-373837363739
DTSTAMP:20260422T002604Z
DESCRIPTION:1/2 TJ Sokol Horní Počernice B - TJ Sokol Řepy C 3:1 (19\,20\,-
 22\,18)
DTSTART;TZID=Europe/Berlin:20250902T173000
DTEND;TZID=Europe/Berlin:20250902T193000
LOCATION:TJ Sokol Hor. Počernice (u sokolovny) Chvalkovická 2031/47\, Praha
  9 - Hor. Počernice 19300
SUMMARY:PP-M-3-C: TJ Sokol Horní Počernice B-TJ Sokol Řepy C
END:VEVENT
BEGIN:VEVENT
UID:62653263-6662-4266-b932-376538633230
DTSTAMP:20260422T002604Z
DESCRIPTION:3/11 TJ Sokol Horní Počernice B - TJ AVIA Čakovice 1:3 (-20\,-1
 9\,17\,-11)
DTSTART;TZID=Europe/Berlin:20250909T173000
DTEND;TZID=Europe/Berlin:20250909T193000
LOCATION:TJ Sokol Hor. Počernice (u sokolovny) Chvalkovická 2031/47\, Praha
  9 - Hor. Počernice 19300
SUMMARY:PP-M-3-C: TJ Sokol Horní Počernice B-TJ AVIA Čakovice
END:VEVENT
BEGIN:VEVENT
UID:62303365-3437-4239-a137-303263373861
DTSTAMP:20260422T002604Z
DESCRIPTION:4/20 TJ Sokol Horní Počernice B - TJ Sokol Jinonice B 0:3 (-21\
 ,-11\,-17)
DTSTART;TZID=Europe/Berlin:20250911T173000
DTEND;TZID=Europe/Berlin:20250911T193000
LOCATION:TJ Sokol Hor. Počernice (u sokolovny) Chvalkovická 2031/47\, Praha
  9 - Hor. Počernice 19300
SUMMARY:PP-M-3-C: TJ Sokol Horní Počernice B-TJ Sokol Jinonice B
END:VEVENT
BEGIN:VEVENT
UID:34663361-3663-4465-b464-343263623237
DTSTAMP:20260422T002604Z
DESCRIPTION:6/29 TJ Sokol Horní Počernice B - TJ Petřiny B 0:3 (-10\,-14\,-
 13)
DTSTART;TZID=Europe/Berlin:20250918T173000
DTEND;TZID=Europe/Berlin:20250918T193000
LOCATION:TJ Sokol Hor. Počernice (u sokolovny) Chvalkovická 2031/47\, Praha
  9 - Hor. Počernice 19300
SUMMARY:PP-M-3-C: TJ Sokol Horní Počernice B-TJ Petřiny B
END:VEVENT
BEGIN:VEVENT
UID:62386330-3737-4063-a539-663261313637
DTSTAMP:20260422T002604Z
DESCRIPTION:8/38 TJ Sokol Horní Počernice B - SK Meteor EPřechová Olga
DTSTART;TZID=Europe/Berlin:20260505T180000
DTEND;TZID=Europe/Berlin:20260505T200000
LOCATION:TJ Sokol Hor. Počernice (u sokolovny) Chvalkovická 2031/47\, Praha
  9 - Hor. Počernice 19300
SUMMARY:PP-M-3-C: TJ Sokol Horní Počernice B-SK Meteor E
END:VEVENT
BEGIN:VEVENT
UID:34613339-3963-4135-b036-656562636361
DTSTAMP:20260422T002604Z
DESCRIPTION:11/55 TJ Sokol Horní Počernice B - TJ Sokol Košíře BPřechová Ol
 ga
DTSTART;TZID=Europe/Berlin:20260519T180000
DTEND;TZID=Europe/Berlin:20260519T200000
LOCATION:TJ Sokol Hor. Počernice (u sokolovny) Chvalkovická 2031/47\, Praha
  9 - Hor. Počernice 19300
SUMMARY:PP-M-3-C: TJ Sokol Horní Počernice B-TJ Sokol Košíře B
END:VEVENT
BEGIN:VEVENT
UID:38373532-6431-4564-a236-343531653864
DTSTAMP:20260422T002604Z
DESCRIPTION:14/67 TJ Sokol Horní Počernice B - TJ Sokol Řepy B
DTSTART;TZID=Europe/Berlin:20260602T180000
DTEND;TZID=Europe/Berlin:20260602T200000
LOCATION:TJ Sokol Hor. Počernice (u sokolovny) Chvalkovická 2031/47\, Praha
  9 - Hor. Počernice 19300
SUMMARY:PP-M-3-C: TJ Sokol Horní Počernice B-TJ Sokol Řepy B
END:VEVENT
BEGIN:VEVENT
UID:30333339-6564-4432-a265-653866653936
DTSTAMP:20260422T002604Z
DESCRIPTION:16/78 TJ Sokol Horní Počernice B - TJ Sokol Košíře A
DTSTART;TZID=Europe/Berlin:20260611T180000
DTEND;TZID=Europe/Berlin:20260611T200000
LOCATION:TJ Sokol Hor. Počernice (u sokolovny) Chvalkovická 2031/47\, Praha
  9 - Hor. Počernice 19300
SUMMARY:PP-M-3-C: TJ Sokol Horní Počernice B-TJ Sokol Košíře A
END:VEVENT
BEGIN:VEVENT
UID:61316531-6139-4736-b963-646362626464
DTSTAMP:20260422T002604Z
DESCRIPTION:18/89 TJ Sokol Horní Počernice B - VŠCHT
DTSTART;TZID=Europe/Berlin:20260618T180000
DTEND;TZID=Europe/Berlin:20260618T200000
LOCATION:TJ Sokol Hor. Počernice (u sokolovny) Chvalkovická 2031/47\, Praha
  9 - Hor. Počernice 19300
SUMMARY:PP-M-3-C: TJ Sokol Horní Počernice B-VŠCHT
END:VEVENT
BEGIN:VEVENT
UID:66623562-3961-4263-b534-326666313033
DTSTAMP:20260422T002604Z
DESCRIPTION:2/10 TJ Sokol Košíře B - TJ Sokol Horní Počernice B 1:3 (21\,-1
 9\,-17\,-23)
DTSTART;TZID=Europe/Berlin:20250904T173000
DTEND;TZID=Europe/Berlin:20250904T193000
LOCATION:TJ Sokol Praha Košíře Klamovka 2051\, Praha 5\, 150 00
SUMMARY:PP-M-3-C: TJ Sokol Košíře B-TJ Sokol Horní Počernice B
END:VEVENT
BEGIN:VEVENT
UID:35643836-3661-4434-b763-386235306266
DTSTAMP:20260422T002604Z
DESCRIPTION:5/22 TJ Sokol Řepy B - TJ Sokol Horní Počernice B 1:3 (-22\,-21
 \,20\,-24)
DTSTART;TZID=Europe/Berlin:20250916T173000
DTEND;TZID=Europe/Berlin:20250916T193000
LOCATION:Antukové kurty za Sokolovnou Na Chobotě 125\, Praha 17 - Řepy\, 16
 3 00
SUMMARY:PP-M-3-C: TJ Sokol Řepy B-TJ Sokol Horní Počernice B
END:VEVENT
BEGIN:VEVENT
UID:31333066-6238-4062-b364-313064303535
DTSTAMP:20260422T002604Z
DESCRIPTION:7/33 TJ Sokol Košíře A - TJ Sokol Horní Počernice B 3:1 (-23\,1
 9\,11\,13)
DTSTART;TZID=Europe/Berlin:20250923T173000
DTEND;TZID=Europe/Berlin:20250923T193000
LOCATION:TJ SOKOL Praha Košíře Klamovka 2051\, Praha 5 - Smíchov\, 150 00
SUMMARY:PP-M-3-C: TJ Sokol Košíře A-TJ Sokol Horní Počernice B
END:VEVENT
BEGIN:VEVENT
UID:31323363-6432-4232-b239-353963323037
DTSTAMP:20260422T002604Z
DESCRIPTION:9/44 VŠCHT - TJ Sokol Horní Počernice BPospíšilová Jana
DTSTART;TZID=Europe/Berlin:20260507T180000
DTEND;TZID=Europe/Berlin:20260507T200000
LOCATION:TJ Sokol Jinonice\, Butovická 100/33\, Praha 5 15800
SUMMARY:PP-M-3-C: VŠCHT-TJ Sokol Horní Počernice B
END:VEVENT
BEGIN:VEVENT
UID:38383732-6661-4864-a262-316361356439
DTSTAMP:20260422T002604Z
DESCRIPTION:10/47 TJ Sokol Řepy C - TJ Sokol Horní Počernice BŠlechta Jiří
DTSTART;TZID=Europe/Berlin:20260512T180000
DTEND;TZID=Europe/Berlin:20260512T200000
LOCATION:Antukové kurty za Sokolovnou Na Chobotě 125/4\, Praha 17-Řepy\, 16
 300\, vstup z ulice Žalanského
SUMMARY:PP-M-3-C: TJ Sokol Řepy C-TJ Sokol Horní Počernice B
END:VEVENT
BEGIN:VEVENT
UID:34376636-6535-4061-b665-376665383230
DTSTAMP:20260422T002604Z
DESCRIPTION:12/56 TJ AVIA Čakovice - TJ Sokol Horní Počernice BKvasnička To
 máš
DTSTART;TZID=Europe/Berlin:20260521T180000
DTEND;TZID=Europe/Berlin:20260521T200000
LOCATION:Volejbal Čakovice Jizerská 328/4\, 19600 Praha-Čakovice
SUMMARY:PP-M-3-C: TJ AVIA Čakovice-TJ Sokol Horní Počernice B
END:VEVENT
BEGIN:VEVENT
UID:33353666-3964-4232-b730-656162343737
DTSTAMP:20260422T002604Z
DESCRIPTION:13/65 TJ Sokol Jinonice B - TJ Sokol Horní Počernice B
DTSTART;TZID=Europe/Berlin:20260528T180000
DTEND;TZID=Europe/Berlin:20260528T200000
LOCATION:Butovická 100/33\, 158 00\, Jinonice\, Praha Butovická 100/33\, 15
 8 00\, Jinonice\, Praha
SUMMARY:PP-M-3-C: TJ Sokol Jinonice B-TJ Sokol Horní Počernice B
END:VEVENT
BEGIN:VEVENT
UID:63343763-6431-4266-a562-386166316534
DTSTAMP:20260422T002604Z
DESCRIPTION:15/74 TJ Petřiny B - TJ Sokol Horní Počernice B
DTSTART;TZID=Europe/Berlin:20260604T180000
DTEND;TZID=Europe/Berlin:20260604T200000
LOCATION:ZŠ Jana Wericha Španielova 1111/19\, Praha 6 - Řepy\, 16300
SUMMARY:PP-M-3-C: TJ Petřiny B-TJ Sokol Horní Počernice B
END:VEVENT
BEGIN:VEVENT
UID:37373534-3531-4435-b265-373134366139
DTSTAMP:20260422T002604Z
DESCRIPTION:17/83 SK Meteor E - TJ Sokol Horní Počernice B
DTSTART;TZID=Europe/Berlin:20260616T180000
DTEND;TZID=Europe/Berlin:20260616T200000
LOCATION:Areál SK Meteor Praha U Meteoru 29/3\, 18000 Praha 8 - Libeň
SUMMARY:PP-M-3-C: SK Meteor E-TJ Sokol Horní Počernice B
END:VEVENT
END:VCALENDAR
