BEGIN:VCALENDAR
VERSION:2.0
PRODID:-//VŠCHT91289//NONSGML kigkonsult.se iCalcreator 2.41.80//
CALSCALE:GREGORIAN
UID:64663931-3930-4133-a437-623330613734
BEGIN:VEVENT
UID:36323836-3563-4331-b163-623063646437
DTSTAMP:20260422T002604Z
DESCRIPTION:2/8 VŠCHT - TJ Sokol Řepy B 3:0 (18\,21\,21)
DTSTART;TZID=Europe/Berlin:20250904T173000
DTEND;TZID=Europe/Berlin:20250904T193000
LOCATION:TJ Sokol Jinonice\, Butovická 100/33\, Praha 5 15800
SUMMARY:PP-M-3-C: VŠCHT-TJ Sokol Řepy B
END:VEVENT
BEGIN:VEVENT
UID:66626666-3732-4661-a430-623338303533
DTSTAMP:20260422T002604Z
DESCRIPTION:4/17 VŠCHT - TJ Sokol Košíře A 1:3 (-18\,-23\,10\,-23)
DTSTART;TZID=Europe/Berlin:20250911T173000
DTEND;TZID=Europe/Berlin:20250911T193000
LOCATION:TJ Sokol Jinonice\, Butovická 100/33\, Praha 5 15800
SUMMARY:PP-M-3-C: VŠCHT-TJ Sokol Košíře A
END:VEVENT
BEGIN:VEVENT
UID:31393932-6439-4761-b730-663236643864
DTSTAMP:20260422T002604Z
DESCRIPTION:7/35 VŠCHT - TJ Sokol Řepy CTatyrek Tomáš
DTSTART;TZID=Europe/Berlin:20260428T180000
DTEND;TZID=Europe/Berlin:20260428T200000
LOCATION:TJ Sokol Jinonice\, Butovická 100/33\, Praha 5 15800
SUMMARY:PP-M-3-C: VŠCHT-TJ Sokol Řepy C
END:VEVENT
BEGIN:VEVENT
UID:33613630-6233-4332-b636-623561383430
DTSTAMP:20260422T002604Z
DESCRIPTION:9/44 VŠCHT - TJ Sokol Horní Počernice BPospíšilová Jana
DTSTART;TZID=Europe/Berlin:20260507T180000
DTEND;TZID=Europe/Berlin:20260507T200000
LOCATION:TJ Sokol Jinonice\, Butovická 100/33\, Praha 5 15800
SUMMARY:PP-M-3-C: VŠCHT-TJ Sokol Horní Počernice B
END:VEVENT
BEGIN:VEVENT
UID:39366465-3037-4430-b639-633462353931
DTSTAMP:20260422T002604Z
DESCRIPTION:10/48 VŠCHT - TJ Sokol Jinonice BSyrový Michael
DTSTART;TZID=Europe/Berlin:20260512T180000
DTEND;TZID=Europe/Berlin:20260512T200000
LOCATION:TJ Sokol Jinonice\, Butovická 100/33\, Praha 5 15800
SUMMARY:PP-M-3-C: VŠCHT-TJ Sokol Jinonice B
END:VEVENT
BEGIN:VEVENT
UID:62323433-3833-4437-b266-633634303865
DTSTAMP:20260422T002604Z
DESCRIPTION:12/59 VŠCHT - TJ Petřiny BŠvitorka Pavel
DTSTART;TZID=Europe/Berlin:20260521T180000
DTEND;TZID=Europe/Berlin:20260521T200000
LOCATION:TJ Sokol Jinonice\, Butovická 100/33\, Praha 5 15800
SUMMARY:PP-M-3-C: VŠCHT-TJ Petřiny B
END:VEVENT
BEGIN:VEVENT
UID:38366330-3631-4738-a165-616438633337
DTSTAMP:20260422T002604Z
DESCRIPTION:14/70 VŠCHT - SK Meteor E
DTSTART;TZID=Europe/Berlin:20260602T180000
DTEND;TZID=Europe/Berlin:20260602T200000
LOCATION:TJ Sokol Jinonice\, Butovická 100/33\, Praha 5 15800
SUMMARY:PP-M-3-C: VŠCHT-SK Meteor E
END:VEVENT
BEGIN:VEVENT
UID:30383539-3666-4563-a564-303130303762
DTSTAMP:20260422T002604Z
DESCRIPTION:15/71 VŠCHT - TJ AVIA Čakovice
DTSTART;TZID=Europe/Berlin:20260604T180000
DTEND;TZID=Europe/Berlin:20260604T200000
LOCATION:TJ Sokol Jinonice\, Butovická 100/33\, Praha 5 15800
SUMMARY:PP-M-3-C: VŠCHT-TJ AVIA Čakovice
END:VEVENT
BEGIN:VEVENT
UID:39613066-3863-4030-a630-653231373737
DTSTAMP:20260422T002604Z
DESCRIPTION:17/82 VŠCHT - TJ Sokol Košíře B
DTSTART;TZID=Europe/Berlin:20260616T180000
DTEND;TZID=Europe/Berlin:20260616T200000
LOCATION:TJ Sokol Jinonice\, Butovická 100/33\, Praha 5 15800
SUMMARY:PP-M-3-C: VŠCHT-TJ Sokol Košíře B
END:VEVENT
BEGIN:VEVENT
UID:31313461-6339-4135-b261-646130643731
DTSTAMP:20260422T002604Z
DESCRIPTION:1/3 TJ Sokol Jinonice B - VŠCHT 3:1 (-23\,12\,14\,20)
DTSTART;TZID=Europe/Berlin:20250902T173000
DTEND;TZID=Europe/Berlin:20250902T193000
LOCATION:Butovická 100/33\, 158 00\, Jinonice\, Praha Butovická 100/33\, 15
 8 00\, Jinonice\, Praha
SUMMARY:PP-M-3-C: TJ Sokol Jinonice B-VŠCHT
END:VEVENT
BEGIN:VEVENT
UID:31333663-6632-4530-a362-623538303634
DTSTAMP:20260422T002604Z
DESCRIPTION:3/14 TJ Petřiny B - VŠCHT 3:2 (17\,23\,-16\,-21\,9)
DTSTART;TZID=Europe/Berlin:20250909T173000
DTEND;TZID=Europe/Berlin:20250909T193000
LOCATION:ZŠ Jana Wericha Španielova 1111/19\, Praha 6 - Řepy\, 16300
SUMMARY:PP-M-3-C: TJ Petřiny B-VŠCHT
END:VEVENT
BEGIN:VEVENT
UID:66646332-3038-4237-a530-383839386139
DTSTAMP:20260422T002604Z
DESCRIPTION:5/25 SK Meteor E - VŠCHTMlejnecký František
DTSTART;TZID=Europe/Berlin:20260514T180000
DTEND;TZID=Europe/Berlin:20260514T200000
LOCATION:Areál SK Meteor Praha U Meteoru 29/3\, 18000 Praha 8 - Libeň
SUMMARY:PP-M-3-C: SK Meteor E-VŠCHT
END:VEVENT
BEGIN:VEVENT
UID:39326638-3161-4464-b862-373933646363
DTSTAMP:20260422T002604Z
DESCRIPTION:6/26 TJ AVIA Čakovice - VŠCHTMásilko Zdeněk
DTSTART;TZID=Europe/Berlin:20260430T180000
DTEND;TZID=Europe/Berlin:20260430T200000
LOCATION:Volejbal Čakovice Jizerská 328/4\, 19600 Praha-Čakovice
SUMMARY:PP-M-3-C: TJ AVIA Čakovice-VŠCHT
END:VEVENT
BEGIN:VEVENT
UID:30646134-3733-4937-b533-343532663734
DTSTAMP:20260422T002604Z
DESCRIPTION:8/37 TJ Sokol Košíře B - VŠCHTSyrový Michael
DTSTART;TZID=Europe/Berlin:20260505T180000
DTEND;TZID=Europe/Berlin:20260505T200000
LOCATION:TJ Sokol Praha Košíře Klamovka 2051\, Praha 5\, 150 00
SUMMARY:PP-M-3-C: TJ Sokol Košíře B-VŠCHT
END:VEVENT
BEGIN:VEVENT
UID:63316536-3638-4766-b634-326261386135
DTSTAMP:20260422T002604Z
DESCRIPTION:11/53 TJ Sokol Řepy B - VŠCHTTvrz Jan
DTSTART;TZID=Europe/Berlin:20260519T180000
DTEND;TZID=Europe/Berlin:20260519T200000
LOCATION:Antukové kurty za Sokolovnou Na Chobotě 125\, Praha 17 - Řepy\, 16
 3 00
SUMMARY:PP-M-3-C: TJ Sokol Řepy B-VŠCHT
END:VEVENT
BEGIN:VEVENT
UID:30366234-6337-4435-b338-636238653530
DTSTAMP:20260422T002604Z
DESCRIPTION:13/62 TJ Sokol Košíře A - VŠCHT
DTSTART;TZID=Europe/Berlin:20260528T180000
DTEND;TZID=Europe/Berlin:20260528T200000
LOCATION:TJ SOKOL Praha Košíře Klamovka 2051\, Praha 5 - Smíchov\, 150 00
SUMMARY:PP-M-3-C: TJ Sokol Košíře A-VŠCHT
END:VEVENT
BEGIN:VEVENT
UID:31396131-3537-4832-a638-376530326636
DTSTAMP:20260422T002604Z
DESCRIPTION:16/80 TJ Sokol Řepy C - VŠCHT
DTSTART;TZID=Europe/Berlin:20260611T180000
DTEND;TZID=Europe/Berlin:20260611T200000
LOCATION:Antukové kurty za Sokolovnou Na Chobotě 125/4\, Praha 17-Řepy\, 16
 300\, vstup z ulice Žalanského
SUMMARY:PP-M-3-C: TJ Sokol Řepy C-VŠCHT
END:VEVENT
BEGIN:VEVENT
UID:66346131-3231-4364-b063-323835613938
DTSTAMP:20260422T002604Z
DESCRIPTION:18/89 TJ Sokol Horní Počernice B - VŠCHT
DTSTART;TZID=Europe/Berlin:20260618T180000
DTEND;TZID=Europe/Berlin:20260618T200000
LOCATION:TJ Sokol Hor. Počernice (u sokolovny) Chvalkovická 2031/47\, Praha
  9 - Hor. Počernice 19300
SUMMARY:PP-M-3-C: TJ Sokol Horní Počernice B-VŠCHT
END:VEVENT
END:VCALENDAR
