BEGIN:VCALENDAR
VERSION:2.0
PRODID:-//Dobeška A91298//NONSGML kigkonsult.se iCalcreator 2.41.80//
CALSCALE:GREGORIAN
UID:64626630-3332-4838-b961-363763646463
BEGIN:VEVENT
UID:65346632-6131-4435-a236-336431366462
DTSTAMP:20260422T085201Z
DESCRIPTION:2/8 Dobeška A - Slovan Bohnice 3:0 (12\,19\,13)
DTSTART;TZID=Europe/Berlin:20250904T173000
DTEND;TZID=Europe/Berlin:20250904T193000
LOCATION:Hřiště TJ Praha Podolí - Na Dobešce Nad Lomem 1777/1a\, Praha 4-Br
 aník\, 14000
SUMMARY:PP-Z-1: Dobeška A-Slovan Bohnice
END:VEVENT
BEGIN:VEVENT
UID:66383039-3236-4835-b961-656161313261
DTSTAMP:20260422T085201Z
DESCRIPTION:4/17 Dobeška A - SAVO Praha 3:2 (-13\,18\,24\,-22\,12)
DTSTART;TZID=Europe/Berlin:20250911T173000
DTEND;TZID=Europe/Berlin:20250911T193000
LOCATION:Hřiště TJ Praha Podolí - Na Dobešce Nad Lomem 1777/1a\, Praha 4-Br
 aník\, 14000
SUMMARY:PP-Z-1: Dobeška A-SAVO Praha
END:VEVENT
BEGIN:VEVENT
UID:61303538-3138-4163-b330-323931363231
DTSTAMP:20260422T085201Z
DESCRIPTION:7/35 Dobeška A - Start Praha 1:3 (-18\,-17\,16\,-15)
DTSTART;TZID=Europe/Berlin:20250923T173000
DTEND;TZID=Europe/Berlin:20250923T193000
LOCATION:Hřiště TJ Praha Podolí - Na Dobešce Nad Lomem 1777/1a\, Praha 4-Br
 aník\, 14000
SUMMARY:PP-Z-1: Dobeška A-Start Praha
END:VEVENT
BEGIN:VEVENT
UID:33303138-3033-4635-b536-373830646537
DTSTAMP:20260422T085201Z
DESCRIPTION:9/44 Dobeška A - Orion BKalina Jaroslav
DTSTART;TZID=Europe/Berlin:20260507T180000
DTEND;TZID=Europe/Berlin:20260507T200000
LOCATION:Hřiště TJ Praha Podolí - Na Dobešce Nad Lomem 1777/1a\, Praha 4-Br
 aník\, 14000
SUMMARY:PP-Z-1: Dobeška A-Orion B
END:VEVENT
BEGIN:VEVENT
UID:34366164-3865-4738-a134-663963616338
DTSTAMP:20260422T085201Z
DESCRIPTION:10/48 Dobeška A - Sokol Smíchov AKalina Jaroslav
DTSTART;TZID=Europe/Berlin:20260512T180000
DTEND;TZID=Europe/Berlin:20260512T200000
LOCATION:Hřiště TJ Praha Podolí - Na Dobešce Nad Lomem 1777/1a\, Praha 4-Br
 aník\, 14000
SUMMARY:PP-Z-1: Dobeška A-Sokol Smíchov A
END:VEVENT
BEGIN:VEVENT
UID:38383234-3532-4037-b632-666565383661
DTSTAMP:20260422T085201Z
DESCRIPTION:12/59 Dobeška A - Sokol Vyšehrad CVaněk Jan
DTSTART;TZID=Europe/Berlin:20260521T180000
DTEND;TZID=Europe/Berlin:20260521T200000
LOCATION:Hřiště TJ Praha Podolí - Na Dobešce Nad Lomem 1777/1a\, Praha 4-Br
 aník\, 14000
SUMMARY:PP-Z-1: Dobeška A-Sokol Vyšehrad C
END:VEVENT
BEGIN:VEVENT
UID:34373861-3738-4361-a566-623961643065
DTSTAMP:20260422T085201Z
DESCRIPTION:14/70 Dobeška A - Přírodní vědy A
DTSTART;TZID=Europe/Berlin:20260602T180000
DTEND;TZID=Europe/Berlin:20260602T200000
LOCATION:Hřiště TJ Praha Podolí - Na Dobešce Nad Lomem 1777/1a\, Praha 4-Br
 aník\, 14000
SUMMARY:PP-Z-1: Dobeška A-Přírodní vědy A
END:VEVENT
BEGIN:VEVENT
UID:35623464-3337-4664-a330-643732616139
DTSTAMP:20260422T085201Z
DESCRIPTION:15/71 Dobeška A - Sokol Vyšehrad A
DTSTART;TZID=Europe/Berlin:20260604T180000
DTEND;TZID=Europe/Berlin:20260604T200000
LOCATION:Hřiště TJ Praha Podolí - Na Dobešce Nad Lomem 1777/1a\, Praha 4-Br
 aník\, 14000
SUMMARY:PP-Z-1: Dobeška A-Sokol Vyšehrad A
END:VEVENT
BEGIN:VEVENT
UID:33666434-6531-4133-b264-323532633265
DTSTAMP:20260422T085201Z
DESCRIPTION:17/82 Dobeška A - Sokol Modřany B
DTSTART;TZID=Europe/Berlin:20260616T180000
DTEND;TZID=Europe/Berlin:20260616T200000
LOCATION:Hřiště TJ Praha Podolí - Na Dobešce Nad Lomem 1777/1a\, Praha 4-Br
 aník\, 14000
SUMMARY:PP-Z-1: Dobeška A-Sokol Modřany B
END:VEVENT
BEGIN:VEVENT
UID:31383065-3034-4636-a431-376535626161
DTSTAMP:20260422T085201Z
DESCRIPTION:1/3 Sokol Smíchov A - Dobeška A 3:0 (16\,18\,20)
DTSTART;TZID=Europe/Berlin:20250902T173000
DTEND;TZID=Europe/Berlin:20250902T193000
LOCATION:Tělocvičná jednota Sokol Praha - Krč Za Obecním úřadem 354/7\, 140
  00 Praha 4 - Krč
SUMMARY:PP-Z-1: Sokol Smíchov A-Dobeška A
END:VEVENT
BEGIN:VEVENT
UID:34386135-6563-4037-b030-653833373964
DTSTAMP:20260422T085201Z
DESCRIPTION:3/14 Sokol Vyšehrad C - Dobeška A 2:3 (19\,-23\,-21\,14\,-10)
DTSTART;TZID=Europe/Berlin:20250909T173000
DTEND;TZID=Europe/Berlin:20250909T193000
LOCATION:SK Meteor Praha U Meteoru 29/3\, 18000 Praha 8
SUMMARY:PP-Z-1: Sokol Vyšehrad C-Dobeška A
END:VEVENT
BEGIN:VEVENT
UID:63613530-6537-4533-b161-613338376433
DTSTAMP:20260422T085201Z
DESCRIPTION:5/25 Přírodní vědy A - Dobeška A 3:2 (14\,17\,-16\,-16\,12)
DTSTART;TZID=Europe/Berlin:20250916T173000
DTEND;TZID=Europe/Berlin:20250916T193000
LOCATION:hřiště areálu VŠSK MFF na Albertově Albertov 2098/9a\, Praha 2\, 1
 2800
SUMMARY:PP-Z-1: Přírodní vědy A-Dobeška A
END:VEVENT
BEGIN:VEVENT
UID:31353633-3162-4163-b165-366631363732
DTSTAMP:20260422T085201Z
DESCRIPTION:6/26 Sokol Vyšehrad A - Dobeška ASkřivánková Jitka
DTSTART;TZID=Europe/Berlin:20260514T180000
DTEND;TZID=Europe/Berlin:20260514T200000
LOCATION:SK Meteor Praha U Meteoru 29/3\, 180 00 Praha 8
SUMMARY:PP-Z-1: Sokol Vyšehrad A-Dobeška A
END:VEVENT
BEGIN:VEVENT
UID:38386462-3433-4737-b165-316463323735
DTSTAMP:20260422T085201Z
DESCRIPTION:8/37 Sokol Modřany B - Dobeška AKohan Tomáš
DTSTART;TZID=Europe/Berlin:20260505T180000
DTEND;TZID=Europe/Berlin:20260505T200000
LOCATION:Tělocvičná jednota Sokol Modřany K Vltavě 410/23\, Praha 4 - 143 0
 0
SUMMARY:PP-Z-1: Sokol Modřany B-Dobeška A
END:VEVENT
BEGIN:VEVENT
UID:62383466-6630-4833-a136-323532653063
DTSTAMP:20260422T085201Z
DESCRIPTION:11/53 Slovan Bohnice - Dobeška ADvořáková Lucie
DTSTART;TZID=Europe/Berlin:20260519T180000
DTEND;TZID=Europe/Berlin:20260519T200000
LOCATION:hřiště areálu Slovanu Bohnice Bukolská 570/2\, 18100 Praha 8 (Čimi
 cký Háj)
SUMMARY:PP-Z-1: Slovan Bohnice-Dobeška A
END:VEVENT
BEGIN:VEVENT
UID:35333961-3831-4261-b234-306536343934
DTSTAMP:20260422T085201Z
DESCRIPTION:13/62 SAVO Praha - Dobeška A
DTSTART;TZID=Europe/Berlin:20260528T180000
DTEND;TZID=Europe/Berlin:20260528T200000
LOCATION:TJ Sokol Stodůlky Kovářova 1617\, 155 00 Praha 13 - Stodůlky
SUMMARY:PP-Z-1: SAVO Praha-Dobeška A
END:VEVENT
BEGIN:VEVENT
UID:31633932-3435-4931-a363-643737346262
DTSTAMP:20260422T085201Z
DESCRIPTION:16/80 Start Praha - Dobeška A
DTSTART;TZID=Europe/Berlin:20260611T180000
DTEND;TZID=Europe/Berlin:20260611T200000
LOCATION:SK Start Praha Střelecký Ostrov 336\, 110 00 Praha 1
SUMMARY:PP-Z-1: Start Praha-Dobeška A
END:VEVENT
BEGIN:VEVENT
UID:61383434-6637-4938-b663-323132376564
DTSTAMP:20260422T085201Z
DESCRIPTION:18/89 Orion B - Dobeška A
DTSTART;TZID=Europe/Berlin:20260618T180000
DTEND;TZID=Europe/Berlin:20260618T200000
LOCATION:hřiště TJ ABC Braník Za mlýnem 1778/10\, 147 00 Praha 4
SUMMARY:PP-Z-1: Orion B-Dobeška A
END:VEVENT
END:VCALENDAR
