BEGIN:VCALENDAR
VERSION:2.0
PRODID:-//TJ ABC Braník A91314//NONSGML kigkonsult.se iCalcreator 2.41.80//
CALSCALE:GREGORIAN
UID:38656133-6166-4738-b366-393962666435
BEGIN:VEVENT
UID:33656362-6438-4935-b337-616166376235
DTSTAMP:20260423T042845Z
DESCRIPTION:2/7 ABC Braník A - MFF D 3:2 (12\,-14\,20\,-23\,14)
DTSTART;TZID=Europe/Berlin:20250904T173000
DTEND;TZID=Europe/Berlin:20250904T193000
LOCATION:Volejbal Braník Za Mlýnem 1778/10\, 147 00 Praha 4
SUMMARY:PP-Z-2-B: ABC Braník A-MFF D
END:VEVENT
BEGIN:VEVENT
UID:32393631-6364-4631-a163-373637626230
DTSTAMP:20260423T042845Z
DESCRIPTION:5/25 ABC Braník A - Aritma Praha 2:3 (-23\,19\,-21\,24\,-10)
DTSTART;TZID=Europe/Berlin:20250916T173000
DTEND;TZID=Europe/Berlin:20250916T193000
LOCATION:Volejbal Braník Za Mlýnem 1778/10\, 147 00 Praha 4
SUMMARY:PP-Z-2-B: ABC Braník A-Aritma Praha
END:VEVENT
BEGIN:VEVENT
UID:61373133-6531-4262-b330-366339333739
DTSTAMP:20260423T042845Z
DESCRIPTION:7/34 ABC Braník A - Sokol Michle AVaněk Jan
DTSTART;TZID=Europe/Berlin:20260430T180000
DTEND;TZID=Europe/Berlin:20260430T200000
LOCATION:Volejbal Braník Za Mlýnem 1778/10\, 147 00 Praha 4
SUMMARY:PP-Z-2-B: ABC Braník A-Sokol Michle A
END:VEVENT
BEGIN:VEVENT
UID:30653430-6263-4662-b366-336563316433
DTSTAMP:20260423T042845Z
DESCRIPTION:9/43 ABC Braník A - Polyplan Vysočany AVaněk Jan
DTSTART;TZID=Europe/Berlin:20260507T180000
DTEND;TZID=Europe/Berlin:20260507T200000
LOCATION:Volejbal Braník Za Mlýnem 1778/10\, 147 00 Praha 4
SUMMARY:PP-Z-2-B: ABC Braník A-Polyplan Vysočany A
END:VEVENT
BEGIN:VEVENT
UID:37373131-3734-4231-b737-666236343061
DTSTAMP:20260423T042845Z
DESCRIPTION:10/49 ABC Braník A - Meteor DKýnová Lucie
DTSTART;TZID=Europe/Berlin:20260512T180000
DTEND;TZID=Europe/Berlin:20260512T200000
LOCATION:Volejbal Braník Za Mlýnem 1778/10\, 147 00 Praha 4
SUMMARY:PP-Z-2-B: ABC Braník A-Meteor D
END:VEVENT
BEGIN:VEVENT
UID:66613836-3964-4334-b131-376637373938
DTSTAMP:20260423T042845Z
DESCRIPTION:12/60 ABC Braník A - Sokol Modřany CSyrový Michael
DTSTART;TZID=Europe/Berlin:20260521T180000
DTEND;TZID=Europe/Berlin:20260521T200000
LOCATION:Volejbal Braník Za Mlýnem 1778/10\, 147 00 Praha 4
SUMMARY:PP-Z-2-B: ABC Braník A-Sokol Modřany C
END:VEVENT
BEGIN:VEVENT
UID:31626431-3064-4031-b131-393264383736
DTSTAMP:20260423T042845Z
DESCRIPTION:13/61 ABC Braník A - Sokol Řeporyje
DTSTART;TZID=Europe/Berlin:20260528T180000
DTEND;TZID=Europe/Berlin:20260528T200000
LOCATION:Volejbal Braník Za Mlýnem 1778/10\, 147 00 Praha 4
SUMMARY:PP-Z-2-B: ABC Braník A-Sokol Řeporyje
END:VEVENT
BEGIN:VEVENT
UID:31633635-3935-4431-b866-356437626538
DTSTAMP:20260423T042845Z
DESCRIPTION:15/72 ABC Braník A - Meteor B
DTSTART;TZID=Europe/Berlin:20260604T180000
DTEND;TZID=Europe/Berlin:20260604T200000
LOCATION:Volejbal Braník Za Mlýnem 1778/10\, 147 00 Praha 4
SUMMARY:PP-Z-2-B: ABC Braník A-Meteor B
END:VEVENT
BEGIN:VEVENT
UID:65643332-3265-4162-a333-636561393334
DTSTAMP:20260423T042845Z
DESCRIPTION:17/83 ABC Braník A - Orion C
DTSTART;TZID=Europe/Berlin:20260616T180000
DTEND;TZID=Europe/Berlin:20260616T200000
LOCATION:Volejbal Braník Za Mlýnem 1778/10\, 147 00 Praha 4
SUMMARY:PP-Z-2-B: ABC Braník A-Orion C
END:VEVENT
BEGIN:VEVENT
UID:65626465-3765-4661-b036-396231356561
DTSTAMP:20260423T042845Z
DESCRIPTION:1/4 Meteor D - ABC Braník A 1:3 (-11\,-25\,23\,-19)
DTSTART;TZID=Europe/Berlin:20250902T173000
DTEND;TZID=Europe/Berlin:20250902T193000
LOCATION:Areál SK Meteor Praha U Meteoru 29/3\, 18000 Praha 8 - Libeň
SUMMARY:PP-Z-2-B: Meteor D-ABC Braník A
END:VEVENT
BEGIN:VEVENT
UID:36376433-3063-4130-a365-666266366566
DTSTAMP:20260423T042845Z
DESCRIPTION:3/15 Sokol Modřany C - ABC Braník A 1:3 (-20\,17\,-19\,-23)
DTSTART;TZID=Europe/Berlin:20250909T173000
DTEND;TZID=Europe/Berlin:20250909T193000
LOCATION:Tělocvičná jednota Sokol Modřany K Vltavě 410\, 143 00 \, Praha 12
SUMMARY:PP-Z-2-B: Sokol Modřany C-ABC Braník A
END:VEVENT
BEGIN:VEVENT
UID:61623332-3763-4237-a432-326531363535
DTSTAMP:20260423T042845Z
DESCRIPTION:4/16 Sokol Řeporyje - ABC Braník A 2:3 (-25\,18\,16\,-17\,-11)
DTSTART;TZID=Europe/Berlin:20250911T173000
DTEND;TZID=Europe/Berlin:20250911T193000
LOCATION:TJ Sokol Řeporyje Jáchymovská 1\, 155 00 Praha - Řeporyje
SUMMARY:PP-Z-2-B: Sokol Řeporyje-ABC Braník A
END:VEVENT
BEGIN:VEVENT
UID:39353266-3238-4439-b030-396563633839
DTSTAMP:20260423T042845Z
DESCRIPTION:6/27 Meteor B - ABC Braník AMlejnecký František
DTSTART;TZID=Europe/Berlin:20260428T180000
DTEND;TZID=Europe/Berlin:20260428T200000
LOCATION:Areál SK Meteor Praha U Meteoru 29/3\, 18000 Praha 8 - Libeň
SUMMARY:PP-Z-2-B: Meteor B-ABC Braník A
END:VEVENT
BEGIN:VEVENT
UID:35383533-6535-4038-b639-386334613439
DTSTAMP:20260423T042845Z
DESCRIPTION:8/38 Orion C - ABC Braník AGlogar Andreas
DTSTART;TZID=Europe/Berlin:20260505T180000
DTEND;TZID=Europe/Berlin:20260505T200000
LOCATION:hřiště TJ ABC Braník Za mlýnem 1778/10\, 147 00 Praha 4
SUMMARY:PP-Z-2-B: Orion C-ABC Braník A
END:VEVENT
BEGIN:VEVENT
UID:63333966-3963-4832-b437-633237663466
DTSTAMP:20260423T042845Z
DESCRIPTION:11/52 MFF D - ABC Braník AZávora Jan
DTSTART;TZID=Europe/Berlin:20260519T180000
DTEND;TZID=Europe/Berlin:20260519T200000
LOCATION:hřiště Albertov areál VSK MFF na Albertově\, Albertov\, 128 00 Pra
 ha 2
SUMMARY:PP-Z-2-B: MFF D-ABC Braník A
END:VEVENT
BEGIN:VEVENT
UID:34643061-6666-4637-b937-346232623337
DTSTAMP:20260423T042845Z
DESCRIPTION:14/70 Aritma Praha - ABC Braník A
DTSTART;TZID=Europe/Berlin:20260602T180000
DTEND;TZID=Europe/Berlin:20260602T200000
LOCATION:SK Aritma Praha Nad Lávkou 5\, 160 00  Praha 6 - Veleslavín
SUMMARY:PP-Z-2-B: Aritma Praha-ABC Braník A
END:VEVENT
BEGIN:VEVENT
UID:65363732-3964-4161-b931-343938643434
DTSTAMP:20260423T042845Z
DESCRIPTION:16/79 Sokol Michle A - ABC Braník A
DTSTART;TZID=Europe/Berlin:20260611T180000
DTEND;TZID=Europe/Berlin:20260611T200000
LOCATION:Pod Stárkou 36/4\, 140 00 Praha 4 - hřiště křižovatka ulic Pod Stá
 rkou a Nad Vinným potokem
SUMMARY:PP-Z-2-B: Sokol Michle A-ABC Braník A
END:VEVENT
BEGIN:VEVENT
UID:62316439-6435-4234-b030-363762303932
DTSTAMP:20260423T042845Z
DESCRIPTION:18/88 Polyplan Vysočany A - ABC Braník A
DTSTART;TZID=Europe/Berlin:20260618T180000
DTEND;TZID=Europe/Berlin:20260618T200000
LOCATION:Volejbal Praga U Lidového domu 13\, 190 00 Praha 9
SUMMARY:PP-Z-2-B: Polyplan Vysočany A-ABC Braník A
END:VEVENT
END:VCALENDAR
