BEGIN:VCALENDAR
VERSION:2.0
PRODID:-//SK Aritma Praha91318//NONSGML kigkonsult.se iCalcreator 2.41.80//
CALSCALE:GREGORIAN
UID:36623233-3334-4963-b932-323339386530
BEGIN:VEVENT
UID:30303032-3664-4464-b666-376330653830
DTSTAMP:20260421T231831Z
DESCRIPTION:2/8 Aritma Praha - Meteor D 2:3 (21\,22\,-22\,-18\,-15)
DTSTART;TZID=Europe/Berlin:20250904T173000
DTEND;TZID=Europe/Berlin:20250904T193000
LOCATION:SK Aritma Praha Nad Lávkou 5\, 160 00  Praha 6 - Veleslavín
SUMMARY:PP-Z-2-B: Aritma Praha-Meteor D
END:VEVENT
BEGIN:VEVENT
UID:37313263-3335-4966-b334-663262336532
DTSTAMP:20260421T231831Z
DESCRIPTION:4/17 Aritma Praha - Sokol Modřany C 2:3 (22\,-22\,-18\,22\,-13)
DTSTART;TZID=Europe/Berlin:20250911T173000
DTEND;TZID=Europe/Berlin:20250911T193000
LOCATION:SK Aritma Praha Nad Lávkou 5\, 160 00  Praha 6 - Veleslavín
SUMMARY:PP-Z-2-B: Aritma Praha-Sokol Modřany C
END:VEVENT
BEGIN:VEVENT
UID:38353030-6332-4030-a130-343562323236
DTSTAMP:20260421T231831Z
DESCRIPTION:7/35 Aritma Praha - Meteor B 0:3 (-13\,-19\,-13)
DTSTART;TZID=Europe/Berlin:20250923T173000
DTEND;TZID=Europe/Berlin:20250923T193000
LOCATION:SK Aritma Praha Nad Lávkou 5\, 160 00  Praha 6 - Veleslavín
SUMMARY:PP-Z-2-B: Aritma Praha-Meteor B
END:VEVENT
BEGIN:VEVENT
UID:31313163-3831-4666-b938-303939336361
DTSTAMP:20260421T231831Z
DESCRIPTION:9/44 Aritma Praha - Orion CArendáč Martin
DTSTART;TZID=Europe/Berlin:20260507T180000
DTEND;TZID=Europe/Berlin:20260507T200000
LOCATION:SK Aritma Praha Nad Lávkou 5\, 160 00  Praha 6 - Veleslavín
SUMMARY:PP-Z-2-B: Aritma Praha-Orion C
END:VEVENT
BEGIN:VEVENT
UID:33303232-3362-4065-b937-616136633235
DTSTAMP:20260421T231831Z
DESCRIPTION:10/48 Aritma Praha - Polyplan Vysočany AArendáč Martin
DTSTART;TZID=Europe/Berlin:20260512T180000
DTEND;TZID=Europe/Berlin:20260512T200000
LOCATION:SK Aritma Praha Nad Lávkou 5\, 160 00  Praha 6 - Veleslavín
SUMMARY:PP-Z-2-B: Aritma Praha-Polyplan Vysočany A
END:VEVENT
BEGIN:VEVENT
UID:33393763-3534-4063-b538-613839613732
DTSTAMP:20260421T231831Z
DESCRIPTION:12/59 Aritma Praha - MFF DTvrz Jan
DTSTART;TZID=Europe/Berlin:20260521T180000
DTEND;TZID=Europe/Berlin:20260521T200000
LOCATION:SK Aritma Praha Nad Lávkou 5\, 160 00  Praha 6 - Veleslavín
SUMMARY:PP-Z-2-B: Aritma Praha-MFF D
END:VEVENT
BEGIN:VEVENT
UID:33383830-3237-4463-b337-643937666431
DTSTAMP:20260421T231831Z
DESCRIPTION:14/70 Aritma Praha - ABC Braník A
DTSTART;TZID=Europe/Berlin:20260602T180000
DTEND;TZID=Europe/Berlin:20260602T200000
LOCATION:SK Aritma Praha Nad Lávkou 5\, 160 00  Praha 6 - Veleslavín
SUMMARY:PP-Z-2-B: Aritma Praha-ABC Braník A
END:VEVENT
BEGIN:VEVENT
UID:63313935-6564-4466-b364-303537616134
DTSTAMP:20260421T231831Z
DESCRIPTION:15/71 Aritma Praha - Sokol Řeporyje
DTSTART;TZID=Europe/Berlin:20260604T180000
DTEND;TZID=Europe/Berlin:20260604T200000
LOCATION:SK Aritma Praha Nad Lávkou 5\, 160 00  Praha 6 - Veleslavín
SUMMARY:PP-Z-2-B: Aritma Praha-Sokol Řeporyje
END:VEVENT
BEGIN:VEVENT
UID:35313431-3730-4633-b239-383738383530
DTSTAMP:20260421T231831Z
DESCRIPTION:17/82 Aritma Praha - Sokol Michle A
DTSTART;TZID=Europe/Berlin:20260616T180000
DTEND;TZID=Europe/Berlin:20260616T200000
LOCATION:SK Aritma Praha Nad Lávkou 5\, 160 00  Praha 6 - Veleslavín
SUMMARY:PP-Z-2-B: Aritma Praha-Sokol Michle A
END:VEVENT
BEGIN:VEVENT
UID:30633532-6131-4933-a635-633730613538
DTSTAMP:20260421T231831Z
DESCRIPTION:1/3 Polyplan Vysočany A - Aritma Praha 1:3 (-16\,16\,-17\,-23)
DTSTART;TZID=Europe/Berlin:20250902T173000
DTEND;TZID=Europe/Berlin:20250902T193000
LOCATION:Volejbal Praga U Lidového domu 13\, 190 00 Praha 9
SUMMARY:PP-Z-2-B: Polyplan Vysočany A-Aritma Praha
END:VEVENT
BEGIN:VEVENT
UID:30363637-3264-4530-b333-326430343763
DTSTAMP:20260421T231831Z
DESCRIPTION:3/14 MFF D - Aritma Praha 3:0 (17\,16\,24)
DTSTART;TZID=Europe/Berlin:20250909T173000
DTEND;TZID=Europe/Berlin:20250909T193000
LOCATION:hřiště Albertov areál VSK MFF na Albertově\, Albertov\, 128 00 Pra
 ha 2
SUMMARY:PP-Z-2-B: MFF D-Aritma Praha
END:VEVENT
BEGIN:VEVENT
UID:30643737-6135-4366-b763-633330373434
DTSTAMP:20260421T231831Z
DESCRIPTION:5/25 ABC Braník A - Aritma Praha 2:3 (-23\,19\,-21\,24\,-10)
DTSTART;TZID=Europe/Berlin:20250916T173000
DTEND;TZID=Europe/Berlin:20250916T193000
LOCATION:Volejbal Braník Za Mlýnem 1778/10\, 147 00 Praha 4
SUMMARY:PP-Z-2-B: ABC Braník A-Aritma Praha
END:VEVENT
BEGIN:VEVENT
UID:37653539-3037-4765-a538-613565326163
DTSTAMP:20260421T231831Z
DESCRIPTION:6/26 Sokol Řeporyje - Aritma Praha 0:3 (-21\,-19\,-19)
DTSTART;TZID=Europe/Berlin:20250918T173000
DTEND;TZID=Europe/Berlin:20250918T193000
LOCATION:TJ Sokol Řeporyje Jáchymovská 1\, 155 00 Praha - Řeporyje
SUMMARY:PP-Z-2-B: Sokol Řeporyje-Aritma Praha
END:VEVENT
BEGIN:VEVENT
UID:33613636-3130-4961-b263-633333336462
DTSTAMP:20260421T231831Z
DESCRIPTION:8/37 Sokol Michle A - Aritma PrahaPechá Alena
DTSTART;TZID=Europe/Berlin:20260505T180000
DTEND;TZID=Europe/Berlin:20260505T200000
LOCATION:Pod Stárkou 36/4\, 140 00 Praha 4 - hřiště křižovatka ulic Pod Stá
 rkou a Nad Vinným potokem
SUMMARY:PP-Z-2-B: Sokol Michle A-Aritma Praha
END:VEVENT
BEGIN:VEVENT
UID:62323736-3237-4864-a664-663163643861
DTSTAMP:20260421T231831Z
DESCRIPTION:11/53 Meteor D - Aritma PrahaMlejnecký František
DTSTART;TZID=Europe/Berlin:20260519T180000
DTEND;TZID=Europe/Berlin:20260519T200000
LOCATION:Areál SK Meteor Praha U Meteoru 29/3\, 18000 Praha 8 - Libeň
SUMMARY:PP-Z-2-B: Meteor D-Aritma Praha
END:VEVENT
BEGIN:VEVENT
UID:34316534-3762-4839-b535-663763653332
DTSTAMP:20260421T231831Z
DESCRIPTION:13/62 Sokol Modřany C - Aritma Praha
DTSTART;TZID=Europe/Berlin:20260528T180000
DTEND;TZID=Europe/Berlin:20260528T200000
LOCATION:Tělocvičná jednota Sokol Modřany K Vltavě 410\, 143 00 \, Praha 12
SUMMARY:PP-Z-2-B: Sokol Modřany C-Aritma Praha
END:VEVENT
BEGIN:VEVENT
UID:62336633-3138-4536-b336-353539373662
DTSTAMP:20260421T231831Z
DESCRIPTION:16/80 Meteor B - Aritma Praha
DTSTART;TZID=Europe/Berlin:20260611T180000
DTEND;TZID=Europe/Berlin:20260611T200000
LOCATION:Areál SK Meteor Praha U Meteoru 29/3\, 18000 Praha 8 - Libeň
SUMMARY:PP-Z-2-B: Meteor B-Aritma Praha
END:VEVENT
BEGIN:VEVENT
UID:33663161-3931-4466-a164-383436623833
DTSTAMP:20260421T231831Z
DESCRIPTION:18/89 Orion C - Aritma Praha
DTSTART;TZID=Europe/Berlin:20260618T180000
DTEND;TZID=Europe/Berlin:20260618T200000
LOCATION:hřiště TJ ABC Braník Za mlýnem 1778/10\, 147 00 Praha 4
SUMMARY:PP-Z-2-B: Orion C-Aritma Praha
END:VEVENT
END:VCALENDAR
