BEGIN:VCALENDAR
VERSION:2.0
PRODID:-//ABC Braník B91325//NONSGML kigkonsult.se iCalcreator 2.41.80//
CALSCALE:GREGORIAN
UID:35383932-6264-4261-b933-343265663832
BEGIN:VEVENT
UID:66653634-3231-4538-b561-616662333464
DTSTAMP:20260422T205239Z
DESCRIPTION:2/7 ABC Braník B - Sokol Kunratice 3:0 (15\,18\,21)
DTSTART;TZID=Europe/Berlin:20250904T173000
DTEND;TZID=Europe/Berlin:20250904T193000
LOCATION:TJ ABC Braník Za Mlýnem 10\, 147 00 Praha 4
SUMMARY:PP-Z-3-B: ABC Braník B-Sokol Kunratice
END:VEVENT
BEGIN:VEVENT
UID:65643664-6533-4761-b963-646531363930
DTSTAMP:20260422T205239Z
DESCRIPTION:5/25 ABC Braník B - Radotín A 0:3 (-21\,-23\,-21)
DTSTART;TZID=Europe/Berlin:20250916T173000
DTEND;TZID=Europe/Berlin:20250916T193000
LOCATION:TJ ABC Braník Za Mlýnem 10\, 147 00 Praha 4
SUMMARY:PP-Z-3-B: ABC Braník B-Radotín A
END:VEVENT
BEGIN:VEVENT
UID:65343037-6632-4065-b961-383239623136
DTSTAMP:20260422T205239Z
DESCRIPTION:7/34 ABC Braník B - Sokol Košíře A 3:1 (9\,-20\,20\,15)
DTSTART;TZID=Europe/Berlin:20250923T173000
DTEND;TZID=Europe/Berlin:20250923T193000
LOCATION:TJ ABC Braník Za Mlýnem 10\, 147 00 Praha 4
SUMMARY:PP-Z-3-B: ABC Braník B-Sokol Košíře A
END:VEVENT
BEGIN:VEVENT
UID:66613438-3361-4430-a663-666361366161
DTSTAMP:20260422T205239Z
DESCRIPTION:9/43 ABC Braník B - Radotín BKobliha Václav
DTSTART;TZID=Europe/Berlin:20260507T180000
DTEND;TZID=Europe/Berlin:20260507T200000
LOCATION:TJ ABC Braník Za Mlýnem 10\, 147 00 Praha 4
SUMMARY:PP-Z-3-B: ABC Braník B-Radotín B
END:VEVENT
BEGIN:VEVENT
UID:38396238-6538-4662-b263-663732636637
DTSTAMP:20260422T205239Z
DESCRIPTION:10/49 ABC Braník B - Spikes NebušiceKobliha Václav
DTSTART;TZID=Europe/Berlin:20260512T180000
DTEND;TZID=Europe/Berlin:20260512T200000
LOCATION:TJ ABC Braník Za Mlýnem 10\, 147 00 Praha 4
SUMMARY:PP-Z-3-B: ABC Braník B-Spikes Nebušice
END:VEVENT
BEGIN:VEVENT
UID:65303935-3664-4163-b130-646230633262
DTSTAMP:20260422T205239Z
DESCRIPTION:12/60 ABC Braník B - Sokol Michle BKobliha Václav
DTSTART;TZID=Europe/Berlin:20260521T180000
DTEND;TZID=Europe/Berlin:20260521T200000
LOCATION:TJ ABC Braník Za Mlýnem 10\, 147 00 Praha 4
SUMMARY:PP-Z-3-B: ABC Braník B-Sokol Michle B
END:VEVENT
BEGIN:VEVENT
UID:36613537-6637-4632-b238-366163616665
DTSTAMP:20260422T205239Z
DESCRIPTION:13/61 ABC Braník B - Tatran Střešovice D
DTSTART;TZID=Europe/Berlin:20260528T180000
DTEND;TZID=Europe/Berlin:20260528T200000
LOCATION:TJ ABC Braník Za Mlýnem 10\, 147 00 Praha 4
SUMMARY:PP-Z-3-B: ABC Braník B-Tatran Střešovice D
END:VEVENT
BEGIN:VEVENT
UID:65363231-3830-4365-b335-656462363961
DTSTAMP:20260422T205239Z
DESCRIPTION:15/72 ABC Braník B - Sokol Řepy A
DTSTART;TZID=Europe/Berlin:20260604T180000
DTEND;TZID=Europe/Berlin:20260604T200000
LOCATION:TJ ABC Braník Za Mlýnem 10\, 147 00 Praha 4
SUMMARY:PP-Z-3-B: ABC Braník B-Sokol Řepy A
END:VEVENT
BEGIN:VEVENT
UID:62396463-6538-4631-a130-353462663466
DTSTAMP:20260422T205239Z
DESCRIPTION:17/83 ABC Braník B - Střížkov B
DTSTART;TZID=Europe/Berlin:20260616T180000
DTEND;TZID=Europe/Berlin:20260616T200000
LOCATION:TJ ABC Braník Za Mlýnem 10\, 147 00 Praha 4
SUMMARY:PP-Z-3-B: ABC Braník B-Střížkov B
END:VEVENT
BEGIN:VEVENT
UID:62303933-6432-4763-a461-626366626132
DTSTAMP:20260422T205239Z
DESCRIPTION:1/4 Spikes Nebušice - ABC Braník B 0:3 (-12\,-19\,-22)
DTSTART;TZID=Europe/Berlin:20250902T173000
DTEND;TZID=Europe/Berlin:20250902T193000
LOCATION:TJ Tatran Střešovice\, Sibeliova ul.\, 162 00 Praha 6
SUMMARY:PP-Z-3-B: Spikes Nebušice-ABC Braník B
END:VEVENT
BEGIN:VEVENT
UID:63633638-3365-4862-b837-343537306636
DTSTAMP:20260422T205239Z
DESCRIPTION:3/15 Sokol Michle B - ABC Braník B 0:3 (-20\,-22\,-20)
DTSTART;TZID=Europe/Berlin:20250909T173000
DTEND;TZID=Europe/Berlin:20250909T193000
LOCATION:Pod Stárkou 36/4\, 140 00 Praha 4\, hřiště: křižovatka ulic Pod St
 árkou a nad Vinným potokem
SUMMARY:PP-Z-3-B: Sokol Michle B-ABC Braník B
END:VEVENT
BEGIN:VEVENT
UID:63306632-6162-4936-b662-353062633235
DTSTAMP:20260422T205239Z
DESCRIPTION:4/16 Tatran Střešovice D - ABC Braník B 3:2 (-20\,16\,15\,-17\,
 12)
DTSTART;TZID=Europe/Berlin:20250911T173000
DTEND;TZID=Europe/Berlin:20250911T193000
LOCATION:Tatran Střešovice - antukové hřiště Praha 6\, Sibeliova 362\, 162 
 00
SUMMARY:PP-Z-3-B: Tatran Střešovice D-ABC Braník B
END:VEVENT
BEGIN:VEVENT
UID:39333230-3038-4365-b562-363939636537
DTSTAMP:20260422T205239Z
DESCRIPTION:6/27 Sokol Řepy A - ABC Braník B 0:3 (-15\,-19\,-16)
DTSTART;TZID=Europe/Berlin:20250918T173000
DTEND;TZID=Europe/Berlin:20250918T193000
LOCATION:Antukové kurty za Sokolovnou Na Chobotě  125\, Praha 17\, Řepy\, 1
 63 00
SUMMARY:PP-Z-3-B: Sokol Řepy A-ABC Braník B
END:VEVENT
BEGIN:VEVENT
UID:32356235-3766-4231-b663-623538306530
DTSTAMP:20260422T205239Z
DESCRIPTION:8/38 Střížkov B - ABC Braník BTalíř Marek
DTSTART;TZID=Europe/Berlin:20260505T180000
DTEND;TZID=Europe/Berlin:20260505T200000
LOCATION:Habartická 200/5\, 190 00 Praha 9 - Střížkov
SUMMARY:PP-Z-3-B: Střížkov B-ABC Braník B
END:VEVENT
BEGIN:VEVENT
UID:37396465-3562-4230-b433-323865363065
DTSTAMP:20260422T205239Z
DESCRIPTION:11/52 Sokol Kunratice - ABC Braník BSchrötter David
DTSTART;TZID=Europe/Berlin:20260519T180000
DTEND;TZID=Europe/Berlin:20260519T200000
LOCATION:TJ Sokol Kunratice K Šeberáku 161/16\, 148 00 Praha - Kunratice
SUMMARY:PP-Z-3-B: Sokol Kunratice-ABC Braník B
END:VEVENT
BEGIN:VEVENT
UID:64313565-3738-4934-a564-343730616464
DTSTAMP:20260422T205239Z
DESCRIPTION:14/70 Radotín A - ABC Braník B
DTSTART;TZID=Europe/Berlin:20260602T180000
DTEND;TZID=Europe/Berlin:20260602T200000
LOCATION:Sportovní areál Radotín K Lázním 1693/6a\, 153 00 Praha 5 - Radotí
 n
SUMMARY:PP-Z-3-B: Radotín A-ABC Braník B
END:VEVENT
BEGIN:VEVENT
UID:37376631-3132-4535-b566-393331303039
DTSTAMP:20260422T205239Z
DESCRIPTION:16/79 Sokol Košíře A - ABC Braník B
DTSTART;TZID=Europe/Berlin:20260611T180000
DTEND;TZID=Europe/Berlin:20260611T200000
LOCATION:TJ Sokol Košíře Klamovka 2051\, Praha 5 - Smíchov\, 15000
SUMMARY:PP-Z-3-B: Sokol Košíře A-ABC Braník B
END:VEVENT
BEGIN:VEVENT
UID:39663465-3234-4362-b032-633135313338
DTSTAMP:20260422T205239Z
DESCRIPTION:18/88 Radotín B - ABC Braník B
DTSTART;TZID=Europe/Berlin:20260618T180000
DTEND;TZID=Europe/Berlin:20260618T200000
LOCATION:Sportovní areál Radotín K Lázním 1693/6a\, 153 00 Praha 5 - Radotí
 n
SUMMARY:PP-Z-3-B: Radotín B-ABC Braník B
END:VEVENT
END:VCALENDAR
