BEGIN:VCALENDAR
VERSION:2.0
PRODID:-//TJ Sokol Michle B91327//NONSGML kigkonsult.se iCalcreator 2.41.80//
CALSCALE:GREGORIAN
UID:64383265-6331-4133-b761-633466613834
BEGIN:VEVENT
UID:65346566-3165-4730-b861-303834616163
DTSTAMP:20260422T205234Z
DESCRIPTION:3/15 Sokol Michle B - ABC Braník B 0:3 (-20\,-22\,-20)
DTSTART;TZID=Europe/Berlin:20250909T173000
DTEND;TZID=Europe/Berlin:20250909T193000
LOCATION:Pod Stárkou 36/4\, 140 00 Praha 4\, hřiště: křižovatka ulic Pod St
 árkou a nad Vinným potokem
SUMMARY:PP-Z-3-B: Sokol Michle B-ABC Braník B
END:VEVENT
BEGIN:VEVENT
UID:37376564-3230-4534-a662-356336666232
DTSTAMP:20260422T205234Z
DESCRIPTION:5/24 Sokol Michle B - Sokol Řepy A 3:1 (-24\,23\,21\,12)
DTSTART;TZID=Europe/Berlin:20250916T173000
DTEND;TZID=Europe/Berlin:20250916T193000
LOCATION:Pod Stárkou 36/4\, 140 00 Praha 4\, hřiště: křižovatka ulic Pod St
 árkou a nad Vinným potokem
SUMMARY:PP-Z-3-B: Sokol Michle B-Sokol Řepy A
END:VEVENT
BEGIN:VEVENT
UID:65633966-6438-4562-b061-633139313134
DTSTAMP:20260422T205234Z
DESCRIPTION:7/33 Sokol Michle B - Střížkov B 1:3 (-9\,-13\,23\,-17)
DTSTART;TZID=Europe/Berlin:20250923T173000
DTEND;TZID=Europe/Berlin:20250923T193000
LOCATION:Pod Stárkou 36/4\, 140 00 Praha 4\, hřiště: křižovatka ulic Pod St
 árkou a nad Vinným potokem
SUMMARY:PP-Z-3-B: Sokol Michle B-Střížkov B
END:VEVENT
BEGIN:VEVENT
UID:39373535-3237-4564-a339-303561663234
DTSTAMP:20260422T205234Z
DESCRIPTION:9/42 Sokol Michle B - Spikes NebušiceSchrötter David
DTSTART;TZID=Europe/Berlin:20260507T180000
DTEND;TZID=Europe/Berlin:20260507T200000
LOCATION:Pod Stárkou 36/4\, 140 00 Praha 4\, hřiště: křižovatka ulic Pod St
 árkou a nad Vinným potokem
SUMMARY:PP-Z-3-B: Sokol Michle B-Spikes Nebušice
END:VEVENT
BEGIN:VEVENT
UID:64633831-3931-4039-a337-333965306139
DTSTAMP:20260422T205234Z
DESCRIPTION:10/50 Sokol Michle B - Sokol KunraticeSchrötter David
DTSTART;TZID=Europe/Berlin:20260512T180000
DTEND;TZID=Europe/Berlin:20260512T200000
LOCATION:Pod Stárkou 36/4\, 140 00 Praha 4\, hřiště: křižovatka ulic Pod St
 árkou a nad Vinným potokem
SUMMARY:PP-Z-3-B: Sokol Michle B-Sokol Kunratice
END:VEVENT
BEGIN:VEVENT
UID:30663335-3834-4337-b636-393239356236
DTSTAMP:20260422T205234Z
DESCRIPTION:11/51 Sokol Michle B - Tatran Střešovice DGlogar Andreas
DTSTART;TZID=Europe/Berlin:20260519T180000
DTEND;TZID=Europe/Berlin:20260519T200000
LOCATION:Pod Stárkou 36/4\, 140 00 Praha 4\, hřiště: křižovatka ulic Pod St
 árkou a nad Vinným potokem
SUMMARY:PP-Z-3-B: Sokol Michle B-Tatran Střešovice D
END:VEVENT
BEGIN:VEVENT
UID:65393535-6138-4731-b661-613031396432
DTSTAMP:20260422T205234Z
DESCRIPTION:13/62 Sokol Michle B - Radotín A
DTSTART;TZID=Europe/Berlin:20260528T180000
DTEND;TZID=Europe/Berlin:20260528T200000
LOCATION:Pod Stárkou 36/4\, 140 00 Praha 4\, hřiště: křižovatka ulic Pod St
 árkou a nad Vinným potokem
SUMMARY:PP-Z-3-B: Sokol Michle B-Radotín A
END:VEVENT
BEGIN:VEVENT
UID:37653561-6432-4634-a238-336665633630
DTSTAMP:20260422T205234Z
DESCRIPTION:15/73 Sokol Michle B - Sokol Košíře A
DTSTART;TZID=Europe/Berlin:20260604T180000
DTEND;TZID=Europe/Berlin:20260604T200000
LOCATION:Pod Stárkou 36/4\, 140 00 Praha 4\, hřiště: křižovatka ulic Pod St
 árkou a nad Vinným potokem
SUMMARY:PP-Z-3-B: Sokol Michle B-Sokol Košíře A
END:VEVENT
BEGIN:VEVENT
UID:39353464-6364-4364-b866-396339373339
DTSTAMP:20260422T205234Z
DESCRIPTION:17/84 Sokol Michle B - Radotín B
DTSTART;TZID=Europe/Berlin:20260616T180000
DTEND;TZID=Europe/Berlin:20260616T200000
LOCATION:Pod Stárkou 36/4\, 140 00 Praha 4\, hřiště: křižovatka ulic Pod St
 árkou a nad Vinným potokem
SUMMARY:PP-Z-3-B: Sokol Michle B-Radotín B
END:VEVENT
BEGIN:VEVENT
UID:62613362-6564-4365-b139-393361636561
DTSTAMP:20260422T205234Z
DESCRIPTION:1/5 Sokol Kunratice - Sokol Michle B 3:2 (-24\,18\,-20\,23\,14)
DTSTART;TZID=Europe/Berlin:20250902T173000
DTEND;TZID=Europe/Berlin:20250902T193000
LOCATION:TJ Sokol Kunratice K Šeberáku 161/16\, 148 00 Praha - Kunratice
SUMMARY:PP-Z-3-B: Sokol Kunratice-Sokol Michle B
END:VEVENT
BEGIN:VEVENT
UID:35323866-6532-4439-a134-643130333534
DTSTAMP:20260422T205234Z
DESCRIPTION:2/6 Tatran Střešovice D - Sokol Michle B 3:1 (22\,-24\,21\,14)
DTSTART;TZID=Europe/Berlin:20250904T173000
DTEND;TZID=Europe/Berlin:20250904T193000
LOCATION:Tatran Střešovice - antukové hřiště Praha 6\, Sibeliova 362\, 162 
 00
SUMMARY:PP-Z-3-B: Tatran Střešovice D-Sokol Michle B
END:VEVENT
BEGIN:VEVENT
UID:30313836-3938-4532-b832-383134613966
DTSTAMP:20260422T205234Z
DESCRIPTION:4/17 Radotín A - Sokol Michle B 2:3 (-12\,-21\,19\,21\,-7)
DTSTART;TZID=Europe/Berlin:20250911T173000
DTEND;TZID=Europe/Berlin:20250911T193000
LOCATION:Sportovní areál Radotín K Lázním 1693/6a\, 153 00 Praha 5 - Radotí
 n
SUMMARY:PP-Z-3-B: Radotín A-Sokol Michle B
END:VEVENT
BEGIN:VEVENT
UID:62656532-3361-4965-b433-303164636361
DTSTAMP:20260422T205234Z
DESCRIPTION:6/28 Sokol Košíře A - Sokol Michle B 0:3 (-21\,-20\,-20)
DTSTART;TZID=Europe/Berlin:20250918T173000
DTEND;TZID=Europe/Berlin:20250918T193000
LOCATION:TJ Sokol Košíře Klamovka 2051\, Praha 5 - Smíchov\, 15000
SUMMARY:PP-Z-3-B: Sokol Košíře A-Sokol Michle B
END:VEVENT
BEGIN:VEVENT
UID:64656633-3266-4632-a636-666361653462
DTSTAMP:20260422T205234Z
DESCRIPTION:8/39 Radotín B - Sokol Michle BŠvitorka Pavel
DTSTART;TZID=Europe/Berlin:20260505T180000
DTEND;TZID=Europe/Berlin:20260505T200000
LOCATION:Sportovní areál Radotín K Lázním 1693/6a\, 153 00 Praha 5 - Radotí
 n
SUMMARY:PP-Z-3-B: Radotín B-Sokol Michle B
END:VEVENT
BEGIN:VEVENT
UID:32616139-3933-4135-a161-663361643935
DTSTAMP:20260422T205234Z
DESCRIPTION:12/60 ABC Braník B - Sokol Michle BKobliha Václav
DTSTART;TZID=Europe/Berlin:20260521T180000
DTEND;TZID=Europe/Berlin:20260521T200000
LOCATION:TJ ABC Braník Za Mlýnem 10\, 147 00 Praha 4
SUMMARY:PP-Z-3-B: ABC Braník B-Sokol Michle B
END:VEVENT
BEGIN:VEVENT
UID:35366265-3737-4639-b663-643330346661
DTSTAMP:20260422T205234Z
DESCRIPTION:14/69 Sokol Řepy A - Sokol Michle B
DTSTART;TZID=Europe/Berlin:20260602T180000
DTEND;TZID=Europe/Berlin:20260602T200000
LOCATION:Antukové kurty za Sokolovnou Na Chobotě  125\, Praha 17\, Řepy\, 1
 63 00
SUMMARY:PP-Z-3-B: Sokol Řepy A-Sokol Michle B
END:VEVENT
BEGIN:VEVENT
UID:62623761-3131-4532-b765-363063363239
DTSTAMP:20260422T205234Z
DESCRIPTION:16/78 Střížkov B - Sokol Michle B
DTSTART;TZID=Europe/Berlin:20260611T180000
DTEND;TZID=Europe/Berlin:20260611T200000
LOCATION:Habartická 200/5\, 190 00 Praha 9 - Střížkov
SUMMARY:PP-Z-3-B: Střížkov B-Sokol Michle B
END:VEVENT
BEGIN:VEVENT
UID:33323566-3963-4262-b232-366434653836
DTSTAMP:20260422T205234Z
DESCRIPTION:18/87 Spikes Nebušice - Sokol Michle B
DTSTART;TZID=Europe/Berlin:20260618T180000
DTEND;TZID=Europe/Berlin:20260618T200000
LOCATION:TJ Tatran Střešovice\, Sibeliova ul.\, 162 00 Praha 6
SUMMARY:PP-Z-3-B: Spikes Nebušice-Sokol Michle B
END:VEVENT
END:VCALENDAR
