BEGIN:VCALENDAR
VERSION:2.0
PRODID:-//USK Slavia Plzeň U1891393//NONSGML kigkonsult.se iCalcreator 2.41.80//
CALSCALE:GREGORIAN
UID:66333136-6634-4461-a533-646361383431
BEGIN:VEVENT
UID:35666237-3835-4562-b238-363861656364
DTSTAMP:20260422T075509Z
DESCRIPTION:2/8 USK Slavia U18 - Sokol Valcha 0:3 (-15\,-5\,-12)
DTSTART;TZID=Europe/Berlin:20250909T173000
DTEND;TZID=Europe/Berlin:20250909T193000
LOCATION:, Cukrovarská 5 Plzeň - Jižní Předměstí
SUMMARY:PM-M-1: USK Slavia U18-Sokol Valcha
END:VEVENT
BEGIN:VEVENT
UID:62353038-3337-4462-b830-363530383664
DTSTAMP:20260422T075509Z
DESCRIPTION:4/17 USK Slavia U18 - TJ Plzeň - Bílá Hora\, z.s. 1:3 (-12\,-16
 \,16\,-11)
DTSTART;TZID=Europe/Berlin:20250916T173000
DTEND;TZID=Europe/Berlin:20250916T193000
LOCATION:, Cukrovarská 5 Plzeň - Jižní Předměstí
SUMMARY:PM-M-1: USK Slavia U18-TJ Plzeň - Bílá Hora\, z.s.
END:VEVENT
BEGIN:VEVENT
UID:31366365-3366-4761-b061-393431643362
DTSTAMP:20260422T075509Z
DESCRIPTION:6/30 USK Slavia U18 - Košutka 0:3 (-11\,-10\,-16)
DTSTART;TZID=Europe/Berlin:20250923T173000
DTEND;TZID=Europe/Berlin:20250923T193000
LOCATION:, Cukrovarská 5 Plzeň - Jižní Předměstí
SUMMARY:PM-M-1: USK Slavia U18-Košutka
END:VEVENT
BEGIN:VEVENT
UID:30623131-3636-4661-b732-386334643336
DTSTAMP:20260422T075509Z
DESCRIPTION:8/39 USK Slavia U18 - Tělovýchovná jednota Slavoj StodPaulík Ja
 roslav
DTSTART;TZID=Europe/Berlin:20260505T173000
DTEND;TZID=Europe/Berlin:20260505T193000
LOCATION:, Cukrovarská 5 Plzeň - Jižní Předměstí
SUMMARY:PM-M-1: USK Slavia U18-Tělovýchovná jednota Slavoj Stod
END:VEVENT
BEGIN:VEVENT
UID:37323263-3738-4437-b761-313435633234
DTSTAMP:20260422T075509Z
DESCRIPTION:9/43 USK Slavia U18 - USK Slavia Plzeň\, z.s.Paulík Jaroslav
DTSTART;TZID=Europe/Berlin:20260512T173000
DTEND;TZID=Europe/Berlin:20260512T193000
LOCATION:, Cukrovarská 5 Plzeň - Jižní Předměstí
SUMMARY:PM-M-1: USK Slavia U18-USK Slavia Plzeň\, z.s.
END:VEVENT
BEGIN:VEVENT
UID:37363030-6133-4365-a334-303164306132
DTSTAMP:20260422T075509Z
DESCRIPTION:12/59 USK Slavia U18 - TJ Sokol Plzeň - Doubravka 'B'Paulík Jar
 oslav
DTSTART;TZID=Europe/Berlin:20260526T173000
DTEND;TZID=Europe/Berlin:20260526T193000
LOCATION:, Cukrovarská 5 Plzeň - Jižní Předměstí
SUMMARY:PM-M-1: USK Slavia U18-TJ Sokol Plzeň - Doubravka 'B'
END:VEVENT
BEGIN:VEVENT
UID:64666666-3635-4031-b262-303063376535
DTSTAMP:20260422T075509Z
DESCRIPTION:14/70 USK Slavia U18 - Tělocvičná jednota Sokol KaznějovPetrík 
 Štěpán
DTSTART;TZID=Europe/Berlin:20260602T173000
DTEND;TZID=Europe/Berlin:20260602T193000
LOCATION:, Cukrovarská 5 Plzeň - Jižní Předměstí
SUMMARY:PM-M-1: USK Slavia U18-Tělocvičná jednota Sokol Kaznějov
END:VEVENT
BEGIN:VEVENT
UID:37396461-3561-4461-b536-323863653339
DTSTAMP:20260422T075509Z
DESCRIPTION:16/77 USK Slavia U18 - TJ Sokol Plzeň - Doubravka 'A'Petrík Ště
 pán
DTSTART;TZID=Europe/Berlin:20260609T173000
DTEND;TZID=Europe/Berlin:20260609T193000
LOCATION:, Cukrovarská 5 Plzeň - Jižní Předměstí
SUMMARY:PM-M-1: USK Slavia U18-TJ Sokol Plzeň - Doubravka 'A'
END:VEVENT
BEGIN:VEVENT
UID:61643935-6664-4432-a162-373238383935
DTSTAMP:20260422T075509Z
DESCRIPTION:1/3 USK Slavia Plzeň\, z.s. - USK Slavia U18 2:3 (-14\,-24\,19\
 ,25\,-10)
DTSTART;TZID=Europe/Berlin:20250904T173000
DTEND;TZID=Europe/Berlin:20250904T193000
LOCATION:, Cukrovarská 5 Plzeň - Jižní Předměstí
SUMMARY:PM-M-1: USK Slavia Plzeň\, z.s.-USK Slavia U18
END:VEVENT
BEGIN:VEVENT
UID:61666363-6331-4838-a233-323866323965
DTSTAMP:20260422T075509Z
DESCRIPTION:3/14 TJ Sokol Plzeň - Doubravka 'B' - USK Slavia U18 3:0 (4\,9\
 ,13)
DTSTART;TZID=Europe/Berlin:20250911T173000
DTEND;TZID=Europe/Berlin:20250911T193000
LOCATION:Sokolovna Plzeň - Doubravka\, Hřbitovní 873 Plzeň - Doubravka
SUMMARY:PM-M-1: TJ Sokol Plzeň - Doubravka 'B'-USK Slavia U18
END:VEVENT
BEGIN:VEVENT
UID:61313365-3634-4431-b737-386430366564
DTSTAMP:20260422T075509Z
DESCRIPTION:5/25 Tělocvičná jednota Sokol Kaznějov - USK Slavia U18 3:0 (21
 \,10\,4)
DTSTART;TZID=Europe/Berlin:20250918T173000
DTEND;TZID=Europe/Berlin:20250918T193000
LOCATION:, Plaská 559 Kaznějov
SUMMARY:PM-M-1: Tělocvičná jednota Sokol Kaznějov-USK Slavia U18
END:VEVENT
BEGIN:VEVENT
UID:64616331-3239-4737-b261-316530373466
DTSTAMP:20260422T075509Z
DESCRIPTION:10/47 TJ Sokol Plzeň - Doubravka 'A' - USK Slavia U18Koutský Mi
 lan
DTSTART;TZID=Europe/Berlin:20260514T173000
DTEND;TZID=Europe/Berlin:20260514T193000
LOCATION:Sokolovna Plzeň - Doubravka\, Hřbitovní 873 Plzeň - Doubravka
SUMMARY:PM-M-1: TJ Sokol Plzeň - Doubravka 'A'-USK Slavia U18
END:VEVENT
BEGIN:VEVENT
UID:65656638-3039-4461-b030-353263626234
DTSTAMP:20260422T075509Z
DESCRIPTION:11/53 Sokol Valcha - USK Slavia U18Mertins Jan
DTSTART;TZID=Europe/Berlin:20260519T173000
DTEND;TZID=Europe/Berlin:20260519T193000
LOCATION:, K Zelené louce 90 Plzeň - Valcha
SUMMARY:PM-M-1: Sokol Valcha-USK Slavia U18
END:VEVENT
BEGIN:VEVENT
UID:63636661-3437-4766-b732-656237373531
DTSTAMP:20260422T075509Z
DESCRIPTION:13/62 TJ Plzeň - Bílá Hora\, z.s. - USK Slavia U18Urban Marek
DTSTART;TZID=Europe/Berlin:20260528T173000
DTEND;TZID=Europe/Berlin:20260528T193000
LOCATION:TJ Bílá Hora\, Nad Štolou 716 Plzeň - Bolevec
SUMMARY:PM-M-1: TJ Plzeň - Bílá Hora\, z.s.-USK Slavia U18
END:VEVENT
BEGIN:VEVENT
UID:66333030-3931-4633-b064-643337666162
DTSTAMP:20260422T075509Z
DESCRIPTION:17/85 Košutka - USK Slavia U18Petrík Štěpán
DTSTART;TZID=Europe/Berlin:20260611T173000
DTEND;TZID=Europe/Berlin:20260611T193000
LOCATION:, V Lomech 1032 Plzeň - Bolevec
SUMMARY:PM-M-1: Košutka-USK Slavia U18
END:VEVENT
BEGIN:VEVENT
UID:38643465-6631-4138-b636-643134396231
DTSTAMP:20260422T075509Z
DESCRIPTION:18/89 Tělovýchovná jednota Slavoj Stod - USK Slavia U18
DTSTART;TZID=Europe/Berlin:20260618T173000
DTEND;TZID=Europe/Berlin:20260618T193000
LOCATION:Sportovní hala\, Hradecká 538 Stod
SUMMARY:PM-M-1: Tělovýchovná jednota Slavoj Stod-USK Slavia U18
END:VEVENT
END:VCALENDAR
