BEGIN:VCALENDAR
VERSION:2.0
PRODID:-//TJ Plzeň - Bílá Hora, z.s.91400//NONSGML kigkonsult.se iCalcreator 2.41.80//
CALSCALE:GREGORIAN
UID:34663562-3162-4230-a631-633535633937
BEGIN:VEVENT
UID:66393165-3365-4663-b436-663765353532
DTSTAMP:20260422T183053Z
DESCRIPTION:3/15 TJ Plzeň - Bílá Hora\, z.s. - Tělocvičná jednota Sokol Kaz
 nějov 2:3 (-12\,-18\,26\,21\,-9)
DTSTART;TZID=Europe/Berlin:20250911T173000
DTEND;TZID=Europe/Berlin:20250911T193000
LOCATION:TJ Bílá Hora\, Nad Štolou 716 Plzeň - Bolevec
SUMMARY:PM-M-1: TJ Plzeň - Bílá Hora\, z.s.-Tělocvičná jednota Sokol Kazněj
 ov
END:VEVENT
BEGIN:VEVENT
UID:63623539-3033-4238-a334-633065366566
DTSTAMP:20260422T183053Z
DESCRIPTION:5/24 TJ Plzeň - Bílá Hora\, z.s. - Košutka 0:3 (-22\,-23\,-20)
DTSTART;TZID=Europe/Berlin:20250918T173000
DTEND;TZID=Europe/Berlin:20250918T193000
LOCATION:TJ Bílá Hora\, Nad Štolou 716 Plzeň - Bolevec
SUMMARY:PM-M-1: TJ Plzeň - Bílá Hora\, z.s.-Košutka
END:VEVENT
BEGIN:VEVENT
UID:37636230-3838-4162-a332-663036653232
DTSTAMP:20260422T183053Z
DESCRIPTION:6/28 TJ Plzeň - Bílá Hora\, z.s. - Tělovýchovná jednota Slavoj 
 Stod 0:3 (-20\,-23\,-24)\nOdloženo
DTSTART;TZID=Europe/Berlin:20250930T173000
DTEND;TZID=Europe/Berlin:20250930T193000
LOCATION:TJ Bílá Hora\, Nad Štolou 716 Plzeň - Bolevec
SUMMARY:PM-M-1: TJ Plzeň - Bílá Hora\, z.s.-Tělovýchovná jednota Slavoj Sto
 d
END:VEVENT
BEGIN:VEVENT
UID:65663564-3930-4137-b130-643137373639
DTSTAMP:20260422T183053Z
DESCRIPTION:8/37 TJ Plzeň - Bílá Hora\, z.s. - Sokol ValchaUrban Marek
DTSTART;TZID=Europe/Berlin:20260505T173000
DTEND;TZID=Europe/Berlin:20260505T193000
LOCATION:TJ Bílá Hora\, Nad Štolou 716 Plzeň - Bolevec
SUMMARY:PM-M-1: TJ Plzeň - Bílá Hora\, z.s.-Sokol Valcha
END:VEVENT
BEGIN:VEVENT
UID:65636465-3432-4037-b664-633135623838
DTSTAMP:20260422T183053Z
DESCRIPTION:9/45 TJ Plzeň - Bílá Hora\, z.s. - TJ Sokol Plzeň - Doubravka '
 B'Dvořák Otakar
DTSTART;TZID=Europe/Berlin:20260512T173000
DTEND;TZID=Europe/Berlin:20260512T193000
LOCATION:TJ Bílá Hora\, Nad Štolou 716 Plzeň - Bolevec
SUMMARY:PM-M-1: TJ Plzeň - Bílá Hora\, z.s.-TJ Sokol Plzeň - Doubravka 'B'
END:VEVENT
BEGIN:VEVENT
UID:31356264-6539-4835-a538-303066356461
DTSTAMP:20260422T183053Z
DESCRIPTION:13/62 TJ Plzeň - Bílá Hora\, z.s. - USK Slavia U18Urban Marek
DTSTART;TZID=Europe/Berlin:20260528T173000
DTEND;TZID=Europe/Berlin:20260528T193000
LOCATION:TJ Bílá Hora\, Nad Štolou 716 Plzeň - Bolevec
SUMMARY:PM-M-1: TJ Plzeň - Bílá Hora\, z.s.-USK Slavia U18
END:VEVENT
BEGIN:VEVENT
UID:66626564-3836-4866-b138-323339316665
DTSTAMP:20260422T183053Z
DESCRIPTION:15/73 TJ Plzeň - Bílá Hora\, z.s. - TJ Sokol Plzeň - Doubravka 
 'A'Paulík Jaroslav
DTSTART;TZID=Europe/Berlin:20260604T173000
DTEND;TZID=Europe/Berlin:20260604T193000
LOCATION:TJ Bílá Hora\, Nad Štolou 716 Plzeň - Bolevec
SUMMARY:PM-M-1: TJ Plzeň - Bílá Hora\, z.s.-TJ Sokol Plzeň - Doubravka 'A'
END:VEVENT
BEGIN:VEVENT
UID:30616366-6639-4862-b032-656233343762
DTSTAMP:20260422T183053Z
DESCRIPTION:16/79 TJ Plzeň - Bílá Hora\, z.s. - USK Slavia Plzeň\, z.s.Dvoř
 ák Otakar
DTSTART;TZID=Europe/Berlin:20260609T173000
DTEND;TZID=Europe/Berlin:20260609T193000
LOCATION:TJ Bílá Hora\, Nad Štolou 716 Plzeň - Bolevec
SUMMARY:PM-M-1: TJ Plzeň - Bílá Hora\, z.s.-USK Slavia Plzeň\, z.s.
END:VEVENT
BEGIN:VEVENT
UID:35663961-6335-4964-b439-633536653535
DTSTAMP:20260422T183053Z
DESCRIPTION:1/5 TJ Sokol Plzeň - Doubravka 'B' - TJ Plzeň - Bílá Hora\, z.s
 . 3:0 (22\,16\,14)
DTSTART;TZID=Europe/Berlin:20250904T173000
DTEND;TZID=Europe/Berlin:20250904T193000
LOCATION:Sokolovna Plzeň - Doubravka\, Hřbitovní 873 Plzeň - Doubravka
SUMMARY:PM-M-1: TJ Sokol Plzeň - Doubravka 'B'-TJ Plzeň - Bílá Hora\, z.s.
END:VEVENT
BEGIN:VEVENT
UID:61626635-6666-4936-a431-373836326361
DTSTAMP:20260422T183053Z
DESCRIPTION:4/17 USK Slavia U18 - TJ Plzeň - Bílá Hora\, z.s. 1:3 (-12\,-16
 \,16\,-11)
DTSTART;TZID=Europe/Berlin:20250916T173000
DTEND;TZID=Europe/Berlin:20250916T193000
LOCATION:, Cukrovarská 5 Plzeň - Jižní Předměstí
SUMMARY:PM-M-1: USK Slavia U18-TJ Plzeň - Bílá Hora\, z.s.
END:VEVENT
BEGIN:VEVENT
UID:61303337-3930-4737-a664-336434383236
DTSTAMP:20260422T183053Z
DESCRIPTION:7/33 TJ Sokol Plzeň - Doubravka 'A' - TJ Plzeň - Bílá Hora\, z.
 s.Koutský Milan\nOdloženo
DTSTART;TZID=Europe/Berlin:20250925T173000
DTEND;TZID=Europe/Berlin:20250925T193000
LOCATION:Sokolovna Plzeň - Doubravka\, Hřbitovní 873 Plzeň - Doubravka
SUMMARY:PM-M-1: TJ Sokol Plzeň - Doubravka 'A'-TJ Plzeň - Bílá Hora\, z.s.
END:VEVENT
BEGIN:VEVENT
UID:61326538-3163-4836-b162-383930653564
DTSTAMP:20260422T183053Z
DESCRIPTION:10/49 USK Slavia Plzeň\, z.s. - TJ Plzeň - Bílá Hora\, z.s.Urba
 n Marek
DTSTART;TZID=Europe/Berlin:20260514T173000
DTEND;TZID=Europe/Berlin:20260514T193000
LOCATION:, Cukrovarská 5 Plzeň - Jižní Předměstí
SUMMARY:PM-M-1: USK Slavia Plzeň\, z.s.-TJ Plzeň - Bílá Hora\, z.s.
END:VEVENT
BEGIN:VEVENT
UID:65353438-6439-4434-a534-363039336537
DTSTAMP:20260422T183053Z
DESCRIPTION:12/60 Tělocvičná jednota Sokol Kaznějov - TJ Plzeň - Bílá Hora\
 , z.s.Vašíček Vladimír
DTSTART;TZID=Europe/Berlin:20260526T173000
DTEND;TZID=Europe/Berlin:20260526T193000
LOCATION:, Plaská 559 Kaznějov
SUMMARY:PM-M-1: Tělocvičná jednota Sokol Kaznějov-TJ Plzeň - Bílá Hora\, z.
 s.
END:VEVENT
BEGIN:VEVENT
UID:65333330-3237-4234-a134-663234663761
DTSTAMP:20260422T183053Z
DESCRIPTION:14/69 Košutka - TJ Plzeň - Bílá Hora\, z.s.Dvořák Otakar
DTSTART;TZID=Europe/Berlin:20260602T173000
DTEND;TZID=Europe/Berlin:20260602T193000
LOCATION:, V Lomech 1032 Plzeň - Bolevec
SUMMARY:PM-M-1: Košutka-TJ Plzeň - Bílá Hora\, z.s.
END:VEVENT
BEGIN:VEVENT
UID:30343965-3364-4632-b065-363938393035
DTSTAMP:20260422T183053Z
DESCRIPTION:17/83 Tělovýchovná jednota Slavoj Stod - TJ Plzeň - Bílá Hora\,
  z.s.Mertins Jan
DTSTART;TZID=Europe/Berlin:20260611T173000
DTEND;TZID=Europe/Berlin:20260611T193000
LOCATION:Sportovní hala\, Hradecká 538 Stod
SUMMARY:PM-M-1: Tělovýchovná jednota Slavoj Stod-TJ Plzeň - Bílá Hora\, z.s
 .
END:VEVENT
BEGIN:VEVENT
UID:34633733-6338-4130-b034-323638333464
DTSTAMP:20260422T183053Z
DESCRIPTION:18/87 Sokol Valcha - TJ Plzeň - Bílá Hora\, z.s.Mertins Jan
DTSTART;TZID=Europe/Berlin:20260618T173000
DTEND;TZID=Europe/Berlin:20260618T193000
LOCATION:, K Zelené louce 90 Plzeň - Valcha
SUMMARY:PM-M-1: Sokol Valcha-TJ Plzeň - Bílá Hora\, z.s.
END:VEVENT
END:VCALENDAR
