BEGIN:VCALENDAR
VERSION:2.0
PRODID:-//TJ Asociace sportovních klubů Blansko, z.s. A91453//NONSGML kigkonsult.se iCalcreator 2.41.80//
CALSCALE:GREGORIAN
UID:35353966-3933-4462-b139-626139306633
BEGIN:VEVENT
UID:35363536-6664-4364-b639-663338323464
DTSTAMP:20260422T052934Z
DESCRIPTION:6/6 Blansko A - Křenovice H 1:2 (14\,-19\,-11)
DTSTART;TZID=Europe/Berlin:20250914T124500
DTEND;TZID=Europe/Berlin:20250914T144500
SUMMARY:VYS-U16Z-1B: Blansko A-Křenovice H
END:VEVENT
BEGIN:VEVENT
UID:61326361-6235-4533-b437-663834343639
DTSTAMP:20260422T052934Z
DESCRIPTION:2/2 Šlapanice A - Blansko A 2:1 (15\,-16\,7)
DTSTART;TZID=Europe/Berlin:20250921T094500
DTEND;TZID=Europe/Berlin:20250921T114500
SUMMARY:VYS-U16Z-1B: Šlapanice A-Blansko A
END:VEVENT
BEGIN:VEVENT
UID:32393661-6365-4431-b131-343030633931
DTSTAMP:20260422T052934Z
DESCRIPTION:3/3 Orel Křenovice A - Blansko A 2:1 (11\,-18\,11)
DTSTART;TZID=Europe/Berlin:20250921T103000
DTEND;TZID=Europe/Berlin:20250921T123000
SUMMARY:VYS-U16Z-1B: Orel Křenovice A-Blansko A
END:VEVENT
BEGIN:VEVENT
UID:31323439-6332-4664-b663-363638303637
DTSTAMP:20260422T052934Z
DESCRIPTION:6/6 Blansko A - Vyškov D 2:1 (-25\,20\,11)
DTSTART;TZID=Europe/Berlin:20251012T124500
DTEND;TZID=Europe/Berlin:20251012T144500
SUMMARY:VYS-U16Z-2C: Blansko A-Vyškov D
END:VEVENT
BEGIN:VEVENT
UID:33343831-6666-4635-b565-303834663035
DTSTAMP:20260422T052934Z
DESCRIPTION:2/2 Hrušky H - Blansko A 2:0 (20\,22)
DTSTART;TZID=Europe/Berlin:20251012T094500
DTEND;TZID=Europe/Berlin:20251012T114500
SUMMARY:VYS-U16Z-2C: Hrušky H-Blansko A
END:VEVENT
BEGIN:VEVENT
UID:38333937-3534-4336-a232-386164356131
DTSTAMP:20260422T052934Z
DESCRIPTION:3/3 Slavkov H - Blansko A 0:2 (-22\,-20)
DTSTART;TZID=Europe/Berlin:20251012T103000
DTEND;TZID=Europe/Berlin:20251012T123000
SUMMARY:VYS-U16Z-2C: Slavkov H-Blansko A
END:VEVENT
BEGIN:VEVENT
UID:37643337-6635-4835-b265-316236336661
DTSTAMP:20260422T052934Z
DESCRIPTION:6/6 Blansko A - Vyškov D 0:2 (-23\,-14)
DTSTART;TZID=Europe/Berlin:20251122T124500
DTEND;TZID=Europe/Berlin:20251122T144500
SUMMARY:VYS-U16Z-3C: Blansko A-Vyškov D
END:VEVENT
BEGIN:VEVENT
UID:62356665-6630-4362-b438-306434343036
DTSTAMP:20260422T052934Z
DESCRIPTION:2/2 Sport Bučovice A - Blansko A 2:0 (19\,22)
DTSTART;TZID=Europe/Berlin:20251122T094500
DTEND;TZID=Europe/Berlin:20251122T114500
SUMMARY:VYS-U16Z-3C: Sport Bučovice A-Blansko A
END:VEVENT
BEGIN:VEVENT
UID:38616464-3830-4837-b636-346666626262
DTSTAMP:20260422T052934Z
DESCRIPTION:3/3 Pozořice A - Blansko A 2:0 (19\,20)
DTSTART;TZID=Europe/Berlin:20251122T103000
DTEND;TZID=Europe/Berlin:20251122T123000
SUMMARY:VYS-U16Z-3C: Pozořice A-Blansko A
END:VEVENT
BEGIN:VEVENT
UID:65333733-6538-4338-a263-363164383664
DTSTAMP:20260422T052934Z
DESCRIPTION:3/3 Blansko A - Vyškov B 2:0 (10\,6)
DTSTART;TZID=Europe/Berlin:20251207T103000
DTEND;TZID=Europe/Berlin:20251207T123000
SUMMARY:VYS-U16Z-4D: Blansko A-Vyškov B
END:VEVENT
BEGIN:VEVENT
UID:32363966-3664-4363-b032-373533306165
DTSTAMP:20260422T052934Z
DESCRIPTION:1/1 Rousínov D - Blansko A 2:1 (-15\,18\,10)
DTSTART;TZID=Europe/Berlin:20251207T090000
DTEND;TZID=Europe/Berlin:20251207T110000
SUMMARY:VYS-U16Z-4D: Rousínov D-Blansko A
END:VEVENT
BEGIN:VEVENT
UID:63346539-6330-4964-a237-643234643331
DTSTAMP:20260422T052934Z
DESCRIPTION:5/5 Vyškov H - Blansko A 0:2 (-10\,-9)
DTSTART;TZID=Europe/Berlin:20251207T120000
DTEND;TZID=Europe/Berlin:20251207T140000
SUMMARY:VYS-U16Z-4D: Vyškov H-Blansko A
END:VEVENT
BEGIN:VEVENT
UID:30656261-3137-4062-a339-623534656235
DTSTAMP:20260422T052934Z
DESCRIPTION:2/2 Blansko A - Vyškov B 1:0 (0)
DTSTART;TZID=Europe/Berlin:20260118T094500
DTEND;TZID=Europe/Berlin:20260118T114500
SUMMARY:VYS-U16Z-5D: Blansko A-Vyškov B
END:VEVENT
BEGIN:VEVENT
UID:35383831-6432-4166-b462-323461396466
DTSTAMP:20260422T052934Z
DESCRIPTION:5/5 Blansko A - Sport Bučovice B 2:0 (19\,17)
DTSTART;TZID=Europe/Berlin:20260118T120000
DTEND;TZID=Europe/Berlin:20260118T140000
SUMMARY:VYS-U16Z-5D: Blansko A-Sport Bučovice B
END:VEVENT
BEGIN:VEVENT
UID:64333835-3466-4338-b965-653737613736
DTSTAMP:20260422T052934Z
DESCRIPTION:4/4 Sport Bučovice A - Blansko A 0:2 (-20\,-18)
DTSTART;TZID=Europe/Berlin:20260118T111500
DTEND;TZID=Europe/Berlin:20260118T131500
SUMMARY:VYS-U16Z-5D: Sport Bučovice A-Blansko A
END:VEVENT
BEGIN:VEVENT
UID:35633231-6237-4235-a538-386566626461
DTSTAMP:20260422T052934Z
DESCRIPTION:3/3 Blansko A - Hrušky H 0:2 (-23\,-11)
DTSTART;TZID=Europe/Berlin:20260208T103000
DTEND;TZID=Europe/Berlin:20260208T123000
SUMMARY:VYS-U16Z-6C: Blansko A-Hrušky H
END:VEVENT
BEGIN:VEVENT
UID:64366238-3864-4034-b632-656663343863
DTSTAMP:20260422T052934Z
DESCRIPTION:1/1 Šlapanice A - Blansko A 2:0 (19\,17)
DTSTART;TZID=Europe/Berlin:20260208T090000
DTEND;TZID=Europe/Berlin:20260208T110000
SUMMARY:VYS-U16Z-6C: Šlapanice A-Blansko A
END:VEVENT
BEGIN:VEVENT
UID:36643438-6663-4538-b963-646531316438
DTSTAMP:20260422T052934Z
DESCRIPTION:5/5 Pozořice A - Blansko A 1:2 (20\,-15\,-8)
DTSTART;TZID=Europe/Berlin:20260208T120000
DTEND;TZID=Europe/Berlin:20260208T140000
SUMMARY:VYS-U16Z-6C: Pozořice A-Blansko A
END:VEVENT
BEGIN:VEVENT
UID:39303363-3637-4462-b336-626366643239
DTSTAMP:20260422T052934Z
DESCRIPTION:3/3 Blansko A - Rousínov D 2:0 (18\,9)
DTSTART;TZID=Europe/Berlin:20260329T103000
DTEND;TZID=Europe/Berlin:20260329T123000
SUMMARY:VYS-U16Z-7D: Blansko A-Rousínov D
END:VEVENT
BEGIN:VEVENT
UID:65366437-6462-4432-a632-643232386261
DTSTAMP:20260422T052934Z
DESCRIPTION:1/1 Šlapanice B - Blansko A 0:2 (-11\,-11)
DTSTART;TZID=Europe/Berlin:20260329T090000
DTEND;TZID=Europe/Berlin:20260329T110000
SUMMARY:VYS-U16Z-7D: Šlapanice B-Blansko A
END:VEVENT
BEGIN:VEVENT
UID:64383366-6331-4062-a536-303266383337
DTSTAMP:20260422T052934Z
DESCRIPTION:5/5 Sport Bučovice B - Blansko A 0:2 (-10\,-9)
DTSTART;TZID=Europe/Berlin:20260329T120000
DTEND;TZID=Europe/Berlin:20260329T140000
SUMMARY:VYS-U16Z-7D: Sport Bučovice B-Blansko A
END:VEVENT
END:VCALENDAR
