BEGIN:VCALENDAR
VERSION:2.0
PRODID:-//VK Rousínov z.s. D91455//NONSGML kigkonsult.se iCalcreator 2.41.80//
CALSCALE:GREGORIAN
UID:32653562-3636-4266-b636-373437653034
BEGIN:VEVENT
UID:64396435-3238-4065-b431-626434643866
DTSTAMP:20260422T034529Z
DESCRIPTION:2/2 Rousínov D - Sport Bučovice B 1:2 (20\,-24\,-14)
DTSTART;TZID=Europe/Berlin:20250914T094500
DTEND;TZID=Europe/Berlin:20250914T114500
SUMMARY:VYS-U16Z-1D: Rousínov D-Sport Bučovice B
END:VEVENT
BEGIN:VEVENT
UID:38623839-6561-4838-b932-633766386565
DTSTAMP:20260422T034529Z
DESCRIPTION:5/5 Rousínov D - Vyškov B 2:1 (-12\,25\,7)
DTSTART;TZID=Europe/Berlin:20250914T120000
DTEND;TZID=Europe/Berlin:20250914T140000
SUMMARY:VYS-U16Z-1D: Rousínov D-Vyškov B
END:VEVENT
BEGIN:VEVENT
UID:35393035-6133-4439-a363-343465343532
DTSTAMP:20260422T034529Z
DESCRIPTION:4/4 Vyškov D - Rousínov D 2:0 (22\,12)
DTSTART;TZID=Europe/Berlin:20250914T111500
DTEND;TZID=Europe/Berlin:20250914T131500
SUMMARY:VYS-U16Z-1D: Vyškov D-Rousínov D
END:VEVENT
BEGIN:VEVENT
UID:39666566-6532-4463-b533-366332613065
DTSTAMP:20260422T034529Z
DESCRIPTION:1/1 Rousínov D - Pozořice A 1:2 (-20\,23\,-18)
DTSTART;TZID=Europe/Berlin:20251005T090000
DTEND;TZID=Europe/Berlin:20251005T110000
SUMMARY:VYS-U16Z-2D: Rousínov D-Pozořice A
END:VEVENT
BEGIN:VEVENT
UID:66663361-6238-4230-b135-356337346661
DTSTAMP:20260422T034529Z
DESCRIPTION:4/4 Rousínov D - Sport Bučovice B 2:1 (17\,-23\,5)
DTSTART;TZID=Europe/Berlin:20251005T111500
DTEND;TZID=Europe/Berlin:20251005T131500
SUMMARY:VYS-U16Z-2D: Rousínov D-Sport Bučovice B
END:VEVENT
BEGIN:VEVENT
UID:32333835-3539-4162-b536-336466373839
DTSTAMP:20260422T034529Z
DESCRIPTION:6/6 Vyškov H - Rousínov D 1:2 (22\,-20\,-13)
DTSTART;TZID=Europe/Berlin:20251005T124500
DTEND;TZID=Europe/Berlin:20251005T144500
SUMMARY:VYS-U16Z-2D: Vyškov H-Rousínov D
END:VEVENT
BEGIN:VEVENT
UID:32643035-3662-4164-b238-666138306466
DTSTAMP:20260422T034529Z
DESCRIPTION:1/1 Rousínov D - Vyškov E 2:0 (23\,21)
DTSTART;TZID=Europe/Berlin:20251102T090000
DTEND;TZID=Europe/Berlin:20251102T110000
SUMMARY:VYS-U16Z-3D: Rousínov D-Vyškov E
END:VEVENT
BEGIN:VEVENT
UID:37623965-3465-4133-b933-313033346664
DTSTAMP:20260422T034529Z
DESCRIPTION:4/4 Rousínov D - Slavkov H 0:2 (-21\,-14)
DTSTART;TZID=Europe/Berlin:20251102T111500
DTEND;TZID=Europe/Berlin:20251102T131500
SUMMARY:VYS-U16Z-3D: Rousínov D-Slavkov H
END:VEVENT
BEGIN:VEVENT
UID:32363365-3934-4166-b664-656264666164
DTSTAMP:20260422T034529Z
DESCRIPTION:6/6 Vyškov H - Rousínov D 0:2 (-13\,-28)
DTSTART;TZID=Europe/Berlin:20251102T124500
DTEND;TZID=Europe/Berlin:20251102T144500
SUMMARY:VYS-U16Z-3D: Vyškov H-Rousínov D
END:VEVENT
BEGIN:VEVENT
UID:38303332-3636-4564-b439-343830613734
DTSTAMP:20260422T034529Z
DESCRIPTION:1/1 Rousínov D - Blansko A 2:1 (-15\,18\,10)
DTSTART;TZID=Europe/Berlin:20251207T090000
DTEND;TZID=Europe/Berlin:20251207T110000
SUMMARY:VYS-U16Z-4D: Rousínov D-Blansko A
END:VEVENT
BEGIN:VEVENT
UID:65633663-6661-4565-b163-303832323761
DTSTAMP:20260422T034529Z
DESCRIPTION:4/4 Rousínov D - Vyškov H 2:0 (15\,23)
DTSTART;TZID=Europe/Berlin:20251207T111500
DTEND;TZID=Europe/Berlin:20251207T131500
SUMMARY:VYS-U16Z-4D: Rousínov D-Vyškov H
END:VEVENT
BEGIN:VEVENT
UID:38323036-3962-4738-b536-323631363938
DTSTAMP:20260422T034529Z
DESCRIPTION:6/6 Vyškov B - Rousínov D 0:2 (-15\,-17)
DTSTART;TZID=Europe/Berlin:20251207T124500
DTEND;TZID=Europe/Berlin:20251207T144500
SUMMARY:VYS-U16Z-4D: Vyškov B-Rousínov D
END:VEVENT
BEGIN:VEVENT
UID:36393761-6662-4231-b034-316561626630
DTSTAMP:20260422T034529Z
DESCRIPTION:3/3 Rousínov D - Pozořice A 0:2 (-13\,-15)
DTSTART;TZID=Europe/Berlin:20260118T103000
DTEND;TZID=Europe/Berlin:20260118T123000
SUMMARY:VYS-U16Z-5C: Rousínov D-Pozořice A
END:VEVENT
BEGIN:VEVENT
UID:30353436-6131-4463-a530-366330343137
DTSTAMP:20260422T034529Z
DESCRIPTION:1/1 Vyškov D - Rousínov D 2:0 (13\,16)
DTSTART;TZID=Europe/Berlin:20260118T090000
DTEND;TZID=Europe/Berlin:20260118T110000
SUMMARY:VYS-U16Z-5C: Vyškov D-Rousínov D
END:VEVENT
BEGIN:VEVENT
UID:61373061-3666-4138-b638-396133653065
DTSTAMP:20260422T034529Z
DESCRIPTION:5/5 Hrušky H - Rousínov D 1:2 (24\,-18\,-11)
DTSTART;TZID=Europe/Berlin:20260118T120000
DTEND;TZID=Europe/Berlin:20260118T140000
SUMMARY:VYS-U16Z-5C: Hrušky H-Rousínov D
END:VEVENT
BEGIN:VEVENT
UID:30376266-3862-4866-a364-616332376662
DTSTAMP:20260422T034529Z
DESCRIPTION:6/6 Rousínov D - Sport Bučovice A 0:2 (-16\,-19)
DTSTART;TZID=Europe/Berlin:20260208T124500
DTEND;TZID=Europe/Berlin:20260208T144500
SUMMARY:VYS-U16Z-6D: Rousínov D-Sport Bučovice A
END:VEVENT
BEGIN:VEVENT
UID:66363762-6639-4634-b238-343235303532
DTSTAMP:20260422T034529Z
DESCRIPTION:2/2 Sport Bučovice B - Rousínov D 0:2 (-16\,-12)
DTSTART;TZID=Europe/Berlin:20260208T094500
DTEND;TZID=Europe/Berlin:20260208T114500
SUMMARY:VYS-U16Z-6D: Sport Bučovice B-Rousínov D
END:VEVENT
BEGIN:VEVENT
UID:36333733-6263-4737-b863-386138313565
DTSTAMP:20260422T034529Z
DESCRIPTION:3/3 Vyškov H - Rousínov D 2:1 (-19\,12\,11)
DTSTART;TZID=Europe/Berlin:20260208T103000
DTEND;TZID=Europe/Berlin:20260208T123000
SUMMARY:VYS-U16Z-6D: Vyškov H-Rousínov D
END:VEVENT
BEGIN:VEVENT
UID:39303462-6365-4961-b763-646635663533
DTSTAMP:20260422T034529Z
DESCRIPTION:6/6 Rousínov D - Šlapanice B 2:0 (11\,14)
DTSTART;TZID=Europe/Berlin:20260329T124500
DTEND;TZID=Europe/Berlin:20260329T144500
SUMMARY:VYS-U16Z-7D: Rousínov D-Šlapanice B
END:VEVENT
BEGIN:VEVENT
UID:35633266-6530-4062-b464-373832376332
DTSTAMP:20260422T034529Z
DESCRIPTION:2/2 Sport Bučovice B - Rousínov D 1:2 (-13\,19\,-6)
DTSTART;TZID=Europe/Berlin:20260329T094500
DTEND;TZID=Europe/Berlin:20260329T114500
SUMMARY:VYS-U16Z-7D: Sport Bučovice B-Rousínov D
END:VEVENT
BEGIN:VEVENT
UID:62373637-3238-4163-a535-376131346465
DTSTAMP:20260422T034529Z
DESCRIPTION:3/3 Blansko A - Rousínov D 2:0 (18\,9)
DTSTART;TZID=Europe/Berlin:20260329T103000
DTEND;TZID=Europe/Berlin:20260329T123000
SUMMARY:VYS-U16Z-7D: Blansko A-Rousínov D
END:VEVENT
END:VCALENDAR
