BEGIN:VCALENDAR
VERSION:2.0
PRODID:-//TJ Orion Praha, z.s.91462//NONSGML kigkonsult.se iCalcreator 2.41.80//
CALSCALE:GREGORIAN
UID:64373134-6236-4337-a339-646464326261
BEGIN:VEVENT
UID:30636334-3637-4865-a436-343439663431
DTSTAMP:20260422T065049Z
DESCRIPTION:3/6 TJ Orion Praha\, z.s. - VK Sever Žatec 2:1 (-26\,21\,14)
DTSTART;TZID=Europe/Berlin:20250927T110000
DTEND;TZID=Europe/Berlin:20250927T130000
LOCATION:ZŠ Dolní Břežany\, Na Vršku 290 Dolní Břežany
SUMMARY:KV-U18Z-S1: TJ Orion Praha\, z.s.-VK Sever Žatec
END:VEVENT
BEGIN:VEVENT
UID:63623633-6531-4264-b938-666437643131
DTSTAMP:20260422T065049Z
DESCRIPTION:5/10 TJ Orion Praha\, z.s. - SKVD Ústí 2:0 (14\,25)
DTSTART;TZID=Europe/Berlin:20250927T130000
DTEND;TZID=Europe/Berlin:20250927T150000
LOCATION:ZŠ Dolní Břežany\, Na Vršku 290 Dolní Břežany
SUMMARY:KV-U18Z-S1: TJ Orion Praha\, z.s.-SKVD Ústí
END:VEVENT
BEGIN:VEVENT
UID:37663866-6634-4061-b137-353238663063
DTSTAMP:20260422T065049Z
DESCRIPTION:7/14 TJ Orion Praha\, z.s. - Volejbalový sportovní klub Baník S
 okolov\, z.s. 2:0 (13\,20)
DTSTART;TZID=Europe/Berlin:20250927T150000
DTEND;TZID=Europe/Berlin:20250927T170000
LOCATION:ZŠ Dolní Břežany\, Na Vršku 290 Dolní Břežany
SUMMARY:KV-U18Z-S1: TJ Orion Praha\, z.s.-Volejbalový sportovní klub Baník 
 Sokolov\, z.s.
END:VEVENT
BEGIN:VEVENT
UID:62343838-3832-4237-b638-396336656666
DTSTAMP:20260422T065049Z
DESCRIPTION:10/20 TJ Orion Praha\, z.s. - Volejbalový klub Karlovy Vary z.s
 . 2:0 (9\,14)
DTSTART;TZID=Europe/Berlin:20250928T090000
DTEND;TZID=Europe/Berlin:20250928T110000
LOCATION:ZŠ Dolní Břežany\, Na Vršku 290 Dolní Břežany
SUMMARY:KV-U18Z-S1: TJ Orion Praha\, z.s.-Volejbalový klub Karlovy Vary z.s
 .
END:VEVENT
BEGIN:VEVENT
UID:34343134-6231-4964-a364-656532643635
DTSTAMP:20260422T065049Z
DESCRIPTION:12/24 TJ Orion Praha\, z.s. - TJ Lokomotiva Plzeň z.s. 2:0 (16\
 ,17)
DTSTART;TZID=Europe/Berlin:20250928T110000
DTEND;TZID=Europe/Berlin:20250928T130000
LOCATION:ZŠ Dolní Břežany\, Na Vršku 290 Dolní Břežany
SUMMARY:KV-U18Z-S1: TJ Orion Praha\, z.s.-TJ Lokomotiva Plzeň z.s.
END:VEVENT
BEGIN:VEVENT
UID:30383132-3831-4366-b136-383966323135
DTSTAMP:20260422T065049Z
DESCRIPTION:14/28 TJ Orion Praha\, z.s. - BVC Chodov 2:0 (7\,7)
DTSTART;TZID=Europe/Berlin:20250928T130000
DTEND;TZID=Europe/Berlin:20250928T150000
LOCATION:ZŠ Dolní Břežany\, Na Vršku 290 Dolní Břežany
SUMMARY:KV-U18Z-S1: TJ Orion Praha\, z.s.-BVC Chodov
END:VEVENT
BEGIN:VEVENT
UID:34636661-3262-4439-a337-366565313961
DTSTAMP:20260422T065049Z
DESCRIPTION:1/1 VK Šanov Teplice\, z.s. - TJ Orion Praha\, z.s. 0:2 (-14\,-
 20)
DTSTART;TZID=Europe/Berlin:20250927T090000
DTEND;TZID=Europe/Berlin:20250927T110000
LOCATION:ZŠ Edisonova Teplice\, Edisonova 1732 Teplice - Trnovany
SUMMARY:KV-U18Z-S1: VK Šanov Teplice\, z.s.-TJ Orion Praha\, z.s.
END:VEVENT
BEGIN:VEVENT
UID:31343939-3238-4262-b763-656635663830
DTSTAMP:20260422T065049Z
DESCRIPTION:1/3 TJ Orion Praha\, z.s. - Volejbalový sportovní klub Baník So
 kolov\, z.s. 2:0 (12\,9)
DTSTART;TZID=Europe/Berlin:20251011T090000
DTEND;TZID=Europe/Berlin:20251011T110000
LOCATION:ZŠ Dolní Břežany\, Na Vršku 290 Dolní Břežany
SUMMARY:KV-U18Z-S2: TJ Orion Praha\, z.s.-Volejbalový sportovní klub Baník 
 Sokolov\, z.s.
END:VEVENT
BEGIN:VEVENT
UID:66326264-3134-4666-a662-316438316131
DTSTAMP:20260422T065049Z
DESCRIPTION:7/20 TJ Orion Praha\, z.s. - VK Šanov Teplice\, z.s. 2:0 (15\,2
 0)
DTSTART;TZID=Europe/Berlin:20251012T090000
DTEND;TZID=Europe/Berlin:20251012T110000
LOCATION:ZŠ Dolní Břežany\, Na Vršku 290 Dolní Břežany
SUMMARY:KV-U18Z-S2: TJ Orion Praha\, z.s.-VK Šanov Teplice\, z.s.
END:VEVENT
BEGIN:VEVENT
UID:36653065-3565-4633-a135-313561336666
DTSTAMP:20260422T065049Z
DESCRIPTION:2/5 Volejbalový klub Karlovy Vary z.s. - TJ Orion Praha\, z.s. 
 0:2 (-13\,-14)
DTSTART;TZID=Europe/Berlin:20251011T103000
DTEND;TZID=Europe/Berlin:20251011T123000
LOCATION:Mattoni Arena Hala míčových sportů\, Západní 1812 Karlovy Vary
SUMMARY:KV-U18Z-S2: Volejbalový klub Karlovy Vary z.s.-TJ Orion Praha\, z.s
 .
END:VEVENT
BEGIN:VEVENT
UID:32333239-6362-4234-b862-626262653332
DTSTAMP:20260422T065049Z
DESCRIPTION:4/10 BVC Chodov - TJ Orion Praha\, z.s. 0:2 (-9\,-17)
DTSTART;TZID=Europe/Berlin:20251011T133000
DTEND;TZID=Europe/Berlin:20251011T153000
LOCATION:Městská sportovní hala Chodov\, Tyršova 1201 Chodov
SUMMARY:KV-U18Z-S2: BVC Chodov-TJ Orion Praha\, z.s.
END:VEVENT
BEGIN:VEVENT
UID:30383136-6535-4036-b038-353663623764
DTSTAMP:20260422T065049Z
DESCRIPTION:5/13 TJ Lokomotiva Plzeň z.s. - TJ Orion Praha\, z.s. 0:2 (-24\
 ,-25)
DTSTART;TZID=Europe/Berlin:20251011T150000
DTEND;TZID=Europe/Berlin:20251011T170000
LOCATION:Městská sportovní hala  -  hala 2\, Úslavská 2357 Plzeň - Východní
  Předměstí
SUMMARY:KV-U18Z-S2: TJ Lokomotiva Plzeň z.s.-TJ Orion Praha\, z.s.
END:VEVENT
BEGIN:VEVENT
UID:64373339-3636-4166-a438-623864343232
DTSTAMP:20260422T065049Z
DESCRIPTION:6/18 VK Sever Žatec - TJ Orion Praha\, z.s. 2:1 (-17\,20\,12)
DTSTART;TZID=Europe/Berlin:20251011T163000
DTEND;TZID=Europe/Berlin:20251011T183000
LOCATION:Sportovní hala TJ Sever Žatec\, Plzeňská 2787 Žatec
SUMMARY:KV-U18Z-S2: VK Sever Žatec-TJ Orion Praha\, z.s.
END:VEVENT
BEGIN:VEVENT
UID:37313236-6364-4937-b639-393963373763
DTSTAMP:20260422T065049Z
DESCRIPTION:9/27 SKVD Ústí - TJ Orion Praha\, z.s. 0:2 (-12\,-23)
DTSTART;TZID=Europe/Berlin:20251012T120000
DTEND;TZID=Europe/Berlin:20251012T140000
LOCATION:Základní škola Stříbrnická\, Stříbrnická 3031 Ústí nad Labem - Sev
 erní Terasa
SUMMARY:KV-U18Z-S2: SKVD Ústí-TJ Orion Praha\, z.s.
END:VEVENT
BEGIN:VEVENT
UID:33616561-6139-4732-a131-393431386365
DTSTAMP:20260422T065049Z
DESCRIPTION:1/2 TJ Orion Praha\, z.s. - VK Šanov Teplice\, z.s. 2:0 (24\,20
 )
DTSTART;TZID=Europe/Berlin:20251108T090000
DTEND;TZID=Europe/Berlin:20251108T110000
LOCATION:ZŠ Dolní Břežany\, Na Vršku 290 Dolní Břežany
SUMMARY:KV-U18Z-S3: TJ Orion Praha\, z.s.-VK Šanov Teplice\, z.s.
END:VEVENT
BEGIN:VEVENT
UID:34633866-3263-4934-a565-383037623736
DTSTAMP:20260422T065049Z
DESCRIPTION:3/6 TJ Orion Praha\, z.s. - TJ Lokomotiva Plzeň z.s. 0:2 (-16\,
 -13)
DTSTART;TZID=Europe/Berlin:20251108T114500
DTEND;TZID=Europe/Berlin:20251108T134500
LOCATION:ZŠ Dolní Břežany\, Na Vršku 290 Dolní Břežany
SUMMARY:KV-U18Z-S3: TJ Orion Praha\, z.s.-TJ Lokomotiva Plzeň z.s.
END:VEVENT
BEGIN:VEVENT
UID:32393764-6138-4061-b031-613035653531
DTSTAMP:20260422T065049Z
DESCRIPTION:7/13 TJ Orion Praha\, z.s. - BVC Chodov 2:0 (8\,12)
DTSTART;TZID=Europe/Berlin:20251108T170000
DTEND;TZID=Europe/Berlin:20251108T190000
LOCATION:ZŠ Dolní Břežany\, Na Vršku 290 Dolní Břežany
SUMMARY:KV-U18Z-S3: TJ Orion Praha\, z.s.-BVC Chodov
END:VEVENT
BEGIN:VEVENT
UID:34366331-6566-4534-b162-346635646232
DTSTAMP:20260422T065049Z
DESCRIPTION:5/9 SKVD Ústí - TJ Orion Praha\, z.s. 2:1 (14\,-18\,9)
DTSTART;TZID=Europe/Berlin:20251108T141500
DTEND;TZID=Europe/Berlin:20251108T161500
LOCATION:Základní škola Stříbrnická\, Stříbrnická 3031 Ústí nad Labem - Sev
 erní Terasa
SUMMARY:KV-U18Z-S3: SKVD Ústí-TJ Orion Praha\, z.s.
END:VEVENT
BEGIN:VEVENT
UID:33626237-3036-4366-b362-366131386431
DTSTAMP:20260422T065049Z
DESCRIPTION:9/18 Volejbalový klub Karlovy Vary z.s. - TJ Orion Praha\, z.s.
  0:2 (-7\,-17)
DTSTART;TZID=Europe/Berlin:20251109T083000
DTEND;TZID=Europe/Berlin:20251109T103000
LOCATION:Mattoni Arena Hala míčových sportů\, Západní 1812 Karlovy Vary
SUMMARY:KV-U18Z-S3: Volejbalový klub Karlovy Vary z.s.-TJ Orion Praha\, z.s
 .
END:VEVENT
BEGIN:VEVENT
UID:38343733-3264-4533-a466-616536323435
DTSTAMP:20260422T065049Z
DESCRIPTION:12/23 Volejbalový sportovní klub Baník Sokolov\, z.s. - TJ Orio
 n Praha\, z.s. 0:2 (-9\,-13)
DTSTART;TZID=Europe/Berlin:20251109T123000
DTEND;TZID=Europe/Berlin:20251109T143000
LOCATION:Jiskra\, Maxima Gorkého 280 Sokolov
SUMMARY:KV-U18Z-S3: Volejbalový sportovní klub Baník Sokolov\, z.s.-TJ Orio
 n Praha\, z.s.
END:VEVENT
BEGIN:VEVENT
UID:30303166-6565-4339-b263-396138656134
DTSTAMP:20260422T065049Z
DESCRIPTION:14/28 VK Sever Žatec - TJ Orion Praha\, z.s. 0:2 (-14\,-15)
DTSTART;TZID=Europe/Berlin:20251109T150000
DTEND;TZID=Europe/Berlin:20251109T170000
LOCATION:Sportovní hala TJ Sever Žatec\, Plzeňská 2787 Žatec
SUMMARY:KV-U18Z-S3: VK Sever Žatec-TJ Orion Praha\, z.s.
END:VEVENT
BEGIN:VEVENT
UID:64623036-3066-4336-b065-396332656565
DTSTAMP:20260422T065049Z
DESCRIPTION:2/3 TJ Orion Praha\, z.s. - BVC Chodov 2:0 (12\,9)
DTSTART;TZID=Europe/Berlin:20251206T103000
DTEND;TZID=Europe/Berlin:20251206T123000
LOCATION:ZŠ Dolní Břežany\, Na Vršku 290 Dolní Břežany
SUMMARY:KV-U18Z-S4: TJ Orion Praha\, z.s.-BVC Chodov
END:VEVENT
BEGIN:VEVENT
UID:61303561-3939-4163-b364-613339323934
DTSTAMP:20260422T065049Z
DESCRIPTION:8/15 TJ Orion Praha\, z.s. - VK Šanov Teplice\, z.s. 2:0 (18\,2
 2)
DTSTART;TZID=Europe/Berlin:20251206T180000
DTEND;TZID=Europe/Berlin:20251206T200000
LOCATION:ZŠ Dolní Břežany\, Na Vršku 290 Dolní Břežany
SUMMARY:KV-U18Z-S4: TJ Orion Praha\, z.s.-VK Šanov Teplice\, z.s.
END:VEVENT
BEGIN:VEVENT
UID:39383439-6239-4463-b732-646439393638
DTSTAMP:20260422T065049Z
DESCRIPTION:11/21 TJ Orion Praha\, z.s. - TJ Lokomotiva Plzeň z.s. 0:2 (-17
 \,-15)
DTSTART;TZID=Europe/Berlin:20251207T113000
DTEND;TZID=Europe/Berlin:20251207T133000
LOCATION:ZŠ Dolní Břežany\, Na Vršku 290 Dolní Břežany
SUMMARY:KV-U18Z-S4: TJ Orion Praha\, z.s.-TJ Lokomotiva Plzeň z.s.
END:VEVENT
BEGIN:VEVENT
UID:33393863-3363-4539-b638-633665393530
DTSTAMP:20260422T065049Z
DESCRIPTION:13/26 TJ Orion Praha\, z.s. - Volejbalový sportovní klub Baník 
 Sokolov\, z.s. 2:0 (19\,22)
DTSTART;TZID=Europe/Berlin:20251207T140000
DTEND;TZID=Europe/Berlin:20251207T160000
LOCATION:ZŠ Dolní Břežany\, Na Vršku 290 Dolní Břežany
SUMMARY:KV-U18Z-S4: TJ Orion Praha\, z.s.-Volejbalový sportovní klub Baník 
 Sokolov\, z.s.
END:VEVENT
BEGIN:VEVENT
UID:35393138-3035-4934-b938-333766376234
DTSTAMP:20260422T065049Z
DESCRIPTION:3/5 VK Sever Žatec - TJ Orion Praha\, z.s. 2:0 (19\,20)
DTSTART;TZID=Europe/Berlin:20251206T114500
DTEND;TZID=Europe/Berlin:20251206T134500
LOCATION:Sportovní hala TJ Sever Žatec\, Plzeňská 2787 Žatec
SUMMARY:KV-U18Z-S4: VK Sever Žatec-TJ Orion Praha\, z.s.
END:VEVENT
BEGIN:VEVENT
UID:38663939-3730-4464-b564-393934386662
DTSTAMP:20260422T065049Z
DESCRIPTION:5/10 SKVD Ústí - TJ Orion Praha\, z.s. 1:2 (-17\,19\,-1)
DTSTART;TZID=Europe/Berlin:20251206T141500
DTEND;TZID=Europe/Berlin:20251206T161500
LOCATION:Základní škola Stříbrnická\, Stříbrnická 3031 Ústí nad Labem - Sev
 erní Terasa
SUMMARY:KV-U18Z-S4: SKVD Ústí-TJ Orion Praha\, z.s.
END:VEVENT
BEGIN:VEVENT
UID:63303734-6136-4637-b336-643332363861
DTSTAMP:20260422T065049Z
DESCRIPTION:10/20 Volejbalový klub Karlovy Vary z.s. - TJ Orion Praha\, z.s
 . 0:2 (-8\,-23)
DTSTART;TZID=Europe/Berlin:20251207T101500
DTEND;TZID=Europe/Berlin:20251207T121500
LOCATION:Mattoni Arena Hala míčových sportů\, Západní 1812 Karlovy Vary
SUMMARY:KV-U18Z-S4: Volejbalový klub Karlovy Vary z.s.-TJ Orion Praha\, z.s
 .
END:VEVENT
BEGIN:VEVENT
UID:31666663-3066-4964-b265-636462326266
DTSTAMP:20260422T065049Z
DESCRIPTION:4/13 TJ Orion Praha\, z.s. - Volejbalový sportovní klub Baník S
 okolov\, z.s. 2:0 (14\,17)
DTSTART;TZID=Europe/Berlin:20260110T143000
DTEND;TZID=Europe/Berlin:20260110T163000
LOCATION:ZŠ Dolní Břežany\, Na Vršku 290 Dolní Břežany
SUMMARY:KV-U18Z-S5: TJ Orion Praha\, z.s.-Volejbalový sportovní klub Baník 
 Sokolov\, z.s.
END:VEVENT
BEGIN:VEVENT
UID:37623233-3463-4538-a531-313332343835
DTSTAMP:20260422T065049Z
DESCRIPTION:6/21 TJ Orion Praha\, z.s. - VK Sever Žatec 2:0 (16\,12)
DTSTART;TZID=Europe/Berlin:20260111T110000
DTEND;TZID=Europe/Berlin:20260111T130000
LOCATION:ZŠ Dolní Břežany\, Na Vršku 290 Dolní Břežany
SUMMARY:KV-U18Z-S5: TJ Orion Praha\, z.s.-VK Sever Žatec
END:VEVENT
BEGIN:VEVENT
UID:30336233-3766-4561-b530-383431383535
DTSTAMP:20260422T065049Z
DESCRIPTION:1/3 Volejbalový klub Karlovy Vary z.s. - TJ Orion Praha\, z.s. 
 0:2 (-14\,-10)
DTSTART;TZID=Europe/Berlin:20260110T093000
DTEND;TZID=Europe/Berlin:20260110T113000
LOCATION:Mattoni Arena Hala míčových sportů\, Západní 1812 Karlovy Vary
SUMMARY:KV-U18Z-S5: Volejbalový klub Karlovy Vary z.s.-TJ Orion Praha\, z.s
 .
END:VEVENT
BEGIN:VEVENT
UID:61313932-6333-4133-b461-356164356336
DTSTAMP:20260422T065049Z
DESCRIPTION:2/6 BVC Chodov - TJ Orion Praha\, z.s. 0:2 (-8\,-11)
DTSTART;TZID=Europe/Berlin:20260110T110000
DTEND;TZID=Europe/Berlin:20260110T130000
LOCATION:Městská sportovní hala Chodov\, Tyršova 1201 Chodov
SUMMARY:KV-U18Z-S5: BVC Chodov-TJ Orion Praha\, z.s.
END:VEVENT
BEGIN:VEVENT
UID:63353962-6563-4235-a237-656565353833
DTSTAMP:20260422T065049Z
DESCRIPTION:3/9 SKVD Ústí - TJ Orion Praha\, z.s. 0:2 (-0\,-0)
DTSTART;TZID=Europe/Berlin:20260110T130000
DTEND;TZID=Europe/Berlin:20260110T150000
LOCATION:Základní škola Stříbrnická\, Stříbrnická 3031 Ústí nad Labem - Sev
 erní Terasa
SUMMARY:KV-U18Z-S5: SKVD Ústí-TJ Orion Praha\, z.s.
END:VEVENT
BEGIN:VEVENT
UID:34313438-6432-4633-b330-313935373433
DTSTAMP:20260422T065049Z
DESCRIPTION:5/20 VK Šanov Teplice\, z.s. - TJ Orion Praha\, z.s. 0:2 (-0\,-
 0)
DTSTART;TZID=Europe/Berlin:20260111T093000
DTEND;TZID=Europe/Berlin:20260111T113000
LOCATION:ZŠ Edisonova Teplice\, Edisonova 1732 Teplice - Trnovany
SUMMARY:KV-U18Z-S5: VK Šanov Teplice\, z.s.-TJ Orion Praha\, z.s.
END:VEVENT
BEGIN:VEVENT
UID:65356264-3761-4337-b232-346635303337
DTSTAMP:20260422T065049Z
DESCRIPTION:7/26 TJ Lokomotiva Plzeň z.s. - TJ Orion Praha\, z.s. 2:1 (-18\
 ,25\,12)
DTSTART;TZID=Europe/Berlin:20260111T120000
DTEND;TZID=Europe/Berlin:20260111T140000
LOCATION:Městská sportovní hala  -  hala 2\, Úslavská 2357 Plzeň - Východní
  Předměstí
SUMMARY:KV-U18Z-S5: TJ Lokomotiva Plzeň z.s.-TJ Orion Praha\, z.s.
END:VEVENT
BEGIN:VEVENT
UID:61326137-3430-4833-b465-663562323537
DTSTAMP:20260422T065049Z
DESCRIPTION:3/7 TJ Orion Praha\, z.s. - VK Šanov Teplice\, z.s. 2:0 (14\,18
 )
DTSTART;TZID=Europe/Berlin:20260214T110000
DTEND;TZID=Europe/Berlin:20260214T130000
LOCATION:ZŠ Dolní Břežany\, Na Vršku 290 Dolní Břežany
SUMMARY:KV-U18Z-S6: TJ Orion Praha\, z.s.-VK Šanov Teplice\, z.s.
END:VEVENT
BEGIN:VEVENT
UID:37633734-3662-4638-b635-343439303233
DTSTAMP:20260422T065049Z
DESCRIPTION:6/18 TJ Orion Praha\, z.s. - BVC Chodov 2:0 (12\,17)
DTSTART;TZID=Europe/Berlin:20260214T140000
DTEND;TZID=Europe/Berlin:20260214T160000
LOCATION:ZŠ Dolní Břežany\, Na Vršku 290 Dolní Břežany
SUMMARY:KV-U18Z-S6: TJ Orion Praha\, z.s.-BVC Chodov
END:VEVENT
BEGIN:VEVENT
UID:33663065-6562-4132-b137-323833613466
DTSTAMP:20260422T065049Z
DESCRIPTION:8/22 TJ Orion Praha\, z.s. - SKVD Ústí 1:2 (19\,-17\,-14)
DTSTART;TZID=Europe/Berlin:20260215T090000
DTEND;TZID=Europe/Berlin:20260215T110000
LOCATION:ZŠ Dolní Břežany\, Na Vršku 290 Dolní Břežany
SUMMARY:KV-U18Z-S6: TJ Orion Praha\, z.s.-SKVD Ústí
END:VEVENT
BEGIN:VEVENT
UID:66326262-3932-4266-b763-383961313164
DTSTAMP:20260422T065049Z
DESCRIPTION:10/25 TJ Orion Praha\, z.s. - VK Sever Žatec 0:2 (-17\,-19)
DTSTART;TZID=Europe/Berlin:20260215T110000
DTEND;TZID=Europe/Berlin:20260215T130000
LOCATION:ZŠ Dolní Břežany\, Na Vršku 290 Dolní Břežany
SUMMARY:KV-U18Z-S6: TJ Orion Praha\, z.s.-VK Sever Žatec
END:VEVENT
BEGIN:VEVENT
UID:39343132-3531-4062-a262-343461383231
DTSTAMP:20260422T065049Z
DESCRIPTION:1/2 Volejbalový sportovní klub Baník Sokolov\, z.s. - TJ Orion 
 Praha\, z.s. 0:2 (-29\,-13)
DTSTART;TZID=Europe/Berlin:20260214T090000
DTEND;TZID=Europe/Berlin:20260214T110000
LOCATION:Jiskra\, Maxima Gorkého 280 Sokolov
SUMMARY:KV-U18Z-S6: Volejbalový sportovní klub Baník Sokolov\, z.s.-TJ Orio
 n Praha\, z.s.
END:VEVENT
BEGIN:VEVENT
UID:64623835-3433-4163-b833-323961373630
DTSTAMP:20260422T065049Z
DESCRIPTION:4/11 TJ Lokomotiva Plzeň z.s. - TJ Orion Praha\, z.s. 2:0 (16\,
 20)
DTSTART;TZID=Europe/Berlin:20260214T120000
DTEND;TZID=Europe/Berlin:20260214T140000
LOCATION:Městská sportovní hala  -  hala 2\, Úslavská 2357 Plzeň - Východní
  Předměstí
SUMMARY:KV-U18Z-S6: TJ Lokomotiva Plzeň z.s.-TJ Orion Praha\, z.s.
END:VEVENT
BEGIN:VEVENT
UID:30373264-3339-4635-b833-373432613532
DTSTAMP:20260422T065049Z
DESCRIPTION:7/19 Volejbalový klub Karlovy Vary z.s. - TJ Orion Praha\, z.s.
  0:2 (-16\,-13)
DTSTART;TZID=Europe/Berlin:20260214T150000
DTEND;TZID=Europe/Berlin:20260214T170000
LOCATION:Mattoni Arena Hala míčových sportů\, Západní 1812 Karlovy Vary
SUMMARY:KV-U18Z-S6: Volejbalový klub Karlovy Vary z.s.-TJ Orion Praha\, z.s
 .
END:VEVENT
BEGIN:VEVENT
UID:64646134-6439-4762-a430-623839303961
DTSTAMP:20260422T065049Z
DESCRIPTION:1/2 TJ Orion Praha\, z.s. - VK Sever Žatec 2:1 (12\,-9\,7)
DTSTART;TZID=Europe/Berlin:20260314T090000
DTEND;TZID=Europe/Berlin:20260314T110000
LOCATION:ZŠ Dolní Břežany\, Na Vršku 290 Dolní Břežany
SUMMARY:KV-U18Z-S7: TJ Orion Praha\, z.s.-VK Sever Žatec
END:VEVENT
BEGIN:VEVENT
UID:39383733-3134-4033-b833-626133646434
DTSTAMP:20260422T065049Z
DESCRIPTION:3/6 TJ Orion Praha\, z.s. - Volejbalový sportovní klub Baník So
 kolov\, z.s. 2:0 (9\,10)
DTSTART;TZID=Europe/Berlin:20260314T113000
DTEND;TZID=Europe/Berlin:20260314T133000
LOCATION:ZŠ Dolní Břežany\, Na Vršku 290 Dolní Břežany
SUMMARY:KV-U18Z-S7: TJ Orion Praha\, z.s.-Volejbalový sportovní klub Baník 
 Sokolov\, z.s.
END:VEVENT
BEGIN:VEVENT
UID:33303864-6562-4463-b933-376231336631
DTSTAMP:20260422T065049Z
DESCRIPTION:6/11 TJ Orion Praha\, z.s. - TJ Lokomotiva Plzeň z.s. 0:2 (-18\
 ,-19)
DTSTART;TZID=Europe/Berlin:20260314T151500
DTEND;TZID=Europe/Berlin:20260314T171500
LOCATION:ZŠ Dolní Břežany\, Na Vršku 290 Dolní Břežany
SUMMARY:KV-U18Z-S7: TJ Orion Praha\, z.s.-TJ Lokomotiva Plzeň z.s.
END:VEVENT
BEGIN:VEVENT
UID:37333164-3438-4430-b864-316266326535
DTSTAMP:20260422T065049Z
DESCRIPTION:8/16 TJ Orion Praha\, z.s. - BVC Chodov 2:1 (-19\,15\,7)
DTSTART;TZID=Europe/Berlin:20260314T174500
DTEND;TZID=Europe/Berlin:20260314T194500
LOCATION:ZŠ Dolní Břežany\, Na Vršku 290 Dolní Břežany
SUMMARY:KV-U18Z-S7: TJ Orion Praha\, z.s.-BVC Chodov
END:VEVENT
BEGIN:VEVENT
UID:65373664-6663-4932-b939-363262653631
DTSTAMP:20260422T065049Z
DESCRIPTION:10/19 TJ Orion Praha\, z.s. - Volejbalový klub Karlovy Vary z.s
 . 2:0 (13\,10)
DTSTART;TZID=Europe/Berlin:20260315T101500
DTEND;TZID=Europe/Berlin:20260315T121500
LOCATION:ZŠ Dolní Břežany\, Na Vršku 290 Dolní Břežany
SUMMARY:KV-U18Z-S7: TJ Orion Praha\, z.s.-Volejbalový klub Karlovy Vary z.s
 .
END:VEVENT
BEGIN:VEVENT
UID:31616464-6630-4565-b532-353830366639
DTSTAMP:20260422T065049Z
DESCRIPTION:11/22 TJ Orion Praha\, z.s. - VK Šanov Teplice\, z.s. 2:0 (19\,
 12)
DTSTART;TZID=Europe/Berlin:20260315T113000
DTEND;TZID=Europe/Berlin:20260315T133000
LOCATION:ZŠ Dolní Břežany\, Na Vršku 290 Dolní Břežany
SUMMARY:KV-U18Z-S7: TJ Orion Praha\, z.s.-VK Šanov Teplice\, z.s.
END:VEVENT
BEGIN:VEVENT
UID:39613961-6534-4739-a564-656262613533
DTSTAMP:20260422T065049Z
DESCRIPTION:14/28 SKVD Ústí - TJ Orion Praha\, z.s. 1:2 (15\,-17\,-15)
DTSTART;TZID=Europe/Berlin:20260315T151500
DTEND;TZID=Europe/Berlin:20260315T171500
LOCATION:Základní škola Stříbrnická\, Stříbrnická 3031 Ústí nad Labem - Sev
 erní Terasa
SUMMARY:KV-U18Z-S7: SKVD Ústí-TJ Orion Praha\, z.s.
END:VEVENT
BEGIN:VEVENT
UID:38663061-6163-4139-a130-636438653762
DTSTAMP:20260422T065049Z
DESCRIPTION:1/3 TJ Orion Praha\, z.s. - TJ Lokomotiva Plzeň z.s. 0:2 (-17\,
 -20)
DTSTART;TZID=Europe/Berlin:20260411T090000
DTEND;TZID=Europe/Berlin:20260411T110000
LOCATION:ZŠ Dolní Břežany\, Na Vršku 290 Dolní Břežany
SUMMARY:KV-U18Z-S8: TJ Orion Praha\, z.s.-TJ Lokomotiva Plzeň z.s.
END:VEVENT
BEGIN:VEVENT
UID:30383864-6531-4935-b364-666164656533
DTSTAMP:20260422T065049Z
DESCRIPTION:7/21 TJ Orion Praha\, z.s. - Volejbalový klub Karlovy Vary z.s.
  2:0 (12\,8)
DTSTART;TZID=Europe/Berlin:20260412T090000
DTEND;TZID=Europe/Berlin:20260412T110000
LOCATION:ZŠ Dolní Břežany\, Na Vršku 290 Dolní Břežany
SUMMARY:KV-U18Z-S8: TJ Orion Praha\, z.s.-Volejbalový klub Karlovy Vary z.s
 .
END:VEVENT
BEGIN:VEVENT
UID:62363035-6263-4936-b638-623039393637
DTSTAMP:20260422T065049Z
DESCRIPTION:2/4 Volejbalový sportovní klub Baník Sokolov\, z.s. - TJ Orion 
 Praha\, z.s. 2:0 (19\,23)
DTSTART;TZID=Europe/Berlin:20260411T103000
DTEND;TZID=Europe/Berlin:20260411T123000
LOCATION:Jiskra\, Maxima Gorkého 280 Sokolov
SUMMARY:KV-U18Z-S8: Volejbalový sportovní klub Baník Sokolov\, z.s.-TJ Orio
 n Praha\, z.s.
END:VEVENT
BEGIN:VEVENT
UID:32643062-6261-4363-b233-326361353437
DTSTAMP:20260422T065049Z
DESCRIPTION:3/7 VK Sever Žatec - TJ Orion Praha\, z.s. 0:2 (-23\,-20)
DTSTART;TZID=Europe/Berlin:20260411T120000
DTEND;TZID=Europe/Berlin:20260411T140000
LOCATION:Sportovní hala TJ Sever Žatec\, Plzeňská 2787 Žatec
SUMMARY:KV-U18Z-S8: VK Sever Žatec-TJ Orion Praha\, z.s.
END:VEVENT
BEGIN:VEVENT
UID:38326463-3662-4464-b037-623131336135
DTSTAMP:20260422T065049Z
DESCRIPTION:5/15 SKVD Ústí - TJ Orion Praha\, z.s. 1:2 (-21\,20\,-12)
DTSTART;TZID=Europe/Berlin:20260411T150000
DTEND;TZID=Europe/Berlin:20260411T170000
LOCATION:Základní škola Stříbrnická\, Stříbrnická 3031 Ústí nad Labem - Sev
 erní Terasa
SUMMARY:KV-U18Z-S8: SKVD Ústí-TJ Orion Praha\, z.s.
END:VEVENT
BEGIN:VEVENT
UID:38353133-3939-4661-a161-303731343734
DTSTAMP:20260422T065049Z
DESCRIPTION:6/18 VK Šanov Teplice\, z.s. - TJ Orion Praha\, z.s. 0:2 (-12\,
 -13)
DTSTART;TZID=Europe/Berlin:20260411T163000
DTEND;TZID=Europe/Berlin:20260411T183000
LOCATION:ZŠ Edisonova Teplice\, Edisonova 1732 Teplice - Trnovany
SUMMARY:KV-U18Z-S8: VK Šanov Teplice\, z.s.-TJ Orion Praha\, z.s.
END:VEVENT
BEGIN:VEVENT
UID:35303161-3230-4561-b439-353635356634
DTSTAMP:20260422T065049Z
DESCRIPTION:8/24 BVC Chodov - TJ Orion Praha\, z.s. 0:2 (-12\,-19)
DTSTART;TZID=Europe/Berlin:20260412T103000
DTEND;TZID=Europe/Berlin:20260412T123000
LOCATION:Městská sportovní hala Chodov\, Tyršova 1201 Chodov
SUMMARY:KV-U18Z-S8: BVC Chodov-TJ Orion Praha\, z.s.
END:VEVENT
END:VCALENDAR
