BEGIN:VCALENDAR
VERSION:2.0
PRODID:-//Vrtule Frýdlant, z.s.91480//NONSGML kigkonsult.se iCalcreator 2.41.80//
CALSCALE:GREGORIAN
UID:66663562-6633-4833-a533-623235336532
BEGIN:VEVENT
UID:61653734-6432-4065-b030-613465343339
DTSTAMP:20260422T010252Z
DESCRIPTION:1/5 Vrtule Frýdlant\, z.s. - Schrödingerův institut Varnsdorf 0
 :2 (-23\,-23)\nJablonec nad Nisou
DTSTART;TZID=Europe/Berlin:20250907T120000
DTEND;TZID=Europe/Berlin:20250907T140000
LOCATION:Střední škola hospodářská a lesnická \, Bělíkova 1387 Frýdlant
SUMMARY:LIB-U22Z-K-A: Vrtule Frýdlant\, z.s.-Schrödingerův institut Varnsdo
 rf
END:VEVENT
BEGIN:VEVENT
UID:32336632-3265-4463-b839-356362613564
DTSTAMP:20260422T010252Z
DESCRIPTION:1/1 TJ Bižuterie Jablonec n/N - Vrtule Frýdlant\, z.s. 2:0 (17\
 ,21)\nJablonec nad Nisou
DTSTART;TZID=Europe/Berlin:20250907T090000
DTEND;TZID=Europe/Berlin:20250907T110000
LOCATION:Městská sportovní hala\, U Přehrady 4747 Jablonec nad Nisou
SUMMARY:LIB-U22Z-K-A: TJ Bižuterie Jablonec n/N-Vrtule Frýdlant\, z.s.
END:VEVENT
BEGIN:VEVENT
UID:34643664-6631-4831-b261-303734316462
DTSTAMP:20260422T010252Z
DESCRIPTION:1/3 TJ Jiskra Nový Bor\, z.s. B - Vrtule Frýdlant\, z.s. 1:2 (2
 8\,-15\,-10)\nJablonec nad Nisou
DTSTART;TZID=Europe/Berlin:20250907T110000
DTEND;TZID=Europe/Berlin:20250907T130000
LOCATION:Sportovní hala Františka Arnošta Nový Bor\, U hřiště 1391 Nový Bor
SUMMARY:LIB-U22Z-K-A: TJ Jiskra Nový Bor\, z.s. B-Vrtule Frýdlant\, z.s.
END:VEVENT
BEGIN:VEVENT
UID:36373066-3737-4365-a136-653233633634
DTSTAMP:20260422T010252Z
DESCRIPTION:1/3 Vrtule Frýdlant\, z.s. - USK Slavia Liberec z.s. 2:0 (18\,1
 8)\nNový Bor
DTSTART;TZID=Europe/Berlin:20251005T110000
DTEND;TZID=Europe/Berlin:20251005T130000
LOCATION:Střední škola hospodářská a lesnická \, Bělíkova 1387 Frýdlant
SUMMARY:LIB-U22Z-1-2: Vrtule Frýdlant\, z.s.-USK Slavia Liberec z.s.
END:VEVENT
BEGIN:VEVENT
UID:63343532-6330-4439-b339-333761396566
DTSTAMP:20260422T010252Z
DESCRIPTION:1/1 TJ Jiskra Nový Bor\, z.s. B - Vrtule Frýdlant\, z.s. 2:1 (2
 3\,-16\,7)\nNový Bor
DTSTART;TZID=Europe/Berlin:20251005T090000
DTEND;TZID=Europe/Berlin:20251005T110000
LOCATION:Sportovní hala Františka Arnošta Nový Bor\, U hřiště 1391 Nový Bor
SUMMARY:LIB-U22Z-1-2: TJ Jiskra Nový Bor\, z.s. B-Vrtule Frýdlant\, z.s.
END:VEVENT
BEGIN:VEVENT
UID:39346637-3866-4233-b837-343831656339
DTSTAMP:20260422T010252Z
DESCRIPTION:1/5 TJ Slovan Varnsdorf z.s. - Vrtule Frýdlant\, z.s. 0:2 (-10\
 ,-15)\nNový Bor
DTSTART;TZID=Europe/Berlin:20251005T130000
DTEND;TZID=Europe/Berlin:20251005T150000
LOCATION:Sportovní hala Varnsdorf\, Západní 2984 Varnsdorf
SUMMARY:LIB-U22Z-1-2: TJ Slovan Varnsdorf z.s.-Vrtule Frýdlant\, z.s.
END:VEVENT
BEGIN:VEVENT
UID:66353136-6539-4732-b462-313061663139
DTSTAMP:20260422T010252Z
DESCRIPTION:1/4 Vrtule Frýdlant\, z.s. - TJ Slovan Varnsdorf z.s. 2:0 (9\,9
 )\nSportovní hala TUL
DTSTART;TZID=Europe/Berlin:20251109T120000
DTEND;TZID=Europe/Berlin:20251109T140000
LOCATION:Střední škola hospodářská a lesnická \, Bělíkova 1387 Frýdlant
SUMMARY:LIB-U22Z-2-2: Vrtule Frýdlant\, z.s.-TJ Slovan Varnsdorf z.s.
END:VEVENT
BEGIN:VEVENT
UID:34386236-6333-4661-b063-616366333332
DTSTAMP:20260422T010252Z
DESCRIPTION:1/2 Schrödingerův institut Varnsdorf - Vrtule Frýdlant\, z.s. 2
 :0 (12\,28)\nSportovní hala TUL
DTSTART;TZID=Europe/Berlin:20251109T100000
DTEND;TZID=Europe/Berlin:20251109T120000
LOCATION:, Edisonova 2821 Varnsdorf
SUMMARY:LIB-U22Z-2-2: Schrödingerův institut Varnsdorf-Vrtule Frýdlant\, z.
 s.
END:VEVENT
BEGIN:VEVENT
UID:35383433-3438-4762-b931-643139346636
DTSTAMP:20260422T010252Z
DESCRIPTION:1/5 USK Slavia Liberec z.s. - Vrtule Frýdlant\, z.s. 0:2 (-11\,
 -25)\nSportovní hala TUL
DTSTART;TZID=Europe/Berlin:20251109T130000
DTEND;TZID=Europe/Berlin:20251109T150000
LOCATION:Sportovní hala TUL\, Na Bohdalci 715 Liberec - Liberec XV-Starý Ha
 rcov
SUMMARY:LIB-U22Z-2-2: USK Slavia Liberec z.s.-Vrtule Frýdlant\, z.s.
END:VEVENT
BEGIN:VEVENT
UID:62383365-6634-4561-b738-333136343236
DTSTAMP:20260422T010252Z
DESCRIPTION:1/4 Vrtule Frýdlant\, z.s. - USK Slavia Liberec z.s. 0:2 (-11\,
 -21)\nJablonec nad Nisou
DTSTART;TZID=Europe/Berlin:20251207T110000
DTEND;TZID=Europe/Berlin:20251207T130000
LOCATION:Střední škola hospodářská a lesnická \, Bělíkova 1387 Frýdlant
SUMMARY:LIB-U22Z-3-2: Vrtule Frýdlant\, z.s.-USK Slavia Liberec z.s.
END:VEVENT
BEGIN:VEVENT
UID:34313662-3464-4332-b738-616534646639
DTSTAMP:20260422T010252Z
DESCRIPTION:1/1 TJ Jiskra Nový Bor\, z.s. B - Vrtule Frýdlant\, z.s. 0:2 (-
 20\,-24)\nJablonec nad Nisou
DTSTART;TZID=Europe/Berlin:20251207T090000
DTEND;TZID=Europe/Berlin:20251207T110000
LOCATION:Sportovní hala Františka Arnošta Nový Bor\, U hřiště 1391 Nový Bor
SUMMARY:LIB-U22Z-3-2: TJ Jiskra Nový Bor\, z.s. B-Vrtule Frýdlant\, z.s.
END:VEVENT
BEGIN:VEVENT
UID:33643562-3633-4730-a266-363337613538
DTSTAMP:20260422T010252Z
DESCRIPTION:2/6 TJ Slovan Varnsdorf z.s. - Vrtule Frýdlant\, z.s. 0:2 (-16\
 ,-11)\nJablonec nad Nisou
DTSTART;TZID=Europe/Berlin:20251207T130000
DTEND;TZID=Europe/Berlin:20251207T150000
LOCATION:Sportovní hala Varnsdorf\, Západní 2984 Varnsdorf
SUMMARY:LIB-U22Z-3-2: TJ Slovan Varnsdorf z.s.-Vrtule Frýdlant\, z.s.
END:VEVENT
BEGIN:VEVENT
UID:65333038-3363-4334-a137-653863643833
DTSTAMP:20260422T010252Z
DESCRIPTION:1/4 Vrtule Frýdlant\, z.s. - Schrödingerův institut Varnsdorf 2
 :0 (22\,9)\nVarnsdorf
DTSTART;TZID=Europe/Berlin:20260125T110000
DTEND;TZID=Europe/Berlin:20260125T130000
LOCATION:Střední škola hospodářská a lesnická \, Bělíkova 1387 Frýdlant
SUMMARY:LIB-U22Z-4-2: Vrtule Frýdlant\, z.s.-Schrödingerův institut Varnsdo
 rf
END:VEVENT
BEGIN:VEVENT
UID:62626536-6665-4332-a531-383263616539
DTSTAMP:20260422T010252Z
DESCRIPTION:1/1 TJ Slovan Varnsdorf z.s. - Vrtule Frýdlant\, z.s. 0:2 (-10\
 ,-10)\nVarnsdorf
DTSTART;TZID=Europe/Berlin:20260125T090000
DTEND;TZID=Europe/Berlin:20260125T110000
LOCATION:Sportovní hala Varnsdorf\, Západní 2984 Varnsdorf
SUMMARY:LIB-U22Z-4-2: TJ Slovan Varnsdorf z.s.-Vrtule Frýdlant\, z.s.
END:VEVENT
BEGIN:VEVENT
UID:62353666-6637-4137-b565-336164383762
DTSTAMP:20260422T010252Z
DESCRIPTION:1/5 TJ Jiskra Nový Bor\, z.s. B - Vrtule Frýdlant\, z.s. 0:2 (-
 26\,-13)\nVarnsdorf
DTSTART;TZID=Europe/Berlin:20260125T120000
DTEND;TZID=Europe/Berlin:20260125T140000
LOCATION:Sportovní hala Františka Arnošta Nový Bor\, U hřiště 1391 Nový Bor
SUMMARY:LIB-U22Z-4-2: TJ Jiskra Nový Bor\, z.s. B-Vrtule Frýdlant\, z.s.
END:VEVENT
BEGIN:VEVENT
UID:38386666-6634-4631-b633-653364376562
DTSTAMP:20260422T010252Z
DESCRIPTION:2/6 Vrtule Frýdlant\, z.s. - TJ Bižuterie Jablonec n/N 0:2 (-13
 \,-11)\nTUL Harcov
DTSTART;TZID=Europe/Berlin:20260215T130000
DTEND;TZID=Europe/Berlin:20260215T150000
LOCATION:Střední škola hospodářská a lesnická \, Bělíkova 1387 Frýdlant
SUMMARY:LIB-U22Z-5-1: Vrtule Frýdlant\, z.s.-TJ Bižuterie Jablonec n/N
END:VEVENT
BEGIN:VEVENT
UID:61623033-6432-4365-b130-363766636436
DTSTAMP:20260422T010252Z
DESCRIPTION:1/1 Vratislavice n. N. - Vrtule Frýdlant\, z.s. 2:0 (20\,16)\nT
 UL Harcov
DTSTART;TZID=Europe/Berlin:20260215T090000
DTEND;TZID=Europe/Berlin:20260215T110000
LOCATION:, Nad Školou 278 Liberec - Liberec XXX-Vratislavice nad Nisou
SUMMARY:LIB-U22Z-5-1: Vratislavice n. N.-Vrtule Frýdlant\, z.s.
END:VEVENT
BEGIN:VEVENT
UID:39653838-3161-4037-b933-393363656265
DTSTAMP:20260422T010252Z
DESCRIPTION:1/3 Nový Bor - Vrtule Frýdlant\, z.s. 2:0 (18\,22)\nTUL Harcov
DTSTART;TZID=Europe/Berlin:20260215T110000
DTEND;TZID=Europe/Berlin:20260215T130000
LOCATION:Sportovní hala Františka Arnošta Nový Bor\, U hřiště 1391 Nový Bor
SUMMARY:LIB-U22Z-5-1: Nový Bor-Vrtule Frýdlant\, z.s.
END:VEVENT
BEGIN:VEVENT
UID:30373062-6561-4266-b161-333439666666
DTSTAMP:20260422T010252Z
DESCRIPTION:1/2 Vrtule Frýdlant\, z.s. - TJ Slovan Varnsdorf z.s. 2:0 (8\,4
 )\nNový Bor
DTSTART;TZID=Europe/Berlin:20260301T100000
DTEND;TZID=Europe/Berlin:20260301T120000
LOCATION:Střední škola hospodářská a lesnická \, Bělíkova 1387 Frýdlant
SUMMARY:LIB-U22Z-6-2: Vrtule Frýdlant\, z.s.-TJ Slovan Varnsdorf z.s.
END:VEVENT
BEGIN:VEVENT
UID:36306432-6430-4866-a163-373438383266
DTSTAMP:20260422T010252Z
DESCRIPTION:2/6 Vrtule Frýdlant\, z.s. - USK Slavia Liberec z.s. 2:0 (10\,1
 8)\nNový Bor
DTSTART;TZID=Europe/Berlin:20260301T140000
DTEND;TZID=Europe/Berlin:20260301T160000
LOCATION:Střední škola hospodářská a lesnická \, Bělíkova 1387 Frýdlant
SUMMARY:LIB-U22Z-6-2: Vrtule Frýdlant\, z.s.-USK Slavia Liberec z.s.
END:VEVENT
BEGIN:VEVENT
UID:39306338-3939-4865-b139-333461383361
DTSTAMP:20260422T010252Z
DESCRIPTION:1/5 TJ Jiskra Nový Bor\, z.s. B - Vrtule Frýdlant\, z.s. 0:2 (-
 23\,-15)\nNový Bor
DTSTART;TZID=Europe/Berlin:20260301T130000
DTEND;TZID=Europe/Berlin:20260301T150000
LOCATION:Sportovní hala Františka Arnošta Nový Bor\, U hřiště 1391 Nový Bor
SUMMARY:LIB-U22Z-6-2: TJ Jiskra Nový Bor\, z.s. B-Vrtule Frýdlant\, z.s.
END:VEVENT
BEGIN:VEVENT
UID:66306334-6565-4166-a262-386330666131
DTSTAMP:20260422T010252Z
DESCRIPTION:1/1 Vrtule Frýdlant\, z.s. - TJ Slovan Varnsdorf z.s. 2:0 (10\,
 13)\nNový Bor
DTSTART;TZID=Europe/Berlin:20260322T090000
DTEND;TZID=Europe/Berlin:20260322T110000
LOCATION:Střední škola hospodářská a lesnická \, Bělíkova 1387 Frýdlant
SUMMARY:LIB-U22Z-7-2: Vrtule Frýdlant\, z.s.-TJ Slovan Varnsdorf z.s.
END:VEVENT
BEGIN:VEVENT
UID:64643164-3531-4038-a137-626431393338
DTSTAMP:20260422T010252Z
DESCRIPTION:1/5 Vrtule Frýdlant\, z.s. - USK Slavia Liberec z.s. 2:0 (19\,1
 6)\nNový Bor
DTSTART;TZID=Europe/Berlin:20260322T130000
DTEND;TZID=Europe/Berlin:20260322T150000
LOCATION:Střední škola hospodářská a lesnická \, Bělíkova 1387 Frýdlant
SUMMARY:LIB-U22Z-7-2: Vrtule Frýdlant\, z.s.-USK Slavia Liberec z.s.
END:VEVENT
BEGIN:VEVENT
UID:33663630-3434-4632-a536-643463623338
DTSTAMP:20260422T010252Z
DESCRIPTION:1/4 TJ Jiskra Nový Bor\, z.s. B - Vrtule Frýdlant\, z.s. 1:2 (-
 14\,26\,-4)\nNový Bor
DTSTART;TZID=Europe/Berlin:20260322T120000
DTEND;TZID=Europe/Berlin:20260322T140000
LOCATION:Sportovní hala Františka Arnošta Nový Bor\, U hřiště 1391 Nový Bor
SUMMARY:LIB-U22Z-7-2: TJ Jiskra Nový Bor\, z.s. B-Vrtule Frýdlant\, z.s.
END:VEVENT
END:VCALENDAR
