BEGIN:VCALENDAR
VERSION:2.0
PRODID:-//VK Raškovice91512//NONSGML kigkonsult.se iCalcreator 2.41.80//
CALSCALE:GREGORIAN
UID:39613637-3161-4466-b532-636639653965
BEGIN:VEVENT
UID:61373733-3966-4565-a334-653635313833
DTSTAMP:20260422T070105Z
DESCRIPTION:2/7 VK Raškovice - Volejbal Kozlovice 1:3 (-17\,20\,-12\,-21)
DTSTART;TZID=Europe/Berlin:20251006T183000
DTEND;TZID=Europe/Berlin:20251006T203000
LOCATION:Víceúčelová sportovní hala\,  Raškovice18
SUMMARY:FM-Z: VK Raškovice-Volejbal Kozlovice
END:VEVENT
BEGIN:VEVENT
UID:34633632-3062-4233-a262-393364333434
DTSTAMP:20260422T070105Z
DESCRIPTION:5/25 VK Raškovice - SK Metylovice 3:0 (21\,21\,21)
DTSTART;TZID=Europe/Berlin:20251110T183000
DTEND;TZID=Europe/Berlin:20251110T203000
LOCATION:Víceúčelová sportovní hala\,  Raškovice18
SUMMARY:FM-Z: VK Raškovice-SK Metylovice
END:VEVENT
BEGIN:VEVENT
UID:61323836-3565-4238-b961-353264333466
DTSTAMP:20260422T070105Z
DESCRIPTION:7/34 VK Raškovice - TJ Frenštát p/R 3:1 (-15\,23\,22\,16)
DTSTART;TZID=Europe/Berlin:20251201T183000
DTEND;TZID=Europe/Berlin:20251201T203000
LOCATION:Víceúčelová sportovní hala\,  Raškovice18
SUMMARY:FM-Z: VK Raškovice-TJ Frenštát p/R
END:VEVENT
BEGIN:VEVENT
UID:64356131-3538-4130-b030-306536303637
DTSTAMP:20260422T070105Z
DESCRIPTION:9/43 VK Raškovice - TJ Třineckých železáren 0:3 (-23\,-22\,-19)
DTSTART;TZID=Europe/Berlin:20260105T183000
DTEND;TZID=Europe/Berlin:20260105T203000
LOCATION:Víceúčelová sportovní hala\,  Raškovice18
SUMMARY:FM-Z: VK Raškovice-TJ Třineckých železáren
END:VEVENT
BEGIN:VEVENT
UID:37333063-3435-4231-a364-666333353731
DTSTAMP:20260422T070105Z
DESCRIPTION:10/49 VK Raškovice - VKB Frýdlant n/O 3:2 (21\,-23\,17\,-22\,9)
DTSTART;TZID=Europe/Berlin:20260119T183000
DTEND;TZID=Europe/Berlin:20260119T203000
LOCATION:Víceúčelová sportovní hala\,  Raškovice18
SUMMARY:FM-Z: VK Raškovice-VKB Frýdlant n/O
END:VEVENT
BEGIN:VEVENT
UID:32626165-6362-4366-a132-643337623233
DTSTAMP:20260422T070105Z
DESCRIPTION:12/60 VK Raškovice - VK Janovice 3:1 (12\,-16\,9\,16)
DTSTART;TZID=Europe/Berlin:20260220T183000
DTEND;TZID=Europe/Berlin:20260220T203000
LOCATION:Víceúčelová sportovní hala\,  Raškovice18
SUMMARY:FM-Z: VK Raškovice-VK Janovice
END:VEVENT
BEGIN:VEVENT
UID:32653131-6138-4232-b363-613163653962
DTSTAMP:20260422T070105Z
DESCRIPTION:15/72 VK Raškovice - KV Kopřivnice 3:0 (11\,13\,11)
DTSTART;TZID=Europe/Berlin:20260413T183000
DTEND;TZID=Europe/Berlin:20260413T203000
LOCATION:Víceúčelová sportovní hala\,  Raškovice18
SUMMARY:FM-Z: VK Raškovice-KV Kopřivnice
END:VEVENT
BEGIN:VEVENT
UID:61383338-6266-4136-b963-646135623365
DTSTAMP:20260422T070105Z
DESCRIPTION:17/83 VK Raškovice - TJ Sokol PalkoviceŠebestová Eliška
DTSTART;TZID=Europe/Berlin:20260504T183000
DTEND;TZID=Europe/Berlin:20260504T203000
LOCATION:Víceúčelová sportovní hala\,  Raškovice18
SUMMARY:FM-Z: VK Raškovice-TJ Sokol Palkovice
END:VEVENT
BEGIN:VEVENT
UID:34613834-6364-4634-a632-383038633963
DTSTAMP:20260422T070105Z
DESCRIPTION:1/4 VKB Frýdlant n/O - VK Raškovice 1:3 (-11\,26\,-12\,-21)
DTSTART;TZID=Europe/Berlin:20251003T180000
DTEND;TZID=Europe/Berlin:20251003T200000
LOCATION:Sokolovna\, Hlavní 401 Frýdlant nad Ostravicí - Frýdlant
SUMMARY:FM-Z: VKB Frýdlant n/O-VK Raškovice
END:VEVENT
BEGIN:VEVENT
UID:30383230-6563-4164-b764-373135616430
DTSTAMP:20260422T070105Z
DESCRIPTION:3/15 VK Janovice - VK Raškovice 0:3 (-14\,-6\,-16)
DTSTART;TZID=Europe/Berlin:20251023T183000
DTEND;TZID=Europe/Berlin:20251023T203000
LOCATION:Tělocvična ZŠ Janovice\,  Janovice410
SUMMARY:FM-Z: VK Janovice-VK Raškovice
END:VEVENT
BEGIN:VEVENT
UID:31316662-3934-4536-b438-376530653738
DTSTAMP:20260422T070105Z
DESCRIPTION:6/27 KV Kopřivnice - VK Raškovice 0:3 (-24\,-22\,-18)
DTSTART;TZID=Europe/Berlin:20251121T183000
DTEND;TZID=Europe/Berlin:20251121T203000
LOCATION:Tělocvičny ZŠ 17.listopadu Kopřivnice\, 17. listopadu 1225 Kopřivn
 ice
SUMMARY:FM-Z: KV Kopřivnice-VK Raškovice
END:VEVENT
BEGIN:VEVENT
UID:63666338-3931-4963-a666-383638623331
DTSTAMP:20260422T070105Z
DESCRIPTION:8/38 TJ Sokol Palkovice - VK Raškovice 2:3 (17\,20\,-24\,-13\,-
 13)
DTSTART;TZID=Europe/Berlin:20251211T191500
DTEND;TZID=Europe/Berlin:20251211T211500
LOCATION:Sportovní hala Palkovice\,  Palkovice20
SUMMARY:FM-Z: TJ Sokol Palkovice-VK Raškovice
END:VEVENT
BEGIN:VEVENT
UID:38386137-3534-4238-b263-643764303361
DTSTAMP:20260422T070105Z
DESCRIPTION:11/52 Volejbal Kozlovice - VK Raškovice 3:0 (19\,19\,10)
DTSTART;TZID=Europe/Berlin:20260204T183000
DTEND;TZID=Europe/Berlin:20260204T203000
LOCATION:Sportovně rekreační centrum Kozlovice\,  Kozlovice186
SUMMARY:FM-Z: Volejbal Kozlovice-VK Raškovice
END:VEVENT
BEGIN:VEVENT
UID:63393034-3832-4662-a333-396633363333
DTSTAMP:20260422T070105Z
DESCRIPTION:14/70 SK Metylovice - VK Raškovice 3:0 (14\,13\,19)
DTSTART;TZID=Europe/Berlin:20260326T183000
DTEND;TZID=Europe/Berlin:20260326T203000
LOCATION:Sokolovna Metylovice\,  Metylovice111
SUMMARY:FM-Z: SK Metylovice-VK Raškovice
END:VEVENT
BEGIN:VEVENT
UID:37636666-3430-4261-b037-343031636664
DTSTAMP:20260422T070105Z
DESCRIPTION:16/79 TJ Frenštát p/R - VK RaškoviceMorávek Bohuslav
DTSTART;TZID=Europe/Berlin:20260424T190000
DTEND;TZID=Europe/Berlin:20260424T210000
LOCATION:SH GaSPŠEI Frenštát\, Křižíkova 2204 Frenštát pod Radhoštěm
SUMMARY:FM-Z: TJ Frenštát p/R-VK Raškovice
END:VEVENT
BEGIN:VEVENT
UID:32393131-3666-4661-b538-323161663038
DTSTAMP:20260422T070105Z
DESCRIPTION:18/88 TJ Třineckých železáren - VK Raškovice 3:0 (20\,18\,14)
DTSTART;TZID=Europe/Berlin:20260316T190000
DTEND;TZID=Europe/Berlin:20260316T210000
LOCATION:Sportovní hala\,  Bystřice848
SUMMARY:FM-Z: TJ Třineckých železáren-VK Raškovice
END:VEVENT
END:VCALENDAR
