BEGIN:VCALENDAR
VERSION:2.0
PRODID:-//TJ Sokol Janovice nad Úhlavou91536//NONSGML kigkonsult.se iCalcreator 2.41.80//
CALSCALE:GREGORIAN
UID:34636665-3030-4562-b362-363931323036
BEGIN:VEVENT
UID:38643866-6632-4661-b365-663034373464
DTSTAMP:20260422T070114Z
DESCRIPTION:2/5 Janovice n/Ú - Holýšov B 3:1 (-23\,23\,18\,16)\nPřeloženo
DTSTART;TZID=Europe/Berlin:20251005T100000
DTEND;TZID=Europe/Berlin:20251005T120000
SUMMARY:DO-Z-2: Janovice n/Ú-Holýšov B
END:VEVENT
BEGIN:VEVENT
UID:36633065-3465-4435-b332-656663393062
DTSTAMP:20260422T070114Z
DESCRIPTION:4/13 Janovice n/Ú - Blížejov B 3:1 (14\,21\,-19\,20)
DTSTART;TZID=Europe/Berlin:20250921T140000
DTEND;TZID=Europe/Berlin:20250921T160000
SUMMARY:DO-Z-2: Janovice n/Ú-Blížejov B
END:VEVENT
BEGIN:VEVENT
UID:66653236-3463-4663-a231-353130363536
DTSTAMP:20260422T070114Z
DESCRIPTION:6/21 Janovice n/Ú - Koloveč D 3:1 (15\,23\,-26\,19)
DTSTART;TZID=Europe/Berlin:20251005T140000
DTEND;TZID=Europe/Berlin:20251005T160000
SUMMARY:DO-Z-2: Janovice n/Ú-Koloveč D
END:VEVENT
BEGIN:VEVENT
UID:38316232-6666-4461-b163-363739643061
DTSTAMP:20260422T070114Z
DESCRIPTION:8/29 Janovice n/Ú - Koloveč B
DTSTART;TZID=Europe/Berlin:20260510T140000
DTEND;TZID=Europe/Berlin:20260510T160000
SUMMARY:DO-Z-2: Janovice n/Ú-Koloveč B
END:VEVENT
BEGIN:VEVENT
UID:61306432-6532-4666-a537-323638663363
DTSTAMP:20260422T070114Z
DESCRIPTION:10/37 Janovice n/Ú - Domažlice A
DTSTART;TZID=Europe/Berlin:20260524T140000
DTEND;TZID=Europe/Berlin:20260524T160000
SUMMARY:DO-Z-2: Janovice n/Ú-Domažlice A
END:VEVENT
BEGIN:VEVENT
UID:39303237-3633-4762-b662-653364383434
DTSTAMP:20260422T070114Z
DESCRIPTION:12/45 Janovice n/Ú - Koloveč C
DTSTART;TZID=Europe/Berlin:20260607T140000
DTEND;TZID=Europe/Berlin:20260607T160000
SUMMARY:DO-Z-2: Janovice n/Ú-Koloveč C
END:VEVENT
BEGIN:VEVENT
UID:65646636-3732-4332-b935-653631323633
DTSTAMP:20260422T070114Z
DESCRIPTION:14/53 Janovice n/Ú - Domažlice B
DTSTART;TZID=Europe/Berlin:20260621T140000
DTEND;TZID=Europe/Berlin:20260621T160000
SUMMARY:DO-Z-2: Janovice n/Ú-Domažlice B
END:VEVENT
BEGIN:VEVENT
UID:31653962-3865-4765-b930-303430316530
DTSTAMP:20260422T070114Z
DESCRIPTION:1/1 Koloveč B - Janovice n/Ú 0:3 (-20\,-9\,-23)
DTSTART;TZID=Europe/Berlin:20250831T140000
DTEND;TZID=Europe/Berlin:20250831T160000
SUMMARY:DO-Z-2: Koloveč B-Janovice n/Ú
END:VEVENT
BEGIN:VEVENT
UID:33323262-3262-4062-b632-383361313230
DTSTAMP:20260422T070114Z
DESCRIPTION:3/9 Domažlice A - Janovice n/Ú 3:0 (18\,20\,17)
DTSTART;TZID=Europe/Berlin:20250914T140000
DTEND;TZID=Europe/Berlin:20250914T160000
SUMMARY:DO-Z-2: Domažlice A-Janovice n/Ú
END:VEVENT
BEGIN:VEVENT
UID:66623533-6437-4666-a234-343532396230
DTSTAMP:20260422T070114Z
DESCRIPTION:5/17 Koloveč C - Janovice n/Ú 3:0 (17\,15\,3)
DTSTART;TZID=Europe/Berlin:20250928T140000
DTEND;TZID=Europe/Berlin:20250928T160000
SUMMARY:DO-Z-2: Koloveč C-Janovice n/Ú
END:VEVENT
BEGIN:VEVENT
UID:32306338-3664-4735-b034-393139373131
DTSTAMP:20260422T070114Z
DESCRIPTION:7/25 Domažlice B - Janovice n/Ú 3:0 (16\,16\,25)\nPřeloženo
DTSTART;TZID=Europe/Berlin:20251102T140000
DTEND;TZID=Europe/Berlin:20251102T160000
SUMMARY:DO-Z-2: Domažlice B-Janovice n/Ú
END:VEVENT
BEGIN:VEVENT
UID:66306533-3637-4564-b239-336535323731
DTSTAMP:20260422T070114Z
DESCRIPTION:9/33 Holýšov B - Janovice n/Ú
DTSTART;TZID=Europe/Berlin:20260517T140000
DTEND;TZID=Europe/Berlin:20260517T160000
SUMMARY:DO-Z-2: Holýšov B-Janovice n/Ú
END:VEVENT
BEGIN:VEVENT
UID:30333534-3164-4366-b065-316663313739
DTSTAMP:20260422T070114Z
DESCRIPTION:11/41 Blížejov B - Janovice n/Ú
DTSTART;TZID=Europe/Berlin:20260531T140000
DTEND;TZID=Europe/Berlin:20260531T160000
SUMMARY:DO-Z-2: Blížejov B-Janovice n/Ú
END:VEVENT
BEGIN:VEVENT
UID:39386535-6639-4937-a436-336639363438
DTSTAMP:20260422T070114Z
DESCRIPTION:13/49 Koloveč D - Janovice n/Ú
DTSTART;TZID=Europe/Berlin:20260614T140000
DTEND;TZID=Europe/Berlin:20260614T160000
SUMMARY:DO-Z-2: Koloveč D-Janovice n/Ú
END:VEVENT
END:VCALENDAR
