BEGIN:VCALENDAR
VERSION:2.0
PRODID:-//TJ Sokol Blížejov91538//NONSGML kigkonsult.se iCalcreator 2.41.80//
CALSCALE:GREGORIAN
UID:39333866-3462-4239-b930-396465303265
BEGIN:VEVENT
UID:32643364-6364-4565-a136-643464333036
DTSTAMP:20260422T070107Z
DESCRIPTION:1/1 Blížejov - Mrákov 3:0 (9\,13\,17)
DTSTART;TZID=Europe/Berlin:20251026T143000
DTEND;TZID=Europe/Berlin:20251026T163000
SUMMARY:DO-M-Z-1: Blížejov-Mrákov
END:VEVENT
BEGIN:VEVENT
UID:37363331-3136-4831-b030-316237663239
DTSTAMP:20260422T070107Z
DESCRIPTION:4/12 Blížejov - Koloveč 2:3 (-14\,25\,16\,-22\,-18)
DTSTART;TZID=Europe/Berlin:20251123T143000
DTEND;TZID=Europe/Berlin:20251123T163000
SUMMARY:DO-M-Z-1: Blížejov-Koloveč
END:VEVENT
BEGIN:VEVENT
UID:37346561-3330-4332-b635-373936316562
DTSTAMP:20260422T070107Z
DESCRIPTION:6/17 Blížejov - Holýšov 2:3 (20\,-14\,-18\,15\,-11)
DTSTART;TZID=Europe/Berlin:20251214T143000
DTEND;TZID=Europe/Berlin:20251214T163000
SUMMARY:DO-M-Z-1: Blížejov-Holýšov
END:VEVENT
BEGIN:VEVENT
UID:38343036-3438-4134-a435-636263626132
DTSTAMP:20260422T070107Z
DESCRIPTION:9/27 Blížejov - Kdyně 2:3 (-21\,25\,-24\,14\,-13)
DTSTART;TZID=Europe/Berlin:20260208T143000
DTEND;TZID=Europe/Berlin:20260208T163000
SUMMARY:DO-M-Z-1: Blížejov-Kdyně
END:VEVENT
BEGIN:VEVENT
UID:35336137-3331-4239-a339-353163343164
DTSTAMP:20260422T070107Z
DESCRIPTION:12/34 Blížejov - Staňkov 3:1 (9\,-28\,18\,14)
DTSTART;TZID=Europe/Berlin:20260308T143000
DTEND;TZID=Europe/Berlin:20260308T163000
SUMMARY:DO-M-Z-1: Blížejov-Staňkov
END:VEVENT
BEGIN:VEVENT
UID:36643238-6661-4235-b232-643265363331
DTSTAMP:20260422T070107Z
DESCRIPTION:14/41 Blížejov - Tajanov 3:0 (23\,20\,23)
DTSTART;TZID=Europe/Berlin:20260329T143000
DTEND;TZID=Europe/Berlin:20260329T163000
SUMMARY:DO-M-Z-1: Blížejov-Tajanov
END:VEVENT
BEGIN:VEVENT
UID:63323866-3039-4339-b232-323235613636
DTSTAMP:20260422T070107Z
DESCRIPTION:2/6 Kdyně - Blížejov 1:3 (-22\,-21\,16\,-23)
DTSTART;TZID=Europe/Berlin:20251102T153000
DTEND;TZID=Europe/Berlin:20251102T173000
SUMMARY:DO-M-Z-1: Kdyně-Blížejov
END:VEVENT
BEGIN:VEVENT
UID:61373534-3063-4464-b565-313539396232
DTSTAMP:20260422T070107Z
DESCRIPTION:5/13 Staňkov - Blížejov 3:0 (19\,9\,17)
DTSTART;TZID=Europe/Berlin:20251207T130000
DTEND;TZID=Europe/Berlin:20251207T150000
SUMMARY:DO-M-Z-1: Staňkov-Blížejov
END:VEVENT
BEGIN:VEVENT
UID:63643731-6663-4431-a437-653334396131
DTSTAMP:20260422T070107Z
DESCRIPTION:7/20 Tajanov - Blížejov 3:0 (20\,25\,26)
DTSTART;TZID=Europe/Berlin:20260118T160000
DTEND;TZID=Europe/Berlin:20260118T180000
SUMMARY:DO-M-Z-1: Tajanov-Blížejov
END:VEVENT
BEGIN:VEVENT
UID:33373638-6532-4563-b038-333031346436
DTSTAMP:20260422T070107Z
DESCRIPTION:8/22 Mrákov - Blížejov 0:3 (-21\,-15\,-16)
DTSTART;TZID=Europe/Berlin:20260125T110000
DTEND;TZID=Europe/Berlin:20260125T130000
SUMMARY:DO-M-Z-1: Mrákov-Blížejov
END:VEVENT
BEGIN:VEVENT
UID:63306266-3835-4432-a631-616638343061
DTSTAMP:20260422T070107Z
DESCRIPTION:11/33 Koloveč - Blížejov 2:3 (17\,-24\,19\,-20\,-14)
DTSTART;TZID=Europe/Berlin:20260227T183000
DTEND;TZID=Europe/Berlin:20260227T203000
SUMMARY:DO-M-Z-1: Koloveč-Blížejov
END:VEVENT
BEGIN:VEVENT
UID:61386630-3432-4138-a238-626564376566
DTSTAMP:20260422T070107Z
DESCRIPTION:13/38 Holýšov - Blížejov 0:3 (-17\,-21\,-17)
DTSTART;TZID=Europe/Berlin:20260322T100000
DTEND;TZID=Europe/Berlin:20260322T120000
SUMMARY:DO-M-Z-1: Holýšov-Blížejov
END:VEVENT
END:VCALENDAR
