BEGIN:VCALENDAR
VERSION:2.0
PRODID:-//SK Dansport Praha91566//NONSGML kigkonsult.se iCalcreator 2.41.80//
CALSCALE:GREGORIAN
UID:65316436-3164-4562-b237-646666303933
BEGIN:VEVENT
UID:63646564-6331-4438-a435-353765666130
DTSTAMP:20260422T070103Z
DESCRIPTION:1/3 Dansport Praha - Sokol Michle 3:1 (20\,-21\,23\,26)
DTSTART;TZID=Europe/Berlin:20251009T200000
DTEND;TZID=Europe/Berlin:20251009T220000
LOCATION:Sportovní hala Gymnázia Jana Keplera\, Parléřova 118 Praha - Hradč
 any
SUMMARY:PP-M-H-B: Dansport Praha-Sokol Michle
END:VEVENT
BEGIN:VEVENT
UID:35633666-3430-4662-b063-643330366437
DTSTAMP:20260422T070103Z
DESCRIPTION:3/10 Dansport Praha - SK PROSEK B 3:1 (16\,21\,-17\,22)
DTSTART;TZID=Europe/Berlin:20251023T200000
DTEND;TZID=Europe/Berlin:20251023T220000
LOCATION:Sportovní hala Gymnázia Jana Keplera\, Parléřova 118 Praha - Hradč
 any
SUMMARY:PP-M-H-B: Dansport Praha-SK PROSEK B
END:VEVENT
BEGIN:VEVENT
UID:31613136-3765-4235-a364-373331626334
DTSTAMP:20260422T070103Z
DESCRIPTION:6/24 Dansport Praha - AVA 3:1 (-22\,21\,16\,19)
DTSTART;TZID=Europe/Berlin:20251113T200000
DTEND;TZID=Europe/Berlin:20251113T220000
LOCATION:Sportovní hala Gymnázia Jana Keplera\, Parléřova 118 Praha - Hradč
 any
SUMMARY:PP-M-H-B: Dansport Praha-AVA
END:VEVENT
BEGIN:VEVENT
UID:34613038-3032-4239-b737-666562356236
DTSTAMP:20260422T070103Z
DESCRIPTION:7/26 Dansport Praha - Španielka Řepy 3:2 (20\,-23\,21\,-26\,15)
 \n!změna pořadatelství!
DTSTART;TZID=Europe/Berlin:20251120T200000
DTEND;TZID=Europe/Berlin:20251120T220000
LOCATION:Sportovní hala Gymnázia Jana Keplera\, Parléřova 118 Praha - Hradč
 any
SUMMARY:PP-M-H-B: Dansport Praha-Španielka Řepy
END:VEVENT
BEGIN:VEVENT
UID:62366263-6639-4664-b436-643933386663
DTSTAMP:20260422T070103Z
DESCRIPTION:9/35 Dansport Praha - Sokol Spořilov 3:0 (20\,21\,21)
DTSTART;TZID=Europe/Berlin:20251204T200000
DTEND;TZID=Europe/Berlin:20251204T220000
LOCATION:Sportovní hala Gymnázia Jana Keplera\, Parléřova 118 Praha - Hradč
 any
SUMMARY:PP-M-H-B: Dansport Praha-Sokol Spořilov
END:VEVENT
BEGIN:VEVENT
UID:64636264-6334-4961-b633-303833636361
DTSTAMP:20260422T070103Z
DESCRIPTION:11/44 Dansport Praha - Modřany B 3:1 (17\,-16\,17\,26)
DTSTART;TZID=Europe/Berlin:20251218T200000
DTEND;TZID=Europe/Berlin:20251218T220000
LOCATION:Sportovní hala Gymnázia Jana Keplera\, Parléřova 118 Praha - Hradč
 any
SUMMARY:PP-M-H-B: Dansport Praha-Modřany B
END:VEVENT
BEGIN:VEVENT
UID:66356330-3661-4232-b030-313764396161
DTSTAMP:20260422T070103Z
DESCRIPTION:2/7 Sokol Spořilov - Dansport Praha 0:3 (-10\,-7\,-16)
DTSTART;TZID=Europe/Berlin:20251015T193000
DTEND;TZID=Europe/Berlin:20251015T213000
LOCATION:ZŠ Balabenka\, náměstí Na Balabence 800 Praha - Libeň
SUMMARY:PP-M-H-B: Sokol Spořilov-Dansport Praha
END:VEVENT
BEGIN:VEVENT
UID:34303362-3931-4132-a632-383338336132
DTSTAMP:20260422T070103Z
DESCRIPTION:4/16 Modřany B - Dansport Praha 1:3 (-23\,21\,-15\,-21)
DTSTART;TZID=Europe/Berlin:20251031T193000
DTEND;TZID=Europe/Berlin:20251031T213000
LOCATION:TJ Sokol Modřany\, K Vltavě 410 Praha - Modřany
SUMMARY:PP-M-H-B: Modřany B-Dansport Praha
END:VEVENT
BEGIN:VEVENT
UID:34376566-6164-4635-a439-626266643531
DTSTAMP:20260422T070103Z
DESCRIPTION:8/31 Sokol Michle - Dansport Praha 0:3 (-16\,-18\,-13)
DTSTART;TZID=Europe/Berlin:20251127T203000
DTEND;TZID=Europe/Berlin:20251127T223000
LOCATION:TJ Sokol Michle\, Pod Stárkou 36 Praha - Michle
SUMMARY:PP-M-H-B: Sokol Michle-Dansport Praha
END:VEVENT
BEGIN:VEVENT
UID:65373862-6336-4764-a265-613964663130
DTSTAMP:20260422T070103Z
DESCRIPTION:10/38 SK PROSEK B - Dansport Praha 1:3 (-24\,-23\,18\,-21)
DTSTART;TZID=Europe/Berlin:20251208T193000
DTEND;TZID=Europe/Berlin:20251208T213000
LOCATION:Gymnázium Litoměřická\, Litoměřická 726 Praha - Prosek
SUMMARY:PP-M-H-B: SK PROSEK B-Dansport Praha
END:VEVENT
BEGIN:VEVENT
UID:30646534-6561-4765-b230-326133336530
DTSTAMP:20260422T070103Z
DESCRIPTION:13/52 AVA - Dansport Praha 0:3 (-15\,-15\,-23)
DTSTART;TZID=Europe/Berlin:20260115T193000
DTEND;TZID=Europe/Berlin:20260115T213000
LOCATION:ZÁKLADNÍ ŠKOLA KLAUSOVA\, Klausova 2450 Praha - Stodůlky
SUMMARY:PP-M-H-B: AVA-Dansport Praha
END:VEVENT
BEGIN:VEVENT
UID:66306362-3339-4265-a561-353638666630
DTSTAMP:20260422T070103Z
DESCRIPTION:14/54 Španielka Řepy - Dansport Praha 0:3 (-18\,-20\,-14)\n!změ
 na pořadatelství!
DTSTART;TZID=Europe/Berlin:20260120T200000
DTEND;TZID=Europe/Berlin:20260120T220000
LOCATION:Sportovní centrum Řepy\, Na chobotě 109 Praha - Řepy
SUMMARY:PP-M-H-B: Španielka Řepy-Dansport Praha
END:VEVENT
BEGIN:VEVENT
UID:62663466-3563-4637-a238-393736363338
DTSTAMP:20260422T070103Z
DESCRIPTION:2/2 Dansport Praha - Hostivař 0:3 (-19\,-22\,-24)
DTSTART;TZID=Europe/Berlin:20260129T200000
DTEND;TZID=Europe/Berlin:20260129T220000
LOCATION:Sportovní hala Gymnázia Jana Keplera\, Parléřova 118 Praha - Hradč
 any
SUMMARY:PP-M-H-C: Dansport Praha-Hostivař
END:VEVENT
BEGIN:VEVENT
UID:35363662-3266-4634-b763-316261616364
DTSTAMP:20260422T070103Z
DESCRIPTION:5/5 Dansport Praha - Španielka Řepy 0:3 (-24\,-16\,-21)
DTSTART;TZID=Europe/Berlin:20260319T200000
DTEND;TZID=Europe/Berlin:20260319T220000
LOCATION:Sportovní hala Gymnázia Jana Keplera\, Parléřova 118 Praha - Hradč
 any
SUMMARY:PP-M-H-C: Dansport Praha-Španielka Řepy
END:VEVENT
BEGIN:VEVENT
UID:33313838-6464-4837-b735-323039323465
DTSTAMP:20260422T070103Z
DESCRIPTION:10/10 Dansport Praha - ČVUT 2:3 (-11\,22\,22\,-16\,-12)
DTSTART;TZID=Europe/Berlin:20260312T200000
DTEND;TZID=Europe/Berlin:20260312T220000
LOCATION:Sportovní hala Gymnázia Jana Keplera\, Parléřova 118 Praha - Hradč
 any
SUMMARY:PP-M-H-C: Dansport Praha-ČVUT
END:VEVENT
BEGIN:VEVENT
UID:33343962-6565-4166-a538-333831663664
DTSTAMP:20260422T070103Z
DESCRIPTION:4/4 ČVUT - Dansport Praha 3:0 (21\,22\,23)
DTSTART;TZID=Europe/Berlin:20260203T203000
DTEND;TZID=Europe/Berlin:20260203T223000
LOCATION:Sportovní centrum ČVUT Pod Juliskou\, Pod Juliskou 1805 Praha - De
 jvice
SUMMARY:PP-M-H-C: ČVUT-Dansport Praha
END:VEVENT
BEGIN:VEVENT
UID:30623664-3337-4136-b732-663432333639
DTSTAMP:20260422T070103Z
DESCRIPTION:8/8 Hostivař - Dansport Praha 3:0 (20\,18\,22)
DTSTART;TZID=Europe/Berlin:20260302T195000
DTEND;TZID=Europe/Berlin:20260302T215000
LOCATION:Sokol Bubeneč\, Korunovační 630 Praha - Bubeneč
SUMMARY:PP-M-H-C: Hostivař-Dansport Praha
END:VEVENT
BEGIN:VEVENT
UID:63303638-3462-4134-b437-393765656638
DTSTAMP:20260422T070103Z
DESCRIPTION:11/11 Španielka Řepy - Dansport Praha 3:0 (24\,13\,20)
DTSTART;TZID=Europe/Berlin:20260317T200000
DTEND;TZID=Europe/Berlin:20260317T220000
LOCATION:Sportovní centrum Řepy\, Na chobotě 109 Praha - Řepy
SUMMARY:PP-M-H-C: Španielka Řepy-Dansport Praha
END:VEVENT
END:VCALENDAR
