BEGIN:VCALENDAR
VERSION:2.0
PRODID:-//PVK Olymp Praha91577//NONSGML kigkonsult.se iCalcreator 2.41.80//
CALSCALE:GREGORIAN
UID:37656265-3863-4636-a330-633237353532
BEGIN:VEVENT
UID:64643738-6437-4861-a139-373861313639
DTSTAMP:20260421T183709Z
DESCRIPTION:1/3 Olymp B - Vršovice A 3:2 (19\,-17\,11\,-22\,12)
DTSTART;TZID=Europe/Berlin:20251012T180000
DTEND;TZID=Europe/Berlin:20251012T200000
LOCATION:VCM OLYMP PRAHA \, Radlická 115 Praha - Radlice
SUMMARY:PP-Z-H: Olymp B-Vršovice A
END:VEVENT
BEGIN:VEVENT
UID:36623136-6637-4830-a565-353538663762
DTSTAMP:20260421T183709Z
DESCRIPTION:3/12 Olymp B - Orion 3:1 (-12\,18\,15\,19)
DTSTART;TZID=Europe/Berlin:20251026T180000
DTEND;TZID=Europe/Berlin:20251026T200000
LOCATION:VCM OLYMP PRAHA \, Radlická 115 Praha - Radlice
SUMMARY:PP-Z-H: Olymp B-Orion
END:VEVENT
BEGIN:VEVENT
UID:31386439-3962-4666-b461-633731313231
DTSTAMP:20260421T183709Z
DESCRIPTION:5/21 Olymp B - Volejbal Modřany 3:0 (13\,16\,15)\n!náhradní hal
 a!
DTSTART;TZID=Europe/Berlin:20251112T183000
DTEND;TZID=Europe/Berlin:20251112T203000
LOCATION:PVK Olymp Praha\, Přípotoční 300 Praha - Vršovice
SUMMARY:PP-Z-H: Olymp B-Volejbal Modřany
END:VEVENT
BEGIN:VEVENT
UID:38643130-3164-4036-b962-366531393537
DTSTAMP:20260421T183709Z
DESCRIPTION:6/30 Olymp B - Meteor Praha C 3:0 (20\,26\,21)
DTSTART;TZID=Europe/Berlin:20251123T180000
DTEND;TZID=Europe/Berlin:20251123T200000
LOCATION:VCM OLYMP PRAHA \, Radlická 115 Praha - Radlice
SUMMARY:PP-Z-H: Olymp B-Meteor Praha C
END:VEVENT
BEGIN:VEVENT
UID:63393838-3136-4562-b237-333264316132
DTSTAMP:20260421T183709Z
DESCRIPTION:8/39 Olymp B - TJ Jižní Město Chodov 3:1 (-19\,19\,19\,15)
DTSTART;TZID=Europe/Berlin:20251207T180000
DTEND;TZID=Europe/Berlin:20251207T200000
LOCATION:VCM OLYMP PRAHA \, Radlická 115 Praha - Radlice
SUMMARY:PP-Z-H: Olymp B-TJ Jižní Město Chodov
END:VEVENT
BEGIN:VEVENT
UID:39393033-6638-4261-b661-363735396264
DTSTAMP:20260421T183709Z
DESCRIPTION:11/54 Olymp B - ČZU Praha 3:0 (22\,12\,12)
DTSTART;TZID=Europe/Berlin:20260118T180000
DTEND;TZID=Europe/Berlin:20260118T200000
LOCATION:VCM OLYMP PRAHA \, Radlická 115 Praha - Radlice
SUMMARY:PP-Z-H: Olymp B-ČZU Praha
END:VEVENT
BEGIN:VEVENT
UID:32623661-3138-4664-b837-383366303539
DTSTAMP:20260421T183709Z
DESCRIPTION:13/65 Olymp B - Žižkov B 3:0 (15\,15\,18)
DTSTART;TZID=Europe/Berlin:20260201T180000
DTEND;TZID=Europe/Berlin:20260201T200000
LOCATION:VCM OLYMP PRAHA \, Radlická 115 Praha - Radlice
SUMMARY:PP-Z-H: Olymp B-Žižkov B
END:VEVENT
BEGIN:VEVENT
UID:62646463-6539-4862-a631-366266616334
DTSTAMP:20260421T183709Z
DESCRIPTION:16/77 Olymp B - Sokol Nusle B 3:0 (21\,18\,22)
DTSTART;TZID=Europe/Berlin:20260308T180000
DTEND;TZID=Europe/Berlin:20260308T200000
LOCATION:VCM OLYMP PRAHA \, Radlická 115 Praha - Radlice
SUMMARY:PP-Z-H: Olymp B-Sokol Nusle B
END:VEVENT
BEGIN:VEVENT
UID:63656437-6336-4665-a438-303164663138
DTSTAMP:20260421T183709Z
DESCRIPTION:18/88 Olymp B - VSK MFF UK A 2:3 (-25\,22\,21\,-21\,-13)
DTSTART;TZID=Europe/Berlin:20260322T180000
DTEND;TZID=Europe/Berlin:20260322T200000
LOCATION:VCM OLYMP PRAHA \, Radlická 115 Praha - Radlice
SUMMARY:PP-Z-H: Olymp B-VSK MFF UK A
END:VEVENT
BEGIN:VEVENT
UID:66393135-6162-4534-b235-323165323065
DTSTAMP:20260421T183709Z
DESCRIPTION:2/9 ČZU Praha - Olymp B 0:3 (-13\,-9\,-21)
DTSTART;TZID=Europe/Berlin:20251015T203000
DTEND;TZID=Europe/Berlin:20251015T223000
LOCATION:Sportcentrum Suchdol ČZU\, Sídlištní 1167 Praha - Suchdol
SUMMARY:PP-Z-H: ČZU Praha-Olymp B
END:VEVENT
BEGIN:VEVENT
UID:35373833-3662-4134-a135-373563373932
DTSTAMP:20260421T183709Z
DESCRIPTION:4/20 Žižkov B - Olymp B 3:1 (18\,-25\,21\,22)
DTSTART;TZID=Europe/Berlin:20251106T203000
DTEND;TZID=Europe/Berlin:20251106T223000
LOCATION:TJ Sokol Žižkov I.\, Hartigova 929 Praha - Žižkov
SUMMARY:PP-Z-H: Žižkov B-Olymp B
END:VEVENT
BEGIN:VEVENT
UID:31313638-3630-4030-b835-333837396131
DTSTAMP:20260421T183709Z
DESCRIPTION:7/32 Sokol Nusle B - Olymp B 1:3 (-11\,27\,-14\,-22)
DTSTART;TZID=Europe/Berlin:20251127T203000
DTEND;TZID=Europe/Berlin:20251127T223000
LOCATION:TJ Sokol Nusle\, Na květnici 700 Praha - Nusle
SUMMARY:PP-Z-H: Sokol Nusle B-Olymp B
END:VEVENT
BEGIN:VEVENT
UID:37613431-3764-4464-a364-373738313334
DTSTAMP:20260421T183709Z
DESCRIPTION:9/43 VSK MFF UK A - Olymp B 3:2 (-20\,18\,25\,-23\,14)
DTSTART;TZID=Europe/Berlin:20251209T200000
DTEND;TZID=Europe/Berlin:20251209T220000
LOCATION:, Ohradní 1366 Praha - Michle
SUMMARY:PP-Z-H: VSK MFF UK A-Olymp B
END:VEVENT
BEGIN:VEVENT
UID:37646137-6661-4639-a366-323435343966
DTSTAMP:20260421T183709Z
DESCRIPTION:10/48 Vršovice A - Olymp B 3:0 (12\,12\,17)
DTSTART;TZID=Europe/Berlin:20260105T201500
DTEND;TZID=Europe/Berlin:20260105T221500
LOCATION:Sokolovna Vršovice\, Sportovní 111 Praha - Vršovice
SUMMARY:PP-Z-H: Vršovice A-Olymp B
END:VEVENT
BEGIN:VEVENT
UID:38346436-3966-4030-b737-623636353664
DTSTAMP:20260421T183709Z
DESCRIPTION:12/57 Orion - Olymp B 0:3 (-16\,-15\,-16)
DTSTART;TZID=Europe/Berlin:20260120T193000
DTEND;TZID=Europe/Berlin:20260120T213000
LOCATION:Sportovní hala DDM Praha 12 - Monet\, Herrmannova 2016 Praha - Mod
 řany
SUMMARY:PP-Z-H: Orion-Olymp B
END:VEVENT
BEGIN:VEVENT
UID:33336638-3833-4166-b637-646637373864
DTSTAMP:20260421T183709Z
DESCRIPTION:14/66 Volejbal Modřany - Olymp B 0:3 (-22\,-9\,-21)
DTSTART;TZID=Europe/Berlin:20260204T200000
DTEND;TZID=Europe/Berlin:20260204T220000
LOCATION:TJ Sokol Modřany\, K Vltavě 410 Praha - Modřany
SUMMARY:PP-Z-H: Volejbal Modřany-Olymp B
END:VEVENT
BEGIN:VEVENT
UID:34356634-6161-4566-b162-313338323932
DTSTAMP:20260421T183709Z
DESCRIPTION:15/75 Meteor Praha C - Olymp B 1:3 (23\,-15\,-21\,-20)
DTSTART;TZID=Europe/Berlin:20260211T203000
DTEND;TZID=Europe/Berlin:20260211T223000
LOCATION:Tělocvična ZŠ Na Šutce\, Na Šutce 440 Praha - Troja
SUMMARY:PP-Z-H: Meteor Praha C-Olymp B
END:VEVENT
BEGIN:VEVENT
UID:36393163-3234-4838-b666-326338373730
DTSTAMP:20260421T183709Z
DESCRIPTION:17/84 TJ Jižní Město Chodov - Olymp B 0:3 (-18\,-19\,-16)
DTSTART;TZID=Europe/Berlin:20260312T201500
DTEND;TZID=Europe/Berlin:20260312T221500
LOCATION:SKŠ ZŠ Mikulova Praha\, Mikulova 1594 Praha - Chodov
SUMMARY:PP-Z-H: TJ Jižní Město Chodov-Olymp B
END:VEVENT
BEGIN:VEVENT
UID:64666461-3966-4232-b739-333035353266
DTSTAMP:20260421T183709Z
DESCRIPTION:1/4 Olymp B - Bižuterie B 3:0 (19\,16\,14)
DTSTART;TZID=Europe/Berlin:20260418T133000
DTEND;TZID=Europe/Berlin:20260418T153000
LOCATION:PVK Olymp Praha\, Přípotoční 300 Praha - Vršovice
SUMMARY:2-Z-KB: Olymp B-Bižuterie B
END:VEVENT
BEGIN:VEVENT
UID:36353638-6238-4436-b137-343237666532
DTSTAMP:20260421T183709Z
DESCRIPTION:1/7 Olymp B - Rychnov n. K. 3:0 (19\,22\,17)
DTSTART;TZID=Europe/Berlin:20260419T100000
DTEND;TZID=Europe/Berlin:20260419T120000
LOCATION:PVK Olymp Praha\, Přípotoční 300 Praha - Vršovice
SUMMARY:2-Z-KB: Olymp B-Rychnov n. K.
END:VEVENT
BEGIN:VEVENT
UID:38643833-6339-4633-b230-333138653362
DTSTAMP:20260421T183709Z
DESCRIPTION:1/1 Nymburk - Olymp B 0:3 (-23\,-21\,-23)
DTSTART;TZID=Europe/Berlin:20260418T090000
DTEND;TZID=Europe/Berlin:20260418T110000
LOCATION:PVK Olymp Praha\, Přípotoční 300 Praha - Vršovice
SUMMARY:2-Z-KB: Nymburk-Olymp B
END:VEVENT
BEGIN:VEVENT
UID:31626431-6239-4763-b863-356531323164
DTSTAMP:20260421T183709Z
DESCRIPTION:1/9 Jihovolej - Olymp B 3:2 (-17\,21\,-21\,18\,4)
DTSTART;TZID=Europe/Berlin:20260419T133000
DTEND;TZID=Europe/Berlin:20260419T153000
LOCATION:PVK Olymp Praha\, Přípotoční 300 Praha - Vršovice
SUMMARY:2-Z-KB: Jihovolej-Olymp B
END:VEVENT
END:VCALENDAR
