BEGIN:VCALENDAR
VERSION:2.0
PRODID:-//Sportovní klub Španielka Řepy z.s.91587//NONSGML kigkonsult.se iCalcreator 2.41.80//
CALSCALE:GREGORIAN
UID:65366339-6530-4539-b836-343962643865
BEGIN:VEVENT
UID:65643632-3333-4839-a231-623737616431
DTSTAMP:20260425T181111Z
DESCRIPTION:1/4 SK Španielka Řepy - Přírodní vědy A 0:3 (-20\,-20\,-15)
DTSTART;TZID=Europe/Berlin:20251019T200000
DTEND;TZID=Europe/Berlin:20251019T220000
LOCATION:Sportovní centrum Řepy\, Na chobotě 109 Praha - Řepy
SUMMARY:PP-Z-1H-A: SK Španielka Řepy-Přírodní vědy A
END:VEVENT
BEGIN:VEVENT
UID:63326132-6262-4436-b063-343762376162
DTSTAMP:20260425T181111Z
DESCRIPTION:7/31 SK Španielka Řepy - BVŠP 2:3 (21\,21\,-15\,-16\,-13)
DTSTART;TZID=Europe/Berlin:20251130T203000
DTEND;TZID=Europe/Berlin:20251130T223000
LOCATION:Sportovní centrum Řepy\, Na chobotě 109 Praha - Řepy
SUMMARY:PP-Z-1H-A: SK Španielka Řepy-BVŠP
END:VEVENT
BEGIN:VEVENT
UID:65396138-3532-4461-b530-343661303666
DTSTAMP:20260425T181111Z
DESCRIPTION:8/40 SK Španielka Řepy - Střešovice C 1:3 (21\,-14\,-20\,-23)
DTSTART;TZID=Europe/Berlin:20251214T200000
DTEND;TZID=Europe/Berlin:20251214T220000
LOCATION:Sportovní centrum Řepy\, Na chobotě 109 Praha - Řepy
SUMMARY:PP-Z-1H-A: SK Španielka Řepy-Střešovice C
END:VEVENT
BEGIN:VEVENT
UID:66643963-6463-4538-a238-663439303264
DTSTAMP:20260425T181111Z
DESCRIPTION:11/53 SK Španielka Řepy - TJ Střížkov 3:0 (22\,17\,23)
DTSTART;TZID=Europe/Berlin:20260118T203000
DTEND;TZID=Europe/Berlin:20260118T223000
LOCATION:Sportovní centrum Řepy\, Na chobotě 109 Praha - Řepy
SUMMARY:PP-Z-1H-A: SK Španielka Řepy-TJ Střížkov
END:VEVENT
BEGIN:VEVENT
UID:33626664-3835-4164-b761-393230306464
DTSTAMP:20260425T181111Z
DESCRIPTION:12/58 SK Španielka Řepy - SK Meteor Praha A 0:3 (-13\,-23\,-24)
DTSTART;TZID=Europe/Berlin:20260125T200000
DTEND;TZID=Europe/Berlin:20260125T220000
LOCATION:Sportovní centrum Řepy\, Na chobotě 109 Praha - Řepy
SUMMARY:PP-Z-1H-A: SK Španielka Řepy-SK Meteor Praha A
END:VEVENT
BEGIN:VEVENT
UID:66383135-6131-4531-b232-396436336466
DTSTAMP:20260425T181111Z
DESCRIPTION:13/64 SK Španielka Řepy - TJ Kobylisy 3:0 (17\,20\,22)
DTSTART;TZID=Europe/Berlin:20260201T200000
DTEND;TZID=Europe/Berlin:20260201T220000
LOCATION:Sportovní centrum Řepy\, Na chobotě 109 Praha - Řepy
SUMMARY:PP-Z-1H-A: SK Španielka Řepy-TJ Kobylisy
END:VEVENT
BEGIN:VEVENT
UID:61323934-6361-4238-b536-303965633563
DTSTAMP:20260425T181111Z
DESCRIPTION:14/67 SK Španielka Řepy - TJ Břevnov 3:1 (18\,-20\,18\,20)
DTSTART;TZID=Europe/Berlin:20260208T203000
DTEND;TZID=Europe/Berlin:20260208T223000
LOCATION:Sportovní centrum Řepy\, Na chobotě 109 Praha - Řepy
SUMMARY:PP-Z-1H-A: SK Španielka Řepy-TJ Břevnov
END:VEVENT
BEGIN:VEVENT
UID:31343430-3664-4534-b239-353335303338
DTSTAMP:20260425T181111Z
DESCRIPTION:15/75 SK Španielka Řepy - AVA B 1:3 (-22\,-23\,23\,-23)
DTSTART;TZID=Europe/Berlin:20260222T200000
DTEND;TZID=Europe/Berlin:20260222T220000
LOCATION:Sportovní centrum Řepy\, Na chobotě 109 Praha - Řepy
SUMMARY:PP-Z-1H-A: SK Španielka Řepy-AVA B
END:VEVENT
BEGIN:VEVENT
UID:62383837-3638-4636-a365-646164666632
DTSTAMP:20260425T181111Z
DESCRIPTION:18/87 SK Španielka Řepy - SK Kometa Praha 3:2 (20\,-17\,-10\,18
 \,6)
DTSTART;TZID=Europe/Berlin:20260315T200000
DTEND;TZID=Europe/Berlin:20260315T220000
LOCATION:Sportovní centrum Řepy\, Na chobotě 109 Praha - Řepy
SUMMARY:PP-Z-1H-A: SK Španielka Řepy-SK Kometa Praha
END:VEVENT
BEGIN:VEVENT
UID:30613739-6239-4164-b134-663832376437
DTSTAMP:20260425T181111Z
DESCRIPTION:2/8 TJ Střížkov - SK Španielka Řepy 2:3 (18\,-23\,25\,-21\,-10)
DTSTART;TZID=Europe/Berlin:20251015T203000
DTEND;TZID=Europe/Berlin:20251015T223000
LOCATION:Gymnázium Litoměřická\, Litoměřická 726 Praha - Prosek
SUMMARY:PP-Z-1H-A: TJ Střížkov-SK Španielka Řepy
END:VEVENT
BEGIN:VEVENT
UID:38353463-3465-4232-a437-306431666335
DTSTAMP:20260425T181111Z
DESCRIPTION:3/13 SK Meteor Praha A - SK Španielka Řepy 3:0 (16\,17\,23)
DTSTART;TZID=Europe/Berlin:20251022T202000
DTEND;TZID=Europe/Berlin:20251022T222000
LOCATION:Tělocvična ZŠ Na Šutce\, Na Šutce 440 Praha - Troja
SUMMARY:PP-Z-1H-A: SK Meteor Praha A-SK Španielka Řepy
END:VEVENT
BEGIN:VEVENT
UID:38376164-3065-4862-b035-396234396161
DTSTAMP:20260425T181111Z
DESCRIPTION:4/19 TJ Kobylisy - SK Španielka Řepy 1:3 (-18\,-24\,22\,-12)
DTSTART;TZID=Europe/Berlin:20251106T203000
DTEND;TZID=Europe/Berlin:20251106T223000
LOCATION:, U školské zahrady 430 Praha - Kobylisy
SUMMARY:PP-Z-1H-A: TJ Kobylisy-SK Španielka Řepy
END:VEVENT
BEGIN:VEVENT
UID:32333831-6234-4338-b633-306133333536
DTSTAMP:20260425T181111Z
DESCRIPTION:5/22 TJ Břevnov - SK Španielka Řepy 3:0 (22\,22\,19)
DTSTART;TZID=Europe/Berlin:20251110T200000
DTEND;TZID=Europe/Berlin:20251110T220000
LOCATION:TJ Sokol I. Smíchov\, Plzeňská 168 Praha - Smíchov
SUMMARY:PP-Z-1H-A: TJ Břevnov-SK Španielka Řepy
END:VEVENT
BEGIN:VEVENT
UID:63346332-3730-4965-b436-393366353138
DTSTAMP:20260425T181111Z
DESCRIPTION:6/30 AVA B - SK Španielka Řepy 0:3 (-17\,-22\,-24)
DTSTART;TZID=Europe/Berlin:20251120T203000
DTEND;TZID=Europe/Berlin:20251120T223000
LOCATION:tělocvičny ZŠ Mikulova\, Mikulova 1594 Praha - Chodov
SUMMARY:PP-Z-1H-A: AVA B-SK Španielka Řepy
END:VEVENT
BEGIN:VEVENT
UID:37636439-6437-4763-b864-353935373937
DTSTAMP:20260425T181111Z
DESCRIPTION:9/42 SK Kometa Praha - SK Španielka Řepy 3:1 (22\,-24\,20\,22)
DTSTART;TZID=Europe/Berlin:20251208T202000
DTEND;TZID=Europe/Berlin:20251208T222000
LOCATION:Tělocvična ZŠ Na Šutce\, Na Šutce 440 Praha - Troja
SUMMARY:PP-Z-1H-A: SK Kometa Praha-SK Španielka Řepy
END:VEVENT
BEGIN:VEVENT
UID:65366538-6538-4564-a537-353334303836
DTSTAMP:20260425T181111Z
DESCRIPTION:10/49 Přírodní vědy A - SK Španielka Řepy 3:1 (-25\,15\,26\,15)
DTSTART;TZID=Europe/Berlin:20260108T192000
DTEND;TZID=Europe/Berlin:20260108T212000
LOCATION:tělocvična ZŠ Norbertov\, Norbertov 126 Praha - Střešovice
SUMMARY:PP-Z-1H-A: Přírodní vědy A-SK Španielka Řepy
END:VEVENT
BEGIN:VEVENT
UID:64393765-3263-4362-b831-303463346235
DTSTAMP:20260425T181111Z
DESCRIPTION:16/76 BVŠP - SK Španielka Řepy 2:3 (-23\,-22\,22\,15\,-14)
DTSTART;TZID=Europe/Berlin:20260215T190000
DTEND;TZID=Europe/Berlin:20260215T210000
LOCATION:Burešova\, Burešova 1130 Praha - Kobylisy
SUMMARY:PP-Z-1H-A: BVŠP-SK Španielka Řepy
END:VEVENT
BEGIN:VEVENT
UID:62343531-6233-4737-a336-323738396137
DTSTAMP:20260425T181111Z
DESCRIPTION:17/85 Střešovice C - SK Španielka Řepy 3:0 (20\,20\,21)
DTSTART;TZID=Europe/Berlin:20260310T200000
DTEND;TZID=Europe/Berlin:20260310T220000
LOCATION:TJ Tatran Střešovice - tělocvična\, Sibeliova 368 Praha - Střešovi
 ce
SUMMARY:PP-Z-1H-A: Střešovice C-SK Španielka Řepy
END:VEVENT
END:VCALENDAR
