BEGIN:VCALENDAR
VERSION:2.0
PRODID:-//TJ Sokol Spořilov91594//NONSGML kigkonsult.se iCalcreator 2.41.80//
CALSCALE:GREGORIAN
UID:30386233-3731-4464-a332-306362353765
BEGIN:VEVENT
UID:37376131-6231-4263-a133-633638386163
DTSTAMP:20260422T224325Z
DESCRIPTION:1/1 Sokol Spořilov - Mikulovka 1:3 (-20\,18\,-22\,-22)
DTSTART;TZID=Europe/Berlin:20251008T193000
DTEND;TZID=Europe/Berlin:20251008T213000
LOCATION:ZŠ Balabenka\, náměstí Na Balabence 800 Praha - Libeň
SUMMARY:PP-Z-1H-B: Sokol Spořilov-Mikulovka
END:VEVENT
BEGIN:VEVENT
UID:38366437-3761-4335-b266-323663333161
DTSTAMP:20260422T224325Z
DESCRIPTION:3/12 Sokol Spořilov - TJ Kyje 0:3 (-23\,-21\,-21)
DTSTART;TZID=Europe/Berlin:20251022T193000
DTEND;TZID=Europe/Berlin:20251022T213000
LOCATION:ZŠ Balabenka\, náměstí Na Balabence 800 Praha - Libeň
SUMMARY:PP-Z-1H-B: Sokol Spořilov-TJ Kyje
END:VEVENT
BEGIN:VEVENT
UID:62613139-3732-4565-b338-366237656261
DTSTAMP:20260422T224325Z
DESCRIPTION:4/19 Sokol Spořilov - SK Slavia Praha 0:3 (-14\,-14\,-27)
DTSTART;TZID=Europe/Berlin:20251105T193000
DTEND;TZID=Europe/Berlin:20251105T213000
LOCATION:ZŠ Balabenka\, náměstí Na Balabence 800 Praha - Libeň
SUMMARY:PP-Z-1H-B: Sokol Spořilov-SK Slavia Praha
END:VEVENT
BEGIN:VEVENT
UID:35306334-6464-4561-a239-383436653431
DTSTAMP:20260422T224325Z
DESCRIPTION:6/28 Sokol Spořilov - SK Meteor Praha E 0:3 (-22\,-19\,-20)
DTSTART;TZID=Europe/Berlin:20251119T193000
DTEND;TZID=Europe/Berlin:20251119T213000
LOCATION:ZŠ Balabenka\, náměstí Na Balabence 800 Praha - Libeň
SUMMARY:PP-Z-1H-B: Sokol Spořilov-SK Meteor Praha E
END:VEVENT
BEGIN:VEVENT
UID:30333534-3665-4266-a230-373532373862
DTSTAMP:20260422T224325Z
DESCRIPTION:8/37 Sokol Spořilov - SK Meteor Praha F 3:1 (22\,-17\,23\,23)
DTSTART;TZID=Europe/Berlin:20251203T193000
DTEND;TZID=Europe/Berlin:20251203T213000
LOCATION:ZŠ Balabenka\, náměstí Na Balabence 800 Praha - Libeň
SUMMARY:PP-Z-1H-B: Sokol Spořilov-SK Meteor Praha F
END:VEVENT
BEGIN:VEVENT
UID:33626130-3665-4531-a333-633765663135
DTSTAMP:20260422T224325Z
DESCRIPTION:11/55 Sokol Spořilov - TJ ABC Braník 1:3 (26\,-8\,-16\,-14)
DTSTART;TZID=Europe/Berlin:20260114T193000
DTEND;TZID=Europe/Berlin:20260114T213000
LOCATION:ZŠ Balabenka\, náměstí Na Balabence 800 Praha - Libeň
SUMMARY:PP-Z-1H-B: Sokol Spořilov-TJ ABC Braník
END:VEVENT
BEGIN:VEVENT
UID:64623932-3933-4534-b637-383739626531
DTSTAMP:20260422T224325Z
DESCRIPTION:14/68 Sokol Spořilov - TJ Slavoj Břevnov 2:3 (-20\,-21\,24\,17\
 ,-14)
DTSTART;TZID=Europe/Berlin:20260325T193000
DTEND;TZID=Europe/Berlin:20260325T213000
LOCATION:ZŠ Balabenka\, náměstí Na Balabence 800 Praha - Libeň
SUMMARY:PP-Z-1H-B: Sokol Spořilov-TJ Slavoj Břevnov
END:VEVENT
BEGIN:VEVENT
UID:36373735-6565-4664-b866-363733366666
DTSTAMP:20260422T224325Z
DESCRIPTION:16/79 Sokol Spořilov - TJ Praga 3:1 (22\,-17\,25\,19)
DTSTART;TZID=Europe/Berlin:20260304T193000
DTEND;TZID=Europe/Berlin:20260304T213000
LOCATION:ZŠ Balabenka\, náměstí Na Balabence 800 Praha - Libeň
SUMMARY:PP-Z-1H-B: Sokol Spořilov-TJ Praga
END:VEVENT
BEGIN:VEVENT
UID:33383538-6665-4231-b331-663934613530
DTSTAMP:20260422T224325Z
DESCRIPTION:18/90 Sokol Spořilov - AVA A 0:3 (-13\,-13\,-12)
DTSTART;TZID=Europe/Berlin:20260318T193000
DTEND;TZID=Europe/Berlin:20260318T213000
LOCATION:ZŠ Balabenka\, náměstí Na Balabence 800 Praha - Libeň
SUMMARY:PP-Z-1H-B: Sokol Spořilov-AVA A
END:VEVENT
BEGIN:VEVENT
UID:65363433-3137-4534-b433-373866383664
DTSTAMP:20260422T224325Z
DESCRIPTION:2/10 TJ ABC Braník - Sokol Spořilov 3:1 (23\,14\,-24\,18)
DTSTART;TZID=Europe/Berlin:20251015T182000
DTEND;TZID=Europe/Berlin:20251015T202000
LOCATION:Sokolovna Braník\, Branická 275 Praha - Braník
SUMMARY:PP-Z-1H-B: TJ ABC Braník-Sokol Spořilov
END:VEVENT
BEGIN:VEVENT
UID:31396664-3733-4031-b363-666262346466
DTSTAMP:20260422T224325Z
DESCRIPTION:5/23 TJ Slavoj Břevnov - Sokol Spořilov 3:2 (-20\,19\,22\,-17\,
 14)
DTSTART;TZID=Europe/Berlin:20251113T183000
DTEND;TZID=Europe/Berlin:20251113T203000
LOCATION:TJ Sokol Praha Košíře\, Klamovka 2051 Praha - Smíchov
SUMMARY:PP-Z-1H-B: TJ Slavoj Břevnov-Sokol Spořilov
END:VEVENT
BEGIN:VEVENT
UID:37366630-6130-4438-b130-636663643036
DTSTAMP:20260422T224325Z
DESCRIPTION:7/34 TJ Praga - Sokol Spořilov 3:0 (16\,15\,20)
DTSTART;TZID=Europe/Berlin:20251126T182000
DTEND;TZID=Europe/Berlin:20251126T202000
LOCATION:Sokolovna Braník\, Branická 275 Praha - Braník
SUMMARY:PP-Z-1H-B: TJ Praga-Sokol Spořilov
END:VEVENT
BEGIN:VEVENT
UID:64343131-6632-4166-b166-396538636536
DTSTAMP:20260422T224325Z
DESCRIPTION:9/45 AVA A - Sokol Spořilov 3:1 (4\,18\,-18\,10)
DTSTART;TZID=Europe/Berlin:20251210T193000
DTEND;TZID=Europe/Berlin:20251210T213000
LOCATION:ZÁKLADNÍ ŠKOLA KLAUSOVA\, Klausova 2450 Praha - Stodůlky
SUMMARY:PP-Z-1H-B: AVA A-Sokol Spořilov
END:VEVENT
BEGIN:VEVENT
UID:63343437-6135-4865-a333-383334393465
DTSTAMP:20260422T224325Z
DESCRIPTION:10/46 Mikulovka - Sokol Spořilov 3:1 (19\,19\,-23\,6)
DTSTART;TZID=Europe/Berlin:20260105T190000
DTEND;TZID=Europe/Berlin:20260105T210000
LOCATION:SKŠ ZŠ Mikulova Praha\, Mikulova 1594 Praha - Chodov
SUMMARY:PP-Z-1H-B: Mikulovka-Sokol Spořilov
END:VEVENT
BEGIN:VEVENT
UID:31643066-3038-4162-b136-366437336130
DTSTAMP:20260422T224325Z
DESCRIPTION:12/57 TJ Kyje - Sokol Spořilov 3:0 (14\,16\,26)
DTSTART;TZID=Europe/Berlin:20260119T182000
DTEND;TZID=Europe/Berlin:20260119T202000
LOCATION:TJ Kyje\, Hamerská 1307 Praha - Kyje
SUMMARY:PP-Z-1H-B: TJ Kyje-Sokol Spořilov
END:VEVENT
BEGIN:VEVENT
UID:31336635-3066-4030-a533-316633373966
DTSTAMP:20260422T224325Z
DESCRIPTION:13/64 SK Slavia Praha - Sokol Spořilov 3:0 (15\,20\,16)\n!náhra
 dní hala!
DTSTART;TZID=Europe/Berlin:20260126T203000
DTEND;TZID=Europe/Berlin:20260126T223000
LOCATION:SOU Jarov\, Učňovská 100 Praha - Hrdlořezy
SUMMARY:PP-Z-1H-B: SK Slavia Praha-Sokol Spořilov
END:VEVENT
BEGIN:VEVENT
UID:65353439-3364-4532-a363-643961316461
DTSTAMP:20260422T224325Z
DESCRIPTION:15/73 SK Meteor Praha E - Sokol Spořilov 3:1 (24\,18\,-23\,17)
DTSTART;TZID=Europe/Berlin:20260212T203000
DTEND;TZID=Europe/Berlin:20260212T223000
LOCATION:, U školské zahrady 430 Praha - Kobylisy
SUMMARY:PP-Z-1H-B: SK Meteor Praha E-Sokol Spořilov
END:VEVENT
BEGIN:VEVENT
UID:39626562-6632-4131-a135-376663663865
DTSTAMP:20260422T224325Z
DESCRIPTION:17/82 SK Meteor Praha F - Sokol Spořilov 2:3 (-21\,21\,17\,-15\
 ,-10)
DTSTART;TZID=Europe/Berlin:20260315T190000
DTEND;TZID=Europe/Berlin:20260315T210000
LOCATION:Sokol Bubeneč\, Korunovační 630 Praha - Bubeneč
SUMMARY:PP-Z-1H-B: SK Meteor Praha F-Sokol Spořilov
END:VEVENT
END:VCALENDAR
