BEGIN:VCALENDAR
VERSION:2.0
PRODID:-//TJ ABC Braník91603//NONSGML kigkonsult.se iCalcreator 2.41.80//
CALSCALE:GREGORIAN
UID:63323632-3963-4735-a466-316432356333
BEGIN:VEVENT
UID:65323565-3963-4264-a262-663030373961
DTSTAMP:20260422T213406Z
DESCRIPTION:1/2 TJ ABC Braník - AVA A 0:3 (-21\,-18\,-22)
DTSTART;TZID=Europe/Berlin:20251008T182000
DTEND;TZID=Europe/Berlin:20251008T202000
LOCATION:Sokolovna Braník\, Branická 275 Praha - Braník
SUMMARY:PP-Z-1H-B: TJ ABC Braník-AVA A
END:VEVENT
BEGIN:VEVENT
UID:31313661-6232-4633-a364-653731623238
DTSTAMP:20260422T213406Z
DESCRIPTION:2/10 TJ ABC Braník - Sokol Spořilov 3:1 (23\,14\,-24\,18)
DTSTART;TZID=Europe/Berlin:20251015T182000
DTEND;TZID=Europe/Berlin:20251015T202000
LOCATION:Sokolovna Braník\, Branická 275 Praha - Braník
SUMMARY:PP-Z-1H-B: TJ ABC Braník-Sokol Spořilov
END:VEVENT
BEGIN:VEVENT
UID:61386665-3836-4537-a139-633735613365
DTSTAMP:20260422T213406Z
DESCRIPTION:3/11 TJ ABC Braník - Mikulovka 3:0 (24\,15\,18)
DTSTART;TZID=Europe/Berlin:20251022T182000
DTEND;TZID=Europe/Berlin:20251022T202000
LOCATION:Sokolovna Braník\, Branická 275 Praha - Braník
SUMMARY:PP-Z-1H-B: TJ ABC Braník-Mikulovka
END:VEVENT
BEGIN:VEVENT
UID:30326261-3363-4530-b065-643730653238
DTSTAMP:20260422T213406Z
DESCRIPTION:4/20 TJ ABC Braník - TJ Kyje 1:3 (20\,-11\,-22\,-20)
DTSTART;TZID=Europe/Berlin:20251105T182000
DTEND;TZID=Europe/Berlin:20251105T202000
LOCATION:Sokolovna Braník\, Branická 275 Praha - Braník
SUMMARY:PP-Z-1H-B: TJ ABC Braník-TJ Kyje
END:VEVENT
BEGIN:VEVENT
UID:38303266-3462-4063-b437-663766663434
DTSTAMP:20260422T213406Z
DESCRIPTION:6/29 TJ ABC Braník - TJ Slavoj Břevnov 3:0 (12\,20\,16)
DTSTART;TZID=Europe/Berlin:20251119T182000
DTEND;TZID=Europe/Berlin:20251119T202000
LOCATION:Sokolovna Braník\, Branická 275 Praha - Braník
SUMMARY:PP-Z-1H-B: TJ ABC Braník-TJ Slavoj Břevnov
END:VEVENT
BEGIN:VEVENT
UID:30613564-3664-4064-b965-633165353839
DTSTAMP:20260422T213406Z
DESCRIPTION:8/38 TJ ABC Braník - TJ Praga 2:3 (21\,-21\,11\,-22\,-12)
DTSTART;TZID=Europe/Berlin:20251203T182000
DTEND;TZID=Europe/Berlin:20251203T202000
LOCATION:Sokolovna Braník\, Branická 275 Praha - Braník
SUMMARY:PP-Z-1H-B: TJ ABC Braník-TJ Praga
END:VEVENT
BEGIN:VEVENT
UID:35353536-3638-4965-a233-623936343034
DTSTAMP:20260422T213406Z
DESCRIPTION:14/67 TJ ABC Braník - SK Slavia Praha 1:3 (23\,-15\,-19\,-13)
DTSTART;TZID=Europe/Berlin:20260204T182000
DTEND;TZID=Europe/Berlin:20260204T202000
LOCATION:Sokolovna Braník\, Branická 275 Praha - Braník
SUMMARY:PP-Z-1H-B: TJ ABC Braník-SK Slavia Praha
END:VEVENT
BEGIN:VEVENT
UID:64303037-3131-4164-b861-646665373366
DTSTAMP:20260422T213406Z
DESCRIPTION:16/78 TJ ABC Braník - SK Meteor Praha E 3:2 (22\,15\,-19\,-10\,
 11)
DTSTART;TZID=Europe/Berlin:20260304T182000
DTEND;TZID=Europe/Berlin:20260304T202000
LOCATION:Sokolovna Braník\, Branická 275 Praha - Braník
SUMMARY:PP-Z-1H-B: TJ ABC Braník-SK Meteor Praha E
END:VEVENT
BEGIN:VEVENT
UID:61346462-3261-4130-a331-616137306334
DTSTAMP:20260422T213406Z
DESCRIPTION:18/89 TJ ABC Braník - SK Meteor Praha F 2:3 (-18\,21\,9\,-22\,-
 12)
DTSTART;TZID=Europe/Berlin:20260318T182000
DTEND;TZID=Europe/Berlin:20260318T202000
LOCATION:Sokolovna Braník\, Branická 275 Praha - Braník
SUMMARY:PP-Z-1H-B: TJ ABC Braník-SK Meteor Praha F
END:VEVENT
BEGIN:VEVENT
UID:35366530-3565-4536-b230-363263356237
DTSTAMP:20260422T213406Z
DESCRIPTION:5/22 SK Slavia Praha - TJ ABC Braník 3:0 (18\,16\,19)\n!náhradn
 í hala!
DTSTART;TZID=Europe/Berlin:20251110T203000
DTEND;TZID=Europe/Berlin:20251110T223000
LOCATION:SOU Jarov\, Učňovská 100 Praha - Hrdlořezy
SUMMARY:PP-Z-1H-B: SK Slavia Praha-TJ ABC Braník
END:VEVENT
BEGIN:VEVENT
UID:34653662-3563-4361-b532-653239623538
DTSTAMP:20260422T213406Z
DESCRIPTION:7/33 SK Meteor Praha E - TJ ABC Braník 3:1 (12\,25\,-21\,15)
DTSTART;TZID=Europe/Berlin:20251127T203000
DTEND;TZID=Europe/Berlin:20251127T223000
LOCATION:, U školské zahrady 430 Praha - Kobylisy
SUMMARY:PP-Z-1H-B: SK Meteor Praha E-TJ ABC Braník
END:VEVENT
BEGIN:VEVENT
UID:32396533-3436-4638-b362-356333653962
DTSTAMP:20260422T213406Z
DESCRIPTION:9/44 SK Meteor Praha F - TJ ABC Braník 3:2 (24\,-22\,-18\,22\,1
 3)
DTSTART;TZID=Europe/Berlin:20260118T190000
DTEND;TZID=Europe/Berlin:20260118T210000
LOCATION:Sokol Bubeneč\, Korunovační 630 Praha - Bubeneč
SUMMARY:PP-Z-1H-B: SK Meteor Praha F-TJ ABC Braník
END:VEVENT
BEGIN:VEVENT
UID:65316135-6163-4533-b539-656131373730
DTSTAMP:20260422T213406Z
DESCRIPTION:10/47 AVA A - TJ ABC Braník 3:0 (22\,17\,21)
DTSTART;TZID=Europe/Berlin:20260107T193000
DTEND;TZID=Europe/Berlin:20260107T213000
LOCATION:ZÁKLADNÍ ŠKOLA KLAUSOVA\, Klausova 2450 Praha - Stodůlky
SUMMARY:PP-Z-1H-B: AVA A-TJ ABC Braník
END:VEVENT
BEGIN:VEVENT
UID:32356533-3533-4637-b636-396366366664
DTSTAMP:20260422T213406Z
DESCRIPTION:11/55 Sokol Spořilov - TJ ABC Braník 1:3 (26\,-8\,-16\,-14)
DTSTART;TZID=Europe/Berlin:20260114T193000
DTEND;TZID=Europe/Berlin:20260114T213000
LOCATION:ZŠ Balabenka\, náměstí Na Balabence 800 Praha - Libeň
SUMMARY:PP-Z-1H-B: Sokol Spořilov-TJ ABC Braník
END:VEVENT
BEGIN:VEVENT
UID:39313365-3439-4737-b665-383064343531
DTSTAMP:20260422T213406Z
DESCRIPTION:12/56 Mikulovka - TJ ABC Braník 0:3 (-17\,-16\,-24)
DTSTART;TZID=Europe/Berlin:20260119T190000
DTEND;TZID=Europe/Berlin:20260119T210000
LOCATION:SKŠ ZŠ Mikulova Praha\, Mikulova 1594 Praha - Chodov
SUMMARY:PP-Z-1H-B: Mikulovka-TJ ABC Braník
END:VEVENT
BEGIN:VEVENT
UID:31306634-3237-4362-b132-353735326430
DTSTAMP:20260422T213406Z
DESCRIPTION:13/65 TJ Kyje - TJ ABC Braník 3:2 (-14\,21\,-20\,13\,13)
DTSTART;TZID=Europe/Berlin:20260126T182000
DTEND;TZID=Europe/Berlin:20260126T202000
LOCATION:TJ Kyje\, Hamerská 1307 Praha - Kyje
SUMMARY:PP-Z-1H-B: TJ Kyje-TJ ABC Braník
END:VEVENT
BEGIN:VEVENT
UID:37653137-3738-4134-a332-373364373134
DTSTAMP:20260422T213406Z
DESCRIPTION:15/74 TJ Slavoj Břevnov - TJ ABC Braník 1:3 (-15\,-16\,15\,-20)
DTSTART;TZID=Europe/Berlin:20260319T183000
DTEND;TZID=Europe/Berlin:20260319T203000
LOCATION:TJ Sokol Praha Košíře\, Klamovka 2051 Praha - Smíchov
SUMMARY:PP-Z-1H-B: TJ Slavoj Břevnov-TJ ABC Braník
END:VEVENT
BEGIN:VEVENT
UID:66643537-3366-4532-b434-363166646231
DTSTAMP:20260422T213406Z
DESCRIPTION:17/83 TJ Praga - TJ ABC Braník 2:3 (22\,-12\,20\,-20\,-13)
DTSTART;TZID=Europe/Berlin:20260311T182000
DTEND;TZID=Europe/Berlin:20260311T202000
LOCATION:Sokolovna Braník\, Branická 275 Praha - Braník
SUMMARY:PP-Z-1H-B: TJ Praga-TJ ABC Braník
END:VEVENT
END:VCALENDAR
