BEGIN:VCALENDAR
VERSION:2.0
PRODID:-//VK Prostějov, spolek91624//NONSGML kigkonsult.se iCalcreator 2.41.80//
CALSCALE:GREGORIAN
UID:63393461-3234-4131-b033-326131616132
BEGIN:VEVENT
UID:34316134-3039-4635-a461-643139383561
DTSTAMP:20260422T183027Z
DESCRIPTION:3/7 VK Prostějov\, spolek - JOKY 1:2 (23\,-14\,-11)\nLH
DTSTART;TZID=Europe/Berlin:20250927T163000
DTEND;TZID=Europe/Berlin:20250927T183000
LOCATION:Letní hala u zimního stadionu\, Kostelecká 3113 Prostějov
SUMMARY:CP-U18Z-KA: VK Prostějov\, spolek-JOKY
END:VEVENT
BEGIN:VEVENT
UID:34356439-3135-4566-b165-313265626534
DTSTAMP:20260422T183027Z
DESCRIPTION:4/10 VK Prostějov\, spolek - TJ Šumperk 1:2 (9\,-27\,-8)\nLH
DTSTART;TZID=Europe/Berlin:20250927T173000
DTEND;TZID=Europe/Berlin:20250927T193000
LOCATION:Letní hala u zimního stadionu\, Kostelecká 3113 Prostějov
SUMMARY:CP-U18Z-KA: VK Prostějov\, spolek-TJ Šumperk
END:VEVENT
BEGIN:VEVENT
UID:62376461-3531-4362-a132-343831643130
DTSTAMP:20260422T183027Z
DESCRIPTION:5/13 VK Prostějov\, spolek - Tělocvičná jednota Sokol Česká Tře
 bová 2:1 (17\,-14\,13)\nLH
DTSTART;TZID=Europe/Berlin:20250928T110000
DTEND;TZID=Europe/Berlin:20250928T130000
LOCATION:Letní hala u zimního stadionu\, Kostelecká 3113 Prostějov
SUMMARY:CP-U18Z-KA: VK Prostějov\, spolek-Tělocvičná jednota Sokol Česká Tř
 ebová
END:VEVENT
BEGIN:VEVENT
UID:30363061-3464-4263-b565-356632666166
DTSTAMP:20260422T183027Z
DESCRIPTION:1/1 Sokol Šlapanice - VK Prostějov\, spolek 0:2 (-14\,-25)\nLH
DTSTART;TZID=Europe/Berlin:20250927T113000
DTEND;TZID=Europe/Berlin:20250927T133000
LOCATION:Letní hala u zimního stadionu\, Kostelecká 3113 Prostějov
SUMMARY:CP-U18Z-KA: Sokol Šlapanice-VK Prostějov\, spolek
END:VEVENT
BEGIN:VEVENT
UID:30393438-3439-4538-b734-653664343666
DTSTAMP:20260422T183027Z
DESCRIPTION:6/16 TJ JUNIOR Brno-Líšeň - VK Prostějov\, spolek 0:2 (-15\,-18
 )\nLH
DTSTART;TZID=Europe/Berlin:20250928T133000
DTEND;TZID=Europe/Berlin:20250928T153000
LOCATION:Letní hala u zimního stadionu\, Kostelecká 3113 Prostějov
SUMMARY:CP-U18Z-KA: TJ JUNIOR Brno-Líšeň-VK Prostějov\, spolek
END:VEVENT
BEGIN:VEVENT
UID:63336536-6436-4863-b732-326635666333
DTSTAMP:20260422T183027Z
DESCRIPTION:7/19 Volejbalový klub Třebíč - VK Prostějov\, spolek 0:2 (-10\,
 -17)\nLH
DTSTART;TZID=Europe/Berlin:20250928T143000
DTEND;TZID=Europe/Berlin:20250928T163000
LOCATION:Letní hala u zimního stadionu\, Kostelecká 3113 Prostějov
SUMMARY:CP-U18Z-KA: Volejbalový klub Třebíč-VK Prostějov\, spolek
END:VEVENT
BEGIN:VEVENT
UID:31633664-3836-4230-b835-316336383030
DTSTAMP:20260422T183027Z
DESCRIPTION:6/12 VK Prostějov\, spolek - Radotín 0:2 (-22\,-21)
DTSTART;TZID=Europe/Berlin:20251115T151500
DTEND;TZID=Europe/Berlin:20251115T171500
LOCATION:Národní sportovní centrum\, Za velodromem 4187 Prostějov
SUMMARY:CP-U18Z-1B: VK Prostějov\, spolek-Radotín
END:VEVENT
BEGIN:VEVENT
UID:61326233-3039-4666-b365-383261343565
DTSTAMP:20260422T183027Z
DESCRIPTION:7/14 VK Prostějov\, spolek - Střešovice 0:2 (-15\,-19)
DTSTART;TZID=Europe/Berlin:20251115T163000
DTEND;TZID=Europe/Berlin:20251115T183000
LOCATION:Národní sportovní centrum\, Za velodromem 4187 Prostějov
SUMMARY:CP-U18Z-1B: VK Prostějov\, spolek-Střešovice
END:VEVENT
BEGIN:VEVENT
UID:31303561-3139-4834-a434-636331303866
DTSTAMP:20260422T183027Z
DESCRIPTION:8/16 VK Prostějov\, spolek - SK Třebín 2:1 (22\,-20\,16)
DTSTART;TZID=Europe/Berlin:20251116T090000
DTEND;TZID=Europe/Berlin:20251116T110000
LOCATION:Národní sportovní centrum\, Za velodromem 4187 Prostějov
SUMMARY:CP-U18Z-1B: VK Prostějov\, spolek-SK Třebín
END:VEVENT
BEGIN:VEVENT
UID:31366263-3962-4532-a335-343832356231
DTSTAMP:20260422T183027Z
DESCRIPTION:9/18 VK Prostějov\, spolek - Mělník 0:2 (-18\,-14)
DTSTART;TZID=Europe/Berlin:20251116T101500
DTEND;TZID=Europe/Berlin:20251116T121500
LOCATION:Národní sportovní centrum\, Za velodromem 4187 Prostějov
SUMMARY:CP-U18Z-1B: VK Prostějov\, spolek-Mělník
END:VEVENT
BEGIN:VEVENT
UID:33333564-3232-4732-b264-363636626631
DTSTAMP:20260422T183027Z
DESCRIPTION:2/3 TJ Šumperk - VK Prostějov\, spolek 1:2 (25\,-11\,-9)
DTSTART;TZID=Europe/Berlin:20251115T101500
DTEND;TZID=Europe/Berlin:20251115T121500
LOCATION:3. ZŠ Šumperk\, 8. května 870 Šumperk
SUMMARY:CP-U18Z-1B: TJ Šumperk-VK Prostějov\, spolek
END:VEVENT
BEGIN:VEVENT
UID:36636161-3166-4965-b236-343063646531
DTSTAMP:20260422T183027Z
DESCRIPTION:3/5 VK Sever Žatec\, z.s. - VK Prostějov\, spolek 2:0 (13\,18)
DTSTART;TZID=Europe/Berlin:20251115T113000
DTEND;TZID=Europe/Berlin:20251115T133000
LOCATION:Sportovní hala TJ Sever Žatec\, Plzeňská 2787 Žatec
SUMMARY:CP-U18Z-1B: VK Sever Žatec\, z.s.-VK Prostějov\, spolek
END:VEVENT
BEGIN:VEVENT
UID:61386538-3561-4436-b039-393834333561
DTSTAMP:20260422T183027Z
DESCRIPTION:3/6 VK Prostějov\, spolek - JOKY 0:2 (-23\,-11)
DTSTART;TZID=Europe/Berlin:20251213T141500
DTEND;TZID=Europe/Berlin:20251213T161500
LOCATION:Národní sportovní centrum\, Za velodromem 4187 Prostějov
SUMMARY:CP-U18Z-2B: VK Prostějov\, spolek-JOKY
END:VEVENT
BEGIN:VEVENT
UID:61663861-3162-4535-a234-316436386162
DTSTAMP:20260422T183027Z
DESCRIPTION:5/10 VK Prostějov\, spolek - Mělník 0:2 (-19\,-26)
DTSTART;TZID=Europe/Berlin:20251213T164500
DTEND;TZID=Europe/Berlin:20251213T184500
LOCATION:Národní sportovní centrum\, Za velodromem 4187 Prostějov
SUMMARY:CP-U18Z-2B: VK Prostějov\, spolek-Mělník
END:VEVENT
BEGIN:VEVENT
UID:65613032-3465-4236-b566-343337313062
DTSTAMP:20260422T183027Z
DESCRIPTION:6/12 VK Prostějov\, spolek - Nová Paka 0:2 (-20\,-19)
DTSTART;TZID=Europe/Berlin:20251213T180000
DTEND;TZID=Europe/Berlin:20251213T200000
LOCATION:Národní sportovní centrum\, Za velodromem 4187 Prostějov
SUMMARY:CP-U18Z-2B: VK Prostějov\, spolek-Nová Paka
END:VEVENT
BEGIN:VEVENT
UID:33326632-3636-4533-a236-356637303564
DTSTAMP:20260422T183027Z
DESCRIPTION:9/18 VK Prostějov\, spolek - Radotín 2:1 (-16\,12\,13)
DTSTART;TZID=Europe/Berlin:20251214T130000
DTEND;TZID=Europe/Berlin:20251214T150000
LOCATION:Národní sportovní centrum\, Za velodromem 4187 Prostějov
SUMMARY:CP-U18Z-2B: VK Prostějov\, spolek-Radotín
END:VEVENT
BEGIN:VEVENT
UID:35323535-3639-4331-a531-653363333563
DTSTAMP:20260422T183027Z
DESCRIPTION:10/20 VK Prostějov\, spolek - VK Karviná 2:1 (24\,-24\,10)
DTSTART;TZID=Europe/Berlin:20251214T141500
DTEND;TZID=Europe/Berlin:20251214T161500
LOCATION:Národní sportovní centrum\, Za velodromem 4187 Prostějov
SUMMARY:CP-U18Z-2B: VK Prostějov\, spolek-VK Karviná
END:VEVENT
BEGIN:VEVENT
UID:30363839-6339-4832-b835-393364613465
DTSTAMP:20260422T183027Z
DESCRIPTION:7/15 Volejbalový klub Tuchlovice z.s. - VK Prostějov\, spolek 1
 :2 (-25\,18\,-16)
DTSTART;TZID=Europe/Berlin:20251214T103000
DTEND;TZID=Europe/Berlin:20251214T123000
LOCATION:ZŠ Tuchlovice\, Školní 277 Tuchlovice
SUMMARY:CP-U18Z-2B: Volejbalový klub Tuchlovice z.s.-VK Prostějov\, spolek
END:VEVENT
BEGIN:VEVENT
UID:63646139-6436-4639-b430-346265346263
DTSTAMP:20260422T183027Z
DESCRIPTION:2/4 VK Prostějov\, spolek - VAM Havířov 2:0 (23\,20)
DTSTART;TZID=Europe/Berlin:20260110T113000
DTEND;TZID=Europe/Berlin:20260110T133000
LOCATION:Sportovní hala Žákovská\, Komunardů 1548 Havířov - Město
SUMMARY:CP-U18Z-3B: VK Prostějov\, spolek-VAM Havířov
END:VEVENT
BEGIN:VEVENT
UID:63383261-3937-4432-b163-303330613333
DTSTAMP:20260422T183027Z
DESCRIPTION:3/9 VK Prostějov\, spolek - VK Karlovy Vary z.s. 0:2 (-18\,-22)
DTSTART;TZID=Europe/Berlin:20260110T140000
DTEND;TZID=Europe/Berlin:20260110T160000
LOCATION:Sportovní hala Žákovská\, Komunardů 1548 Havířov - Město
SUMMARY:CP-U18Z-3B: VK Prostějov\, spolek-VK Karlovy Vary z.s.
END:VEVENT
BEGIN:VEVENT
UID:62663965-3866-4935-b866-373564633764
DTSTAMP:20260422T183027Z
DESCRIPTION:1/2 Nová Paka - VK Prostějov\, spolek 1:2 (-22\,17\,-13)
DTSTART;TZID=Europe/Berlin:20260110T100000
DTEND;TZID=Europe/Berlin:20260110T120000
LOCATION:Sportovní hala Žákovská\, Komunardů 1548 Havířov - Město
SUMMARY:CP-U18Z-3B: Nová Paka-VK Prostějov\, spolek
END:VEVENT
BEGIN:VEVENT
UID:63616336-3664-4635-a132-353166616337
DTSTAMP:20260422T183027Z
DESCRIPTION:4/12 TĚLOVÝCHOVNÁ JEDNOTA BANÍK PŘÍBRAM - VK Prostějov\, spolek
  2:0 (23\,14)
DTSTART;TZID=Europe/Berlin:20260110T153000
DTEND;TZID=Europe/Berlin:20260110T173000
LOCATION:Sportovní hala Žákovská\, Komunardů 1548 Havířov - Město
SUMMARY:CP-U18Z-3B: TĚLOVÝCHOVNÁ JEDNOTA BANÍK PŘÍBRAM-VK Prostějov\, spole
 k
END:VEVENT
BEGIN:VEVENT
UID:31306330-6136-4932-b633-333364346538
DTSTAMP:20260422T183027Z
DESCRIPTION:6/18 Radotín - VK Prostějov\, spolek 2:1 (-23\,24\,10)
DTSTART;TZID=Europe/Berlin:20260111T103000
DTEND;TZID=Europe/Berlin:20260111T123000
LOCATION:Sportovní hala Žákovská\, Komunardů 1548 Havířov - Město
SUMMARY:CP-U18Z-3B: Radotín-VK Prostějov\, spolek
END:VEVENT
BEGIN:VEVENT
UID:37623963-3864-4365-a432-386536633763
DTSTAMP:20260422T183027Z
DESCRIPTION:7/21 SK Třebín - VK Prostějov\, spolek 0:2 (-22\,-20)
DTSTART;TZID=Europe/Berlin:20260111T120000
DTEND;TZID=Europe/Berlin:20260111T140000
LOCATION:Sportovní hala Žákovská\, Komunardů 1548 Havířov - Město
SUMMARY:CP-U18Z-3B: SK Třebín-VK Prostějov\, spolek
END:VEVENT
BEGIN:VEVENT
UID:63353235-3162-4137-a430-626364356564
DTSTAMP:20260422T183027Z
DESCRIPTION:2/3 VK Prostějov\, spolek - Mělník 0:2 (-18\,-17)
DTSTART;TZID=Europe/Berlin:20260411T103000
DTEND;TZID=Europe/Berlin:20260411T123000
LOCATION:ZŠ Hovězí\,  Hovězí426
SUMMARY:CP-U18Z-4B: VK Prostějov\, spolek-Mělník
END:VEVENT
BEGIN:VEVENT
UID:33306666-6538-4334-a331-373531363232
DTSTAMP:20260422T183027Z
DESCRIPTION:3/6 VK Prostějov\, spolek - Nová Paka 2:1 (-12\,16\,9)
DTSTART;TZID=Europe/Berlin:20260411T123000
DTEND;TZID=Europe/Berlin:20260411T143000
LOCATION:ZŠ Hovězí\,  Hovězí426
SUMMARY:CP-U18Z-4B: VK Prostějov\, spolek-Nová Paka
END:VEVENT
BEGIN:VEVENT
UID:39643164-3066-4837-b233-393066363932
DTSTAMP:20260422T183027Z
DESCRIPTION:9/17 VK Prostějov\, spolek - VAM Havířov 1:2 (-19\,21\,-11)
DTSTART;TZID=Europe/Berlin:20260412T120000
DTEND;TZID=Europe/Berlin:20260412T140000
LOCATION:ZŠ Hovězí\,  Hovězí426
SUMMARY:CP-U18Z-4B: VK Prostějov\, spolek-VAM Havířov
END:VEVENT
BEGIN:VEVENT
UID:38613433-3565-4239-b034-323565306231
DTSTAMP:20260422T183027Z
DESCRIPTION:5/10 AUSTIN Vsetín - VK Prostějov\, spolek 1:2 (14\,-19\,-14)
DTSTART;TZID=Europe/Berlin:20260411T153000
DTEND;TZID=Europe/Berlin:20260411T173000
LOCATION:ZŠ Hovězí\,  Hovězí426
SUMMARY:CP-U18Z-4B: AUSTIN Vsetín-VK Prostějov\, spolek
END:VEVENT
BEGIN:VEVENT
UID:34383232-3838-4465-a266-613636336664
DTSTAMP:20260422T183027Z
DESCRIPTION:7/14 VK Karviná - VK Prostějov\, spolek 2:0 (14\,15)
DTSTART;TZID=Europe/Berlin:20260412T090000
DTEND;TZID=Europe/Berlin:20260412T110000
LOCATION:ZŠ Hovězí\,  Hovězí426
SUMMARY:CP-U18Z-4B: VK Karviná-VK Prostějov\, spolek
END:VEVENT
BEGIN:VEVENT
UID:61393561-6364-4333-b738-323439653935
DTSTAMP:20260422T183027Z
DESCRIPTION:10/19 Sokol Šlapanice - VK Prostějov\, spolek 2:0 (6\,25)
DTSTART;TZID=Europe/Berlin:20260412T133000
DTEND;TZID=Europe/Berlin:20260412T153000
LOCATION:ZŠ Hovězí\,  Hovězí426
SUMMARY:CP-U18Z-4B: Sokol Šlapanice-VK Prostějov\, spolek
END:VEVENT
END:VCALENDAR
