BEGIN:VCALENDAR
VERSION:2.0
PRODID:-//Volejbal Vršovice A91634//NONSGML kigkonsult.se iCalcreator 2.41.80//
CALSCALE:GREGORIAN
UID:64383033-3038-4434-a234-646561646666
BEGIN:VEVENT
UID:32643361-6631-4734-b532-353930346330
DTSTAMP:20260425T035501Z
DESCRIPTION:1/2 Vršovice A - Tělovýchovná jednota Spartak Velké Meziříčí\, 
 z.s.
DTSTART;TZID=Europe/Berlin:20260425T093000
DTEND;TZID=Europe/Berlin:20260425T113000
LOCATION:Sportovní hala TJ Jiskra\, Ledečská 3028 Havlíčkův Brod
SUMMARY:MCR-U14MC: Vršovice A-Tělovýchovná jednota Spartak Velké Meziříčí\,
  z.s.
END:VEVENT
BEGIN:VEVENT
UID:33646165-3330-4134-b938-356465383238
DTSTAMP:20260425T035501Z
DESCRIPTION:4/10 Vršovice A - Odolena Voda
DTSTART;TZID=Europe/Berlin:20260425T140000
DTEND;TZID=Europe/Berlin:20260425T160000
LOCATION:Sportovní hala TJ Jiskra\, Ledečská 3028 Havlíčkův Brod
SUMMARY:MCR-U14MC: Vršovice A-Odolena Voda
END:VEVENT
BEGIN:VEVENT
UID:63323864-6439-4330-b362-646366326466
DTSTAMP:20260425T035501Z
DESCRIPTION:6/14 Vršovice A - Volejbalový klub Benátky nad Jizerou\, z.s.
DTSTART;TZID=Europe/Berlin:20260425T170000
DTEND;TZID=Europe/Berlin:20260425T190000
LOCATION:Sportovní hala TJ Jiskra\, Ledečská 3028 Havlíčkův Brod
SUMMARY:MCR-U14MC: Vršovice A-Volejbalový klub Benátky nad Jizerou\, z.s.
END:VEVENT
BEGIN:VEVENT
UID:39346266-6366-4139-b939-393135343765
DTSTAMP:20260425T035501Z
DESCRIPTION:3/8 Příbram - Vršovice A
DTSTART;TZID=Europe/Berlin:20260425T123000
DTEND;TZID=Europe/Berlin:20260425T143000
LOCATION:Sportovní hala TJ Jiskra\, Ledečská 3028 Havlíčkův Brod
SUMMARY:MCR-U14MC: Příbram-Vršovice A
END:VEVENT
BEGIN:VEVENT
UID:63313739-3437-4939-b261-346463396134
DTSTAMP:20260425T035501Z
DESCRIPTION:5/12 VK Lvi Praha\, z.s. - Vršovice A
DTSTART;TZID=Europe/Berlin:20260425T153000
DTEND;TZID=Europe/Berlin:20260425T173000
LOCATION:Sportovní hala TJ Jiskra\, Ledečská 3028 Havlíčkův Brod
SUMMARY:MCR-U14MC: VK Lvi Praha\, z.s.-Vršovice A
END:VEVENT
END:VCALENDAR
