BEGIN:VCALENDAR
VERSION:2.0
PRODID:-//Volejbalový klub Realistic Karlovy Vary z.s.91683//NONSGML kigkonsult.se iCalcreator 2.41.80//
CALSCALE:GREGORIAN
UID:66303733-6637-4631-b634-333966376537
BEGIN:VEVENT
UID:64386162-3964-4463-b361-643830396166
DTSTAMP:20260422T183200Z
DESCRIPTION:2/2 VK Karlovy Vary z.s. - SK Kometa Praha B 2:0 (13\,12)
DTSTART;TZID=Europe/Berlin:20250927T111500
DTEND;TZID=Europe/Berlin:20250927T131500
LOCATION:ZŠ Dolní Břežany\, Na Vršku 290 Dolní Břežany
SUMMARY:CP-U18Z-KD: VK Karlovy Vary z.s.-SK Kometa Praha B
END:VEVENT
BEGIN:VEVENT
UID:38323863-6166-4035-b736-643864326566
DTSTAMP:20260422T183200Z
DESCRIPTION:4/7 VK Karlovy Vary z.s. - Sportovní klub Meteor Praha 2:0 (12\
 ,13)
DTSTART;TZID=Europe/Berlin:20250927T161500
DTEND;TZID=Europe/Berlin:20250927T181500
LOCATION:ZŠ Dolní Břežany\, Na Vršku 290 Dolní Břežany
SUMMARY:CP-U18Z-KD: VK Karlovy Vary z.s.-Sportovní klub Meteor Praha
END:VEVENT
BEGIN:VEVENT
UID:39323238-3235-4333-b332-343962356235
DTSTAMP:20260422T183200Z
DESCRIPTION:6/14 VK Karlovy Vary z.s. - SC Braník 2:0 (16\,23)
DTSTART;TZID=Europe/Berlin:20250928T113000
DTEND;TZID=Europe/Berlin:20250928T133000
LOCATION:ZŠ Dolní Břežany\, Na Vršku 290 Dolní Břežany
SUMMARY:CP-U18Z-KD: VK Karlovy Vary z.s.-SC Braník
END:VEVENT
BEGIN:VEVENT
UID:35633661-3130-4537-b163-356463386236
DTSTAMP:20260422T183200Z
DESCRIPTION:3/4 SK Třebín - VK Karlovy Vary z.s. 1:2 (-17\,26\,-7)
DTSTART;TZID=Europe/Berlin:20250927T134500
DTEND;TZID=Europe/Berlin:20250927T154500
LOCATION:ZŠ Dolní Břežany\, Na Vršku 290 Dolní Břežany
SUMMARY:CP-U18Z-KD: SK Třebín-VK Karlovy Vary z.s.
END:VEVENT
BEGIN:VEVENT
UID:37353165-3136-4830-a163-323366343834
DTSTAMP:20260422T183200Z
DESCRIPTION:5/10 VK Sever Žatec\, z.s. - VK Karlovy Vary z.s. 2:1 (-18\,18\
 ,14)
DTSTART;TZID=Europe/Berlin:20250928T090000
DTEND;TZID=Europe/Berlin:20250928T110000
LOCATION:ZŠ Dolní Břežany\, Na Vršku 290 Dolní Břežany
SUMMARY:CP-U18Z-KD: VK Sever Žatec\, z.s.-VK Karlovy Vary z.s.
END:VEVENT
BEGIN:VEVENT
UID:65393730-6562-4536-a233-633362343263
DTSTAMP:20260422T183200Z
DESCRIPTION:4/7 VK Karlovy Vary z.s. - Nová Paka 2:1 (-16\,20\,3)
DTSTART;TZID=Europe/Berlin:20251115T130000
DTEND;TZID=Europe/Berlin:20251115T150000
LOCATION:TJ Slavia Hradec Králové\, Víta Nejedlého 1216 Hradec Králové
SUMMARY:CP-U18Z-1A: VK Karlovy Vary z.s.-Nová Paka
END:VEVENT
BEGIN:VEVENT
UID:31396337-3662-4035-a137-366334656163
DTSTAMP:20260422T183200Z
DESCRIPTION:8/15 VK Karlovy Vary z.s. - AUSTIN Vsetín 1:2 (-12\,17\,-14)
DTSTART;TZID=Europe/Berlin:20251116T090000
DTEND;TZID=Europe/Berlin:20251116T110000
LOCATION:TJ Slavia Hradec Králové\, Víta Nejedlého 1216 Hradec Králové
SUMMARY:CP-U18Z-1A: VK Karlovy Vary z.s.-AUSTIN Vsetín
END:VEVENT
BEGIN:VEVENT
UID:30613131-6234-4631-a134-613764346432
DTSTAMP:20260422T183200Z
DESCRIPTION:3/5 SC Braník - VK Karlovy Vary z.s. 2:1 (-13\,15\,10)
DTSTART;TZID=Europe/Berlin:20251115T113000
DTEND;TZID=Europe/Berlin:20251115T133000
LOCATION:TJ Slavia Hradec Králové\, Víta Nejedlého 1216 Hradec Králové
SUMMARY:CP-U18Z-1A: SC Braník-VK Karlovy Vary z.s.
END:VEVENT
BEGIN:VEVENT
UID:35663865-3734-4066-b062-333831306232
DTSTAMP:20260422T183200Z
DESCRIPTION:6/11 JOKY - VK Karlovy Vary z.s. 0:2 (-15\,-25)
DTSTART;TZID=Europe/Berlin:20251115T150000
DTEND;TZID=Europe/Berlin:20251115T170000
LOCATION:TJ Slavia Hradec Králové\, Víta Nejedlého 1216 Hradec Králové
SUMMARY:CP-U18Z-1A: JOKY-VK Karlovy Vary z.s.
END:VEVENT
BEGIN:VEVENT
UID:30633936-3132-4238-a161-366232663565
DTSTAMP:20260422T183200Z
DESCRIPTION:7/13 TĚLOVÝCHOVNÁ JEDNOTA BANÍK PŘÍBRAM - VK Karlovy Vary z.s. 
 0:2 (-14\,-17)
DTSTART;TZID=Europe/Berlin:20251115T160000
DTEND;TZID=Europe/Berlin:20251115T180000
LOCATION:TJ Slavia Hradec Králové\, Víta Nejedlého 1216 Hradec Králové
SUMMARY:CP-U18Z-1A: TĚLOVÝCHOVNÁ JEDNOTA BANÍK PŘÍBRAM-VK Karlovy Vary z.s.
END:VEVENT
BEGIN:VEVENT
UID:62623362-6630-4661-a437-376132376631
DTSTAMP:20260422T183200Z
DESCRIPTION:10/19 TJ Slavia Hradec Králové\, z.s. - VK Karlovy Vary z.s. 2:
 0 (23\,13)
DTSTART;TZID=Europe/Berlin:20251116T113000
DTEND;TZID=Europe/Berlin:20251116T133000
LOCATION:TJ Slavia Hradec Králové\, Víta Nejedlého 1216 Hradec Králové
SUMMARY:CP-U18Z-1A: TJ Slavia Hradec Králové\, z.s.-VK Karlovy Vary z.s.
END:VEVENT
BEGIN:VEVENT
UID:37376135-6364-4730-a132-373263363739
DTSTAMP:20260422T183200Z
DESCRIPTION:1/1 VK Karlovy Vary z.s. - AUSTIN Vsetín 2:1 (17\,-22\,7)
DTSTART;TZID=Europe/Berlin:20251213T090000
DTEND;TZID=Europe/Berlin:20251213T110000
LOCATION:Mattoni Arena Hala míčových sportů\, Západní 1812 Karlovy Vary
SUMMARY:CP-U18Z-2A: VK Karlovy Vary z.s.-AUSTIN Vsetín
END:VEVENT
BEGIN:VEVENT
UID:32363433-3031-4134-b862-666664643237
DTSTAMP:20260422T183200Z
DESCRIPTION:2/3 VK Karlovy Vary z.s. - TĚLOVÝCHOVNÁ JEDNOTA BANÍK PŘÍBRAM 2
 :0 (21\,14)
DTSTART;TZID=Europe/Berlin:20251213T103000
DTEND;TZID=Europe/Berlin:20251213T123000
LOCATION:Mattoni Arena Hala míčových sportů\, Západní 1812 Karlovy Vary
SUMMARY:CP-U18Z-2A: VK Karlovy Vary z.s.-TĚLOVÝCHOVNÁ JEDNOTA BANÍK PŘÍBRAM
END:VEVENT
BEGIN:VEVENT
UID:39303039-6636-4738-a239-653661313338
DTSTAMP:20260422T183200Z
DESCRIPTION:3/6 VK Karlovy Vary z.s. - SC Braník 1:2 (-15\,23\,-6)
DTSTART;TZID=Europe/Berlin:20251213T130000
DTEND;TZID=Europe/Berlin:20251213T150000
LOCATION:Mattoni Arena Hala míčových sportů\, Západní 1812 Karlovy Vary
SUMMARY:CP-U18Z-2A: VK Karlovy Vary z.s.-SC Braník
END:VEVENT
BEGIN:VEVENT
UID:65306664-3266-4339-a366-396233393864
DTSTAMP:20260422T183200Z
DESCRIPTION:4/9 VK Karlovy Vary z.s. - TJ Slavia Hradec Králové\, z.s. 0:2 
 (-17\,-19)
DTSTART;TZID=Europe/Berlin:20251213T143000
DTEND;TZID=Europe/Berlin:20251213T163000
LOCATION:Mattoni Arena Hala míčových sportů\, Západní 1812 Karlovy Vary
SUMMARY:CP-U18Z-2A: VK Karlovy Vary z.s.-TJ Slavia Hradec Králové\, z.s.
END:VEVENT
BEGIN:VEVENT
UID:65623465-3961-4233-a165-323263326261
DTSTAMP:20260422T183200Z
DESCRIPTION:8/18 VK Karlovy Vary z.s. - Střešovice 0:2 (-21\,-10)
DTSTART;TZID=Europe/Berlin:20251214T133000
DTEND;TZID=Europe/Berlin:20251214T153000
LOCATION:Mattoni Arena Hala míčových sportů\, Západní 1812 Karlovy Vary
SUMMARY:CP-U18Z-2A: VK Karlovy Vary z.s.-Střešovice
END:VEVENT
BEGIN:VEVENT
UID:65373061-6364-4133-a132-386636613163
DTSTAMP:20260422T183200Z
DESCRIPTION:9/20 VK Karlovy Vary z.s. - VK Sever Žatec\, z.s. 1:2 (16\,-17\
 ,-14)
DTSTART;TZID=Europe/Berlin:20251214T150000
DTEND;TZID=Europe/Berlin:20251214T170000
LOCATION:Mattoni Arena Hala míčových sportů\, Západní 1812 Karlovy Vary
SUMMARY:CP-U18Z-2A: VK Karlovy Vary z.s.-VK Sever Žatec\, z.s.
END:VEVENT
BEGIN:VEVENT
UID:36636638-6338-4464-a235-616135376331
DTSTAMP:20260422T183200Z
DESCRIPTION:1/3 VK Karlovy Vary z.s. - Radotín 2:0 (15\,11)
DTSTART;TZID=Europe/Berlin:20260110T100000
DTEND;TZID=Europe/Berlin:20260110T120000
LOCATION:Sportovní hala Žákovská\, Komunardů 1548 Havířov - Město
SUMMARY:CP-U18Z-3B: VK Karlovy Vary z.s.-Radotín
END:VEVENT
BEGIN:VEVENT
UID:61356137-3132-4235-a434-336639313338
DTSTAMP:20260422T183200Z
DESCRIPTION:2/6 VK Karlovy Vary z.s. - SK Třebín 2:0 (11\,12)
DTSTART;TZID=Europe/Berlin:20260110T113000
DTEND;TZID=Europe/Berlin:20260110T133000
LOCATION:Sportovní hala Žákovská\, Komunardů 1548 Havířov - Město
SUMMARY:CP-U18Z-3B: VK Karlovy Vary z.s.-SK Třebín
END:VEVENT
BEGIN:VEVENT
UID:63626139-3664-4133-b634-643062376530
DTSTAMP:20260422T183200Z
DESCRIPTION:5/15 VK Karlovy Vary z.s. - TĚLOVÝCHOVNÁ JEDNOTA BANÍK PŘÍBRAM 
 2:0 (13\,18)
DTSTART;TZID=Europe/Berlin:20260111T090000
DTEND;TZID=Europe/Berlin:20260111T110000
LOCATION:Sportovní hala Žákovská\, Komunardů 1548 Havířov - Město
SUMMARY:CP-U18Z-3B: VK Karlovy Vary z.s.-TĚLOVÝCHOVNÁ JEDNOTA BANÍK PŘÍBRAM
END:VEVENT
BEGIN:VEVENT
UID:62336235-3163-4166-b139-653863613533
DTSTAMP:20260422T183200Z
DESCRIPTION:3/9 VK Prostějov\, spolek - VK Karlovy Vary z.s. 0:2 (-18\,-22)
DTSTART;TZID=Europe/Berlin:20260110T140000
DTEND;TZID=Europe/Berlin:20260110T160000
LOCATION:Sportovní hala Žákovská\, Komunardů 1548 Havířov - Město
SUMMARY:CP-U18Z-3B: VK Prostějov\, spolek-VK Karlovy Vary z.s.
END:VEVENT
BEGIN:VEVENT
UID:36393733-6339-4563-a334-326163323038
DTSTAMP:20260422T183200Z
DESCRIPTION:4/11 Nová Paka - VK Karlovy Vary z.s. 0:2 (-18\,-18)
DTSTART;TZID=Europe/Berlin:20260110T153000
DTEND;TZID=Europe/Berlin:20260110T173000
LOCATION:Sportovní hala Žákovská\, Komunardů 1548 Havířov - Město
SUMMARY:CP-U18Z-3B: Nová Paka-VK Karlovy Vary z.s.
END:VEVENT
BEGIN:VEVENT
UID:37303031-6632-4037-b137-633530326161
DTSTAMP:20260422T183200Z
DESCRIPTION:6/16 VAM Havířov - VK Karlovy Vary z.s. 2:1 (-6\,18\,10)
DTSTART;TZID=Europe/Berlin:20260111T103000
DTEND;TZID=Europe/Berlin:20260111T123000
LOCATION:Sportovní hala Žákovská\, Komunardů 1548 Havířov - Město
SUMMARY:CP-U18Z-3B: VAM Havířov-VK Karlovy Vary z.s.
END:VEVENT
BEGIN:VEVENT
UID:33636133-6533-4438-b563-393138393666
DTSTAMP:20260422T183200Z
DESCRIPTION:7/14 VK Karlovy Vary z.s. - TĚLOVÝCHOVNÁ JEDNOTA BANÍK PŘÍBRAM 
 2:0 (23\,22)
DTSTART;TZID=Europe/Berlin:20260411T160000
DTEND;TZID=Europe/Berlin:20260411T180000
LOCATION:TJ Slavia Hradec Králové\, Víta Nejedlého 1216 Hradec Králové
SUMMARY:CP-U18Z-4A: VK Karlovy Vary z.s.-TĚLOVÝCHOVNÁ JEDNOTA BANÍK PŘÍBRAM
END:VEVENT
BEGIN:VEVENT
UID:37383531-3433-4334-a663-373732336333
DTSTAMP:20260422T183200Z
DESCRIPTION:2/4 SC Braník - VK Karlovy Vary z.s. 0:2 (-21\,-19)
DTSTART;TZID=Europe/Berlin:20260411T103000
DTEND;TZID=Europe/Berlin:20260411T123000
LOCATION:TJ Slavia Hradec Králové\, Víta Nejedlého 1216 Hradec Králové
SUMMARY:CP-U18Z-4A: SC Braník-VK Karlovy Vary z.s.
END:VEVENT
BEGIN:VEVENT
UID:30366166-3432-4135-b830-363339396634
DTSTAMP:20260422T183200Z
DESCRIPTION:3/6 TJ Slavia Hradec Králové\, z.s. - VK Karlovy Vary z.s. 2:0 
 (6\,12)
DTSTART;TZID=Europe/Berlin:20260411T113000
DTEND;TZID=Europe/Berlin:20260411T133000
LOCATION:TJ Slavia Hradec Králové\, Víta Nejedlého 1216 Hradec Králové
SUMMARY:CP-U18Z-4A: TJ Slavia Hradec Králové\, z.s.-VK Karlovy Vary z.s.
END:VEVENT
BEGIN:VEVENT
UID:37316535-3536-4731-b661-346135646366
DTSTAMP:20260422T183200Z
DESCRIPTION:5/9 JOKY - VK Karlovy Vary z.s. 0:2 (-14\,-14)
DTSTART;TZID=Europe/Berlin:20260411T140000
DTEND;TZID=Europe/Berlin:20260411T160000
LOCATION:TJ Slavia Hradec Králové\, Víta Nejedlého 1216 Hradec Králové
SUMMARY:CP-U18Z-4A: JOKY-VK Karlovy Vary z.s.
END:VEVENT
BEGIN:VEVENT
UID:36653565-6561-4434-a636-343537623466
DTSTAMP:20260422T183200Z
DESCRIPTION:8/15 Střešovice - VK Karlovy Vary z.s. 1:2 (23\,-20\,-10)
DTSTART;TZID=Europe/Berlin:20260412T090000
DTEND;TZID=Europe/Berlin:20260412T110000
LOCATION:TJ Slavia Hradec Králové\, Víta Nejedlého 1216 Hradec Králové
SUMMARY:CP-U18Z-4A: Střešovice-VK Karlovy Vary z.s.
END:VEVENT
BEGIN:VEVENT
UID:64343964-3335-4536-a238-656636373430
DTSTAMP:20260422T183200Z
DESCRIPTION:9/17 VK Sever Žatec\, z.s. - VK Karlovy Vary z.s. 2:1 (-20\,12\
 ,13)
DTSTART;TZID=Europe/Berlin:20260412T103000
DTEND;TZID=Europe/Berlin:20260412T123000
LOCATION:TJ Slavia Hradec Králové\, Víta Nejedlého 1216 Hradec Králové
SUMMARY:CP-U18Z-4A: VK Sever Žatec\, z.s.-VK Karlovy Vary z.s.
END:VEVENT
END:VCALENDAR
