BEGIN:VCALENDAR
VERSION:2.0
PRODID:-//VK Rousínov z.s.91695//NONSGML kigkonsult.se iCalcreator 2.41.80//
CALSCALE:GREGORIAN
UID:31366565-3930-4437-a162-383064363032
BEGIN:VEVENT
UID:64313064-3231-4030-b566-303933643032
DTSTAMP:20260423T042848Z
DESCRIPTION:1/2 VK Rousínov z.s. - Vlci Nový Jičín 2:0 (22\,19)
DTSTART;TZID=Europe/Berlin:20250927T110000
DTEND;TZID=Europe/Berlin:20250927T130000
LOCATION:Sportovní hala Rousínov\, Habrovanská 1199 Rousínov
SUMMARY:CP-U16M-V1A: VK Rousínov z.s.-Vlci Nový Jičín
END:VEVENT
BEGIN:VEVENT
UID:64373861-6562-4662-b832-643162303538
DTSTAMP:20260423T042848Z
DESCRIPTION:5/7 VK Rousínov z.s. - Volejbal Ostrava 2:1 (-23\,10\,7)
DTSTART;TZID=Europe/Berlin:20250927T150000
DTEND;TZID=Europe/Berlin:20250927T170000
LOCATION:Sportovní hala Rousínov\, Habrovanská 1199 Rousínov
SUMMARY:CP-U16M-V1A: VK Rousínov z.s.-Volejbal Ostrava
END:VEVENT
BEGIN:VEVENT
UID:33313830-3938-4331-a434-353337636138
DTSTAMP:20260423T042848Z
DESCRIPTION:11/17 VK Rousínov z.s. - VK Ostrava 0:2 (-12\,-20)
DTSTART;TZID=Europe/Berlin:20250928T100000
DTEND;TZID=Europe/Berlin:20250928T120000
LOCATION:Sportovní hala Rousínov\, Habrovanská 1199 Rousínov
SUMMARY:CP-U16M-V1A: VK Rousínov z.s.-VK Ostrava
END:VEVENT
BEGIN:VEVENT
UID:65306564-3937-4062-b166-356437633265
DTSTAMP:20260423T042848Z
DESCRIPTION:4/6 Red Frýdlant n/O - VK Rousínov z.s. 0:2 (-24\,-17)
DTSTART;TZID=Europe/Berlin:20250927T140000
DTEND;TZID=Europe/Berlin:20250927T160000
LOCATION:Komenského\, Komenského 420 Frýdlant nad Ostravicí - Frýdlant
SUMMARY:CP-U16M-V1A: Red Frýdlant n/O-VK Rousínov z.s.
END:VEVENT
BEGIN:VEVENT
UID:38363137-6363-4634-b732-623863373136
DTSTAMP:20260423T042848Z
DESCRIPTION:8/12 VSC Zlín - VK Rousínov z.s. 0:2 (-16\,-18)
DTSTART;TZID=Europe/Berlin:20250927T180000
DTEND;TZID=Europe/Berlin:20250927T200000
LOCATION:ZŠ Okružní Zlín\, Okružní 4685 Zlín
SUMMARY:CP-U16M-V1A: VSC Zlín-VK Rousínov z.s.
END:VEVENT
BEGIN:VEVENT
UID:63613762-6230-4535-a462-373430316562
DTSTAMP:20260423T042848Z
DESCRIPTION:12/19 VK Brno\, z.s. - VK Rousínov z.s. 2:1 (12\,-26\,4)
DTSTART;TZID=Europe/Berlin:20250928T110000
DTEND;TZID=Europe/Berlin:20250928T130000
LOCATION:Sportovní gymnázium Ludvíka Daňka\, Botanická 63 Brno - Ponava
SUMMARY:CP-U16M-V1A: VK Brno\, z.s.-VK Rousínov z.s.
END:VEVENT
BEGIN:VEVENT
UID:32666561-6131-4633-b037-346266333365
DTSTAMP:20260423T042848Z
DESCRIPTION:1/1 VK Rousínov z.s. - VK Znojmo - Přímětice 0:2 (-13\,-11)\no 
 5-6. místo A3-B3
DTSTART;TZID=Europe/Berlin:20250928T140000
DTEND;TZID=Europe/Berlin:20250928T160000
LOCATION:Sportovní hala Rousínov\, Habrovanská 1199 Rousínov
SUMMARY:CP-U16M-V1C: VK Rousínov z.s.-VK Znojmo - Přímětice
END:VEVENT
BEGIN:VEVENT
UID:32623237-3935-4138-b463-386131663933
DTSTAMP:20260423T042848Z
DESCRIPTION:2/4 VK Rousínov z.s. - VK Ostrava 0:2 (-24\,-14)
DTSTART;TZID=Europe/Berlin:20251025T110000
DTEND;TZID=Europe/Berlin:20251025T130000
LOCATION:Sportovní hala TJ Jiskra\, Ledečská 3028 Havlíčkův Brod
SUMMARY:CP-U16M-V2A: VK Rousínov z.s.-VK Ostrava
END:VEVENT
BEGIN:VEVENT
UID:64306435-3137-4133-b636-623464323437
DTSTAMP:20260423T042848Z
DESCRIPTION:7/14 VK Rousínov z.s. - VK Brno\, z.s. 0:2 (-20\,-15)
DTSTART;TZID=Europe/Berlin:20251026T090000
DTEND;TZID=Europe/Berlin:20251026T110000
LOCATION:Sportovní hala TJ Jiskra\, Ledečská 3028 Havlíčkův Brod
SUMMARY:CP-U16M-V2A: VK Rousínov z.s.-VK Brno\, z.s.
END:VEVENT
BEGIN:VEVENT
UID:32633232-3465-4030-b738-333338393538
DTSTAMP:20260423T042848Z
DESCRIPTION:11/19 VK Rousínov z.s. - VSC Zlín 0:2 (-24\,-23)
DTSTART;TZID=Europe/Berlin:20251026T130000
DTEND;TZID=Europe/Berlin:20251026T150000
LOCATION:Sportovní hala TJ Jiskra\, Ledečská 3028 Havlíčkův Brod
SUMMARY:CP-U16M-V2A: VK Rousínov z.s.-VSC Zlín
END:VEVENT
BEGIN:VEVENT
UID:32633965-3539-4137-a634-373661373762
DTSTAMP:20260423T042848Z
DESCRIPTION:1/2 TJ Svitavy\, z.s. - VK Rousínov z.s. 2:0 (19\,21)
DTSTART;TZID=Europe/Berlin:20251025T100000
DTEND;TZID=Europe/Berlin:20251025T120000
LOCATION:Sportovní hala TJ Jiskra\, Ledečská 3028 Havlíčkův Brod
SUMMARY:CP-U16M-V2A: TJ Svitavy\, z.s.-VK Rousínov z.s.
END:VEVENT
BEGIN:VEVENT
UID:66366362-3532-4231-b036-326162343937
DTSTAMP:20260423T042848Z
DESCRIPTION:4/7 VK Znojmo - Přímětice - VK Rousínov z.s. 2:0 (17\,22)
DTSTART;TZID=Europe/Berlin:20251025T130000
DTEND;TZID=Europe/Berlin:20251025T150000
LOCATION:Sportovní hala TJ Jiskra\, Ledečská 3028 Havlíčkův Brod
SUMMARY:CP-U16M-V2A: VK Znojmo - Přímětice-VK Rousínov z.s.
END:VEVENT
BEGIN:VEVENT
UID:38323464-3564-4636-b837-326338633761
DTSTAMP:20260423T042848Z
DESCRIPTION:5/10 Green F-M - VK Rousínov z.s. 2:0 (21\,18)
DTSTART;TZID=Europe/Berlin:20251025T140000
DTEND;TZID=Europe/Berlin:20251025T160000
LOCATION:Sportovní hala TJ Jiskra\, Ledečská 3028 Havlíčkův Brod
SUMMARY:CP-U16M-V2A: Green F-M-VK Rousínov z.s.
END:VEVENT
BEGIN:VEVENT
UID:65643036-6363-4666-b761-623433323364
DTSTAMP:20260423T042848Z
DESCRIPTION:2/4 VK Rousínov z.s. - Red Frýdlant n/O 2:1 (-10\,21\,7)
DTSTART;TZID=Europe/Berlin:20251129T100000
DTEND;TZID=Europe/Berlin:20251129T120000
LOCATION:ZŠ Košaře\, Václava Košaře 121 Ostrava - Dubina
SUMMARY:CP-U16M-3VB: VK Rousínov z.s.-Red Frýdlant n/O
END:VEVENT
BEGIN:VEVENT
UID:65663731-3530-4965-a131-333361336539
DTSTAMP:20260423T042848Z
DESCRIPTION:6/12 VK Rousínov z.s. - TJ Jiskra Havlíčkův Brod 2:0 (11\,13)
DTSTART;TZID=Europe/Berlin:20251129T140000
DTEND;TZID=Europe/Berlin:20251129T160000
LOCATION:ZŠ Košaře\, Václava Košaře 121 Ostrava - Dubina
SUMMARY:CP-U16M-3VB: VK Rousínov z.s.-TJ Jiskra Havlíčkův Brod
END:VEVENT
BEGIN:VEVENT
UID:66373364-3431-4161-a335-343837643866
DTSTAMP:20260423T042848Z
DESCRIPTION:3/6 VSC Zlín - VK Rousínov z.s. 0:2 (-19\,-15)
DTSTART;TZID=Europe/Berlin:20251129T110000
DTEND;TZID=Europe/Berlin:20251129T130000
LOCATION:ZŠ Košaře\, Václava Košaře 121 Ostrava - Dubina
SUMMARY:CP-U16M-3VB: VSC Zlín-VK Rousínov z.s.
END:VEVENT
BEGIN:VEVENT
UID:37663638-3063-4531-b835-303034623364
DTSTAMP:20260423T042848Z
DESCRIPTION:5/9 Blue Ostrava - VK Rousínov z.s. 0:2 (-9\,-12)
DTSTART;TZID=Europe/Berlin:20251129T130000
DTEND;TZID=Europe/Berlin:20251129T150000
LOCATION:ZŠ Košaře\, Václava Košaře 121 Ostrava - Dubina
SUMMARY:CP-U16M-3VB: Blue Ostrava-VK Rousínov z.s.
END:VEVENT
BEGIN:VEVENT
UID:64323130-6563-4661-b561-363663363236
DTSTAMP:20260423T042848Z
DESCRIPTION:8/16 Vlci Nový Jičín - VK Rousínov z.s. 0:2 (-10\,-18)
DTSTART;TZID=Europe/Berlin:20251130T090000
DTEND;TZID=Europe/Berlin:20251130T110000
LOCATION:ZŠ Košaře\, Václava Košaře 121 Ostrava - Dubina
SUMMARY:CP-U16M-3VB: Vlci Nový Jičín-VK Rousínov z.s.
END:VEVENT
BEGIN:VEVENT
UID:63333064-6231-4231-b862-393361393566
DTSTAMP:20260423T042848Z
DESCRIPTION:10/19 Volejbal Ostrava - VK Rousínov z.s. 0:2 (-9\,-14)
DTSTART;TZID=Europe/Berlin:20251130T110000
DTEND;TZID=Europe/Berlin:20251130T130000
LOCATION:ZŠ Košaře\, Václava Košaře 121 Ostrava - Dubina
SUMMARY:CP-U16M-3VB: Volejbal Ostrava-VK Rousínov z.s.
END:VEVENT
BEGIN:VEVENT
UID:37363839-3462-4739-a635-353336363166
DTSTAMP:20260423T042848Z
DESCRIPTION:1/2 VK Rousínov z.s. - VK Znojmo - Přímětice 2:1 (-13\,24\,12)
DTSTART;TZID=Europe/Berlin:20251220T090000
DTEND;TZID=Europe/Berlin:20251220T110000
LOCATION:Sportovní hala Rousínov\, Habrovanská 1199 Rousínov
SUMMARY:CP-U16M-4B: VK Rousínov z.s.-VK Znojmo - Přímětice
END:VEVENT
BEGIN:VEVENT
UID:64656539-3338-4832-b063-393231633665
DTSTAMP:20260423T042848Z
DESCRIPTION:5/9 VK Rousínov z.s. - TJ Slavia HK 0:2 (-19\,-21)
DTSTART;TZID=Europe/Berlin:20251220T130000
DTEND;TZID=Europe/Berlin:20251220T150000
LOCATION:Sportovní hala Rousínov\, Habrovanská 1199 Rousínov
SUMMARY:CP-U16M-4B: VK Rousínov z.s.-TJ Slavia HK
END:VEVENT
BEGIN:VEVENT
UID:34353835-3538-4162-b630-623238373130
DTSTAMP:20260423T042848Z
DESCRIPTION:3/6 SK Kojetín 2016\, z.s. - VK Rousínov z.s. 0:2 (-9\,-19)
DTSTART;TZID=Europe/Berlin:20251220T110000
DTEND;TZID=Europe/Berlin:20251220T130000
LOCATION:Městská sportovní hala\, Hanusíkova 1476 Kojetín - Kojetín I-Město
SUMMARY:CP-U16M-4B: SK Kojetín 2016\, z.s.-VK Rousínov z.s.
END:VEVENT
BEGIN:VEVENT
UID:38653734-3136-4531-b830-663432363830
DTSTAMP:20260423T042848Z
DESCRIPTION:7/13 VK TROX Příbram - VK Rousínov z.s. 2:0 (21\,18)
DTSTART;TZID=Europe/Berlin:20251220T150000
DTEND;TZID=Europe/Berlin:20251220T170000
LOCATION:sportovní hala Příbram\, Legionářů 378 Příbram - Příbram VII
SUMMARY:CP-U16M-4B: VK TROX Příbram-VK Rousínov z.s.
END:VEVENT
BEGIN:VEVENT
UID:62376239-3166-4137-b333-616630636362
DTSTAMP:20260423T042848Z
DESCRIPTION:9/17 Kolín - VK Rousínov z.s. 2:0 (17\,19)
DTSTART;TZID=Europe/Berlin:20251221T090000
DTEND;TZID=Europe/Berlin:20251221T110000
LOCATION:hala STAV\, SOŠ Kolín\, Brankovická 1417 Kolín - Kolín V
SUMMARY:CP-U16M-4B: Kolín-VK Rousínov z.s.
END:VEVENT
BEGIN:VEVENT
UID:33383364-6130-4463-a363-316565313364
DTSTAMP:20260423T042848Z
DESCRIPTION:10/22 Spartak Velké Meziříčí - VK Rousínov z.s. 0:2 (-14\,-15)
DTSTART;TZID=Europe/Berlin:20251221T100000
DTEND;TZID=Europe/Berlin:20251221T120000
LOCATION:ZŠ Komenského\, Komenského 1 Velké Meziříčí
SUMMARY:CP-U16M-4B: Spartak Velké Meziříčí-VK Rousínov z.s.
END:VEVENT
BEGIN:VEVENT
UID:39373964-6366-4364-b261-316135613663
DTSTAMP:20260423T042848Z
DESCRIPTION:11/25 Odolena Voda - VK Rousínov z.s. 0:2 (-22\,-19)
DTSTART;TZID=Europe/Berlin:20251221T110000
DTEND;TZID=Europe/Berlin:20251221T130000
LOCATION:Sportovní hala\, Ke Stadionu 375 Odolena Voda
SUMMARY:CP-U16M-4B: Odolena Voda-VK Rousínov z.s.
END:VEVENT
BEGIN:VEVENT
UID:38363130-3233-4030-a364-656562333933
DTSTAMP:20260423T042848Z
DESCRIPTION:3/6 VK Rousínov z.s. - Orion Praha 2:0 (19\,22)
DTSTART;TZID=Europe/Berlin:20260207T120000
DTEND;TZID=Europe/Berlin:20260207T140000
LOCATION:ZŠ Balabenka\, náměstí Na Balabence 800 Praha - Libeň
SUMMARY:CP-U16M-5B: VK Rousínov z.s.-Orion Praha
END:VEVENT
BEGIN:VEVENT
UID:32656339-6437-4135-a231-623734333564
DTSTAMP:20260423T042848Z
DESCRIPTION:5/9 VK Rousínov z.s. - VK Lvi Praha A 1:2 (23\,-7\,-11)
DTSTART;TZID=Europe/Berlin:20260207T143000
DTEND;TZID=Europe/Berlin:20260207T163000
LOCATION:ZŠ Balabenka\, náměstí Na Balabence 800 Praha - Libeň
SUMMARY:CP-U16M-5B: VK Rousínov z.s.-VK Lvi Praha A
END:VEVENT
BEGIN:VEVENT
UID:66303535-3261-4830-b666-396338396339
DTSTAMP:20260423T042848Z
DESCRIPTION:7/14 VK Rousínov z.s. - VK Znojmo - Přímětice 1:2 (-20\,22\,-15
 )
DTSTART;TZID=Europe/Berlin:20260207T170000
DTEND;TZID=Europe/Berlin:20260207T190000
LOCATION:ZŠ Balabenka\, náměstí Na Balabence 800 Praha - Libeň
SUMMARY:CP-U16M-5B: VK Rousínov z.s.-VK Znojmo - Přímětice
END:VEVENT
BEGIN:VEVENT
UID:32363739-6632-4230-b662-643935336333
DTSTAMP:20260423T042848Z
DESCRIPTION:10/19 VK Rousínov z.s. - Odolena Voda 0:2 (-25\,-22)
DTSTART;TZID=Europe/Berlin:20260208T101500
DTEND;TZID=Europe/Berlin:20260208T121500
LOCATION:ZŠ Balabenka\, náměstí Na Balabence 800 Praha - Libeň
SUMMARY:CP-U16M-5B: VK Rousínov z.s.-Odolena Voda
END:VEVENT
BEGIN:VEVENT
UID:61313939-3731-4631-b531-613630343637
DTSTAMP:20260423T042848Z
DESCRIPTION:2/3 VK TROX Příbram - VK Rousínov z.s. 0:2 (-18\,-23)
DTSTART;TZID=Europe/Berlin:20260207T104500
DTEND;TZID=Europe/Berlin:20260207T124500
LOCATION:ZŠ Balabenka\, náměstí Na Balabence 800 Praha - Libeň
SUMMARY:CP-U16M-5B: VK TROX Příbram-VK Rousínov z.s.
END:VEVENT
BEGIN:VEVENT
UID:31313263-6465-4436-b331-393364303033
DTSTAMP:20260423T042848Z
DESCRIPTION:12/24 VK Dukla Liberec - VK Rousínov z.s. 2:0 (17\,12)
DTSTART;TZID=Europe/Berlin:20260208T124500
DTEND;TZID=Europe/Berlin:20260208T144500
LOCATION:ZŠ Balabenka\, náměstí Na Balabence 800 Praha - Libeň
SUMMARY:CP-U16M-5B: VK Dukla Liberec-VK Rousínov z.s.
END:VEVENT
BEGIN:VEVENT
UID:65306665-6364-4462-b330-383231323430
DTSTAMP:20260423T042848Z
DESCRIPTION:13/26 VK Brno\, z.s. - VK Rousínov z.s. 1:2 (-21\,17\,-13)
DTSTART;TZID=Europe/Berlin:20260208T140000
DTEND;TZID=Europe/Berlin:20260208T160000
LOCATION:ZŠ Balabenka\, náměstí Na Balabence 800 Praha - Libeň
SUMMARY:CP-U16M-5B: VK Brno\, z.s.-VK Rousínov z.s.
END:VEVENT
BEGIN:VEVENT
UID:39323337-3137-4766-b937-343435613337
DTSTAMP:20260423T042848Z
DESCRIPTION:6/6 VK Rousínov z.s. - Kolín 1:2 (-11\,16\,-13)
DTSTART;TZID=Europe/Berlin:20260321T131500
DTEND;TZID=Europe/Berlin:20260321T151500
LOCATION:TJ Slavia Hradec Králové\, Víta Nejedlého 1216 Hradec Králové
SUMMARY:CP-U16M-6C: VK Rousínov z.s.-Kolín
END:VEVENT
BEGIN:VEVENT
UID:31326661-3365-4337-b337-633364636639
DTSTAMP:20260423T042848Z
DESCRIPTION:2/2 Kladno - VK Rousínov z.s. 1:2 (-20\,20\,-9)
DTSTART;TZID=Europe/Berlin:20260320T160000
DTEND;TZID=Europe/Berlin:20260320T180000
LOCATION:TJ Slavia Hradec Králové\, Víta Nejedlého 1216 Hradec Králové
SUMMARY:CP-U16M-6C: Kladno-VK Rousínov z.s.
END:VEVENT
BEGIN:VEVENT
UID:32303133-3137-4665-a233-353531623861
DTSTAMP:20260423T042848Z
DESCRIPTION:3/3 Odolena Voda - VK Rousínov z.s. 2:0 (23\,23)
DTSTART;TZID=Europe/Berlin:20260321T093000
DTEND;TZID=Europe/Berlin:20260321T113000
LOCATION:TJ Slavia Hradec Králové\, Víta Nejedlého 1216 Hradec Králové
SUMMARY:CP-U16M-6C: Odolena Voda-VK Rousínov z.s.
END:VEVENT
BEGIN:VEVENT
UID:37346434-6365-4936-a636-393135303939
DTSTAMP:20260423T042848Z
DESCRIPTION:2/3 VK Rousínov z.s. - VK Brno\, z.s. 1:2 (17\,-19\,-13)\nC3-D2
DTSTART;TZID=Europe/Berlin:20260321T160000
DTEND;TZID=Europe/Berlin:20260321T180000
LOCATION:TJ Slavia Hradec Králové\, Víta Nejedlého 1216 Hradec Králové
SUMMARY:CP-U16M-P2: VK Rousínov z.s.-VK Brno\, z.s.
END:VEVENT
BEGIN:VEVENT
UID:32323630-3461-4863-a332-646363376134
DTSTAMP:20260423T042848Z
DESCRIPTION:3/5 Odolena Voda - VK Rousínov z.s. 2:1 (-20\,16\,11)\nsemifiná
 le 4 (2.os.) P1-P3
DTSTART;TZID=Europe/Berlin:20260321T171500
DTEND;TZID=Europe/Berlin:20260321T191500
LOCATION:TJ Slavia Hradec Králové\, Víta Nejedlého 1216 Hradec Králové
SUMMARY:CP-U16M-P2: Odolena Voda-VK Rousínov z.s.
END:VEVENT
BEGIN:VEVENT
UID:33366133-3437-4738-b362-393333623034
DTSTAMP:20260423T042848Z
DESCRIPTION:5/9 Kladno - VK Rousínov z.s. 0:2 (-22\,-14)\nFinále 15-16
DTSTART;TZID=Europe/Berlin:20260322T103000
DTEND;TZID=Europe/Berlin:20260322T123000
LOCATION:TJ Slavia Hradec Králové\, Víta Nejedlého 1216 Hradec Králové
SUMMARY:CP-U16M-P2: Kladno-VK Rousínov z.s.
END:VEVENT
END:VCALENDAR
