BEGIN:VCALENDAR
VERSION:2.0
PRODID:-//Volejbal Kozlovice91779//NONSGML kigkonsult.se iCalcreator 2.41.80//
CALSCALE:GREGORIAN
UID:66633837-3064-4261-a236-653662306434
BEGIN:VEVENT
UID:39323465-3631-4330-b433-346338653064
DTSTAMP:20260422T213342Z
DESCRIPTION:2/6 Volejbal Kozlovice - TJ TŽ Třinec 2:0 (18\,22)
DTSTART;TZID=Europe/Berlin:20251018T100000
DTEND;TZID=Europe/Berlin:20251018T120000
LOCATION:Víceúčelová sportovní hala\,  Raškovice18
SUMMARY:FM-U16ZA: Volejbal Kozlovice-TJ TŽ Třinec
END:VEVENT
BEGIN:VEVENT
UID:63373132-3266-4862-b937-303964666264
DTSTAMP:20260422T213342Z
DESCRIPTION:1/3 TJ Sokol Mosty - Volejbal Kozlovice 1:1 (15\,-21)
DTSTART;TZID=Europe/Berlin:20251018T090000
DTEND;TZID=Europe/Berlin:20251018T110000
LOCATION:Víceúčelová sportovní hala\,  Raškovice18
SUMMARY:FM-U16ZA: TJ Sokol Mosty-Volejbal Kozlovice
END:VEVENT
BEGIN:VEVENT
UID:62636235-3762-4061-b366-306563303234
DTSTAMP:20260422T213342Z
DESCRIPTION:3/9 SK Metylovice - Volejbal Kozlovice 1:1 (-15\,17)
DTSTART;TZID=Europe/Berlin:20251018T110000
DTEND;TZID=Europe/Berlin:20251018T130000
LOCATION:Víceúčelová sportovní hala\,  Raškovice18
SUMMARY:FM-U16ZA: SK Metylovice-Volejbal Kozlovice
END:VEVENT
BEGIN:VEVENT
UID:66623438-3433-4235-a165-316638623033
DTSTAMP:20260422T213342Z
DESCRIPTION:4/12 VK Raškovice B - Volejbal Kozlovice 0:2 (-14\,-17)
DTSTART;TZID=Europe/Berlin:20251018T120000
DTEND;TZID=Europe/Berlin:20251018T140000
LOCATION:Víceúčelová sportovní hala\,  Raškovice18
SUMMARY:FM-U16ZA: VK Raškovice B-Volejbal Kozlovice
END:VEVENT
BEGIN:VEVENT
UID:65393130-6539-4338-b337-306130663962
DTSTAMP:20260422T213342Z
DESCRIPTION:5/15 VKB Frýdlant n/O D - Volejbal Kozlovice 1:1 (23\,-17)
DTSTART;TZID=Europe/Berlin:20251018T130000
DTEND;TZID=Europe/Berlin:20251018T150000
LOCATION:Víceúčelová sportovní hala\,  Raškovice18
SUMMARY:FM-U16ZA: VKB Frýdlant n/O D-Volejbal Kozlovice
END:VEVENT
BEGIN:VEVENT
UID:62383235-3430-4662-a361-393165313565
DTSTAMP:20260422T213342Z
DESCRIPTION:2/2 VKB Frýdlant n/O E - Volejbal Kozlovice 1:2 (-21\,-17\,25)
DTSTART;TZID=Europe/Berlin:20251129T103000
DTEND;TZID=Europe/Berlin:20251129T123000
LOCATION:Sokolovna\, Hlavní 401 Frýdlant nad Ostravicí - Frýdlant
SUMMARY:FM-U16Z-T1B: VKB Frýdlant n/O E-Volejbal Kozlovice
END:VEVENT
BEGIN:VEVENT
UID:33333933-6335-4666-b032-613962336630
DTSTAMP:20260422T213342Z
DESCRIPTION:3/3 VK Janovice - Volejbal Kozlovice 0:3 (-17\,-20\,-10)
DTSTART;TZID=Europe/Berlin:20251129T120000
DTEND;TZID=Europe/Berlin:20251129T140000
LOCATION:Tělocvična ZŠ Janovice\,  Janovice410
SUMMARY:FM-U16Z-T1B: VK Janovice-Volejbal Kozlovice
END:VEVENT
BEGIN:VEVENT
UID:39366236-3039-4263-b032-376265623939
DTSTAMP:20260422T213342Z
DESCRIPTION:2/2 VKB Frýdlant n/O C - Volejbal Kozlovice 3:0 (5\,14\,10)
DTSTART;TZID=Europe/Berlin:20251220T103000
DTEND;TZID=Europe/Berlin:20251220T123000
LOCATION:Sokolovna\, Hlavní 401 Frýdlant nad Ostravicí - Frýdlant
SUMMARY:FM-U16Z-T2A: VKB Frýdlant n/O C-Volejbal Kozlovice
END:VEVENT
BEGIN:VEVENT
UID:35303930-6235-4438-a335-613766633164
DTSTAMP:20260422T213342Z
DESCRIPTION:3/3 SK Metylovice - Volejbal Kozlovice 2:1 (9\,11\,-18)
DTSTART;TZID=Europe/Berlin:20251220T120000
DTEND;TZID=Europe/Berlin:20251220T140000
SUMMARY:FM-U16Z-T2A: SK Metylovice-Volejbal Kozlovice
END:VEVENT
BEGIN:VEVENT
UID:37616664-3163-4264-a162-303361303336
DTSTAMP:20260422T213342Z
DESCRIPTION:2/2 Volejbal Kozlovice - VKB Frýdlant n/O D 2:1 (19\,23\,-7)
DTSTART;TZID=Europe/Berlin:20260117T103000
DTEND;TZID=Europe/Berlin:20260117T123000
LOCATION:Sportovně rekreační centrum Kozlovice\,  Kozlovice186
SUMMARY:FM-U16Z-T3B: Volejbal Kozlovice-VKB Frýdlant n/O D
END:VEVENT
BEGIN:VEVENT
UID:30653461-6534-4664-b161-313766376231
DTSTAMP:20260422T213342Z
DESCRIPTION:1/1 VK Raškovice B - Volejbal Kozlovice 2:1 (22\,-20\,20)
DTSTART;TZID=Europe/Berlin:20260117T090000
DTEND;TZID=Europe/Berlin:20260117T110000
SUMMARY:FM-U16Z-T3B: VK Raškovice B-Volejbal Kozlovice
END:VEVENT
BEGIN:VEVENT
UID:31353332-6163-4338-a435-626631313130
DTSTAMP:20260422T213342Z
DESCRIPTION:1/1 Volejbal Kozlovice - TJ Sokol Mosty 0:3 (-17\,-24\,-11)
DTSTART;TZID=Europe/Berlin:20260207T090000
DTEND;TZID=Europe/Berlin:20260207T110000
LOCATION:Sportovně rekreační centrum Kozlovice\,  Kozlovice186
SUMMARY:FM-U16Z-T4B: Volejbal Kozlovice-TJ Sokol Mosty
END:VEVENT
BEGIN:VEVENT
UID:62633036-3363-4133-b434-613161346265
DTSTAMP:20260422T213342Z
DESCRIPTION:3/3 Volejbal Kozlovice - TJ TŽ Třinec 3:0 (16\,22\,12)
DTSTART;TZID=Europe/Berlin:20260207T123000
DTEND;TZID=Europe/Berlin:20260207T143000
LOCATION:Sportovně rekreační centrum Kozlovice\,  Kozlovice186
SUMMARY:FM-U16Z-T4B: Volejbal Kozlovice-TJ TŽ Třinec
END:VEVENT
BEGIN:VEVENT
UID:35326364-3131-4661-b632-393862656335
DTSTAMP:20260422T213342Z
DESCRIPTION:2/2 VKB Frýdlant n/O D - Volejbal Kozlovice 3:0 (12\,12\,24)
DTSTART;TZID=Europe/Berlin:20260314T104500
DTEND;TZID=Europe/Berlin:20260314T124500
LOCATION:Víceúčelová sportovní hala\,  Raškovice18
SUMMARY:FM-U16Z-T5B: VKB Frýdlant n/O D-Volejbal Kozlovice
END:VEVENT
BEGIN:VEVENT
UID:30643336-3434-4765-b566-316632353834
DTSTAMP:20260422T213342Z
DESCRIPTION:3/3 VK Raškovice B - Volejbal Kozlovice 2:1 (20\,-12\,24)
DTSTART;TZID=Europe/Berlin:20260314T123000
DTEND;TZID=Europe/Berlin:20260314T143000
LOCATION:Víceúčelová sportovní hala\,  Raškovice18
SUMMARY:FM-U16Z-T5B: VK Raškovice B-Volejbal Kozlovice
END:VEVENT
BEGIN:VEVENT
UID:38653065-3233-4162-a164-376238333038
DTSTAMP:20260422T213342Z
DESCRIPTION:2/2 Volejbal Kozlovice - TJ Sokol F-M B 3:0 (20\,22\,12)
DTSTART;TZID=Europe/Berlin:20260411T103000
DTEND;TZID=Europe/Berlin:20260411T123000
LOCATION:Sportovně rekreační centrum Kozlovice\,  Kozlovice186
SUMMARY:FM-U16Z-T6C: Volejbal Kozlovice-TJ Sokol F-M B
END:VEVENT
BEGIN:VEVENT
UID:39363264-6232-4361-b635-366133653964
DTSTAMP:20260422T213342Z
DESCRIPTION:1/1 TJ TŽ Třinec - Volejbal Kozlovice 1:2 (-7\,27\,-15)
DTSTART;TZID=Europe/Berlin:20260411T090000
DTEND;TZID=Europe/Berlin:20260411T110000
LOCATION:1.PZŠ Třinec\, Nádražní 10 Třinec - Staré Město
SUMMARY:FM-U16Z-T6C: TJ TŽ Třinec-Volejbal Kozlovice
END:VEVENT
BEGIN:VEVENT
UID:38363030-6537-4633-b032-616666613235
DTSTAMP:20260422T213342Z
DESCRIPTION:1/1 Volejbal Kozlovice - VKB Frýdlant n/O D
DTSTART;TZID=Europe/Berlin:20260516T090000
DTEND;TZID=Europe/Berlin:20260516T110000
LOCATION:Sportovně rekreační centrum Kozlovice\,  Kozlovice186
SUMMARY:FM-U16Z-T7B: Volejbal Kozlovice-VKB Frýdlant n/O D
END:VEVENT
BEGIN:VEVENT
UID:64666363-3265-4535-a666-393564363930
DTSTAMP:20260422T213342Z
DESCRIPTION:3/3 Volejbal Kozlovice - VK Raškovice B
DTSTART;TZID=Europe/Berlin:20260516T120000
DTEND;TZID=Europe/Berlin:20260516T140000
LOCATION:Sportovně rekreační centrum Kozlovice\,  Kozlovice186
SUMMARY:FM-U16Z-T7B: Volejbal Kozlovice-VK Raškovice B
END:VEVENT
END:VCALENDAR
