BEGIN:VCALENDAR
VERSION:2.0
PRODID:-//SPORTOVNÍ KLUB METYLOVICE91782//NONSGML kigkonsult.se iCalcreator 2.41.80//
CALSCALE:GREGORIAN
UID:31313131-3835-4533-b361-366338326638
BEGIN:VEVENT
UID:65353131-6233-4034-b031-373733383661
DTSTAMP:20260423T042858Z
DESCRIPTION:1/1 SK Metylovice - VK Raškovice B 1:1 (17\,-24)
DTSTART;TZID=Europe/Berlin:20251018T090000
DTEND;TZID=Europe/Berlin:20251018T110000
LOCATION:Víceúčelová sportovní hala\,  Raškovice18
SUMMARY:FM-U16ZA: SK Metylovice-VK Raškovice B
END:VEVENT
BEGIN:VEVENT
UID:39333336-3635-4133-b935-306632653136
DTSTAMP:20260423T042858Z
DESCRIPTION:3/9 SK Metylovice - Volejbal Kozlovice 1:1 (-15\,17)
DTSTART;TZID=Europe/Berlin:20251018T110000
DTEND;TZID=Europe/Berlin:20251018T130000
LOCATION:Víceúčelová sportovní hala\,  Raškovice18
SUMMARY:FM-U16ZA: SK Metylovice-Volejbal Kozlovice
END:VEVENT
BEGIN:VEVENT
UID:33306633-6232-4566-a330-303166373361
DTSTAMP:20260423T042858Z
DESCRIPTION:4/11 SK Metylovice - VKB Frýdlant n/O D 2:0 (18\,16)
DTSTART;TZID=Europe/Berlin:20251018T120000
DTEND;TZID=Europe/Berlin:20251018T140000
LOCATION:Víceúčelová sportovní hala\,  Raškovice18
SUMMARY:FM-U16ZA: SK Metylovice-VKB Frýdlant n/O D
END:VEVENT
BEGIN:VEVENT
UID:66313266-6364-4132-b030-643861313831
DTSTAMP:20260423T042858Z
DESCRIPTION:2/5 TJ Sokol Mosty - SK Metylovice 1:1 (21\,-21)
DTSTART;TZID=Europe/Berlin:20251018T100000
DTEND;TZID=Europe/Berlin:20251018T120000
LOCATION:Víceúčelová sportovní hala\,  Raškovice18
SUMMARY:FM-U16ZA: TJ Sokol Mosty-SK Metylovice
END:VEVENT
BEGIN:VEVENT
UID:30623863-6437-4131-a638-343866383764
DTSTAMP:20260423T042858Z
DESCRIPTION:5/13 TJ TŽ Třinec - SK Metylovice 0:2 (-16\,-14)
DTSTART;TZID=Europe/Berlin:20251018T130000
DTEND;TZID=Europe/Berlin:20251018T150000
LOCATION:Víceúčelová sportovní hala\,  Raškovice18
SUMMARY:FM-U16ZA: TJ TŽ Třinec-SK Metylovice
END:VEVENT
BEGIN:VEVENT
UID:37623364-3736-4637-a536-663066366232
DTSTAMP:20260423T042858Z
DESCRIPTION:2/2 SK Metylovice - TJ Sokol Mosty 2:1 (14\,18\,-22)
DTSTART;TZID=Europe/Berlin:20251129T103000
DTEND;TZID=Europe/Berlin:20251129T123000
LOCATION:Sokolovna Metylovice\,  Metylovice111
SUMMARY:FM-U16Z-T1A: SK Metylovice-TJ Sokol Mosty
END:VEVENT
BEGIN:VEVENT
UID:34646437-3030-4539-a665-333666363263
DTSTAMP:20260423T042858Z
DESCRIPTION:1/1 VKB Frýdlant n/O C - SK Metylovice 1:2 (-26\,17\,-22)
DTSTART;TZID=Europe/Berlin:20251129T090000
DTEND;TZID=Europe/Berlin:20251129T110000
LOCATION:Sokolovna\, Hlavní 401 Frýdlant nad Ostravicí - Frýdlant
SUMMARY:FM-U16Z-T1A: VKB Frýdlant n/O C-SK Metylovice
END:VEVENT
BEGIN:VEVENT
UID:32393231-6565-4661-b461-326135373035
DTSTAMP:20260423T042858Z
DESCRIPTION:2/2 SK Metylovice - VKB Frýdlant n/O C 2:1 (20\,-22\,20)
DTSTART;TZID=Europe/Berlin:20260117T103000
DTEND;TZID=Europe/Berlin:20260117T123000
LOCATION:Sokolovna Metylovice\,  Metylovice111
SUMMARY:FM-U16Z-3A: SK Metylovice-VKB Frýdlant n/O C
END:VEVENT
BEGIN:VEVENT
UID:36396335-3436-4237-b537-646530316536
DTSTAMP:20260423T042858Z
DESCRIPTION:1/1 TJ Sokol Mosty - SK Metylovice 2:1 (-18\,25\,21)
DTSTART;TZID=Europe/Berlin:20260117T090000
DTEND;TZID=Europe/Berlin:20260117T110000
LOCATION:Sokolovna\,  Mosty u Jablunkova700
SUMMARY:FM-U16Z-3A: TJ Sokol Mosty-SK Metylovice
END:VEVENT
BEGIN:VEVENT
UID:64326232-6162-4661-a666-306232653864
DTSTAMP:20260423T042858Z
DESCRIPTION:1/1 SK Metylovice - VK Raškovice B 3:0 (14\,21\,13)
DTSTART;TZID=Europe/Berlin:20260207T090000
DTEND;TZID=Europe/Berlin:20260207T110000
LOCATION:Sokolovna Metylovice\,  Metylovice111
SUMMARY:FM-U16Z-T4A: SK Metylovice-VK Raškovice B
END:VEVENT
BEGIN:VEVENT
UID:33656462-6332-4064-b863-336537373365
DTSTAMP:20260423T042858Z
DESCRIPTION:3/3 SK Metylovice - VKB Frýdlant n/O C 0:3 (-18\,-6\,-17)
DTSTART;TZID=Europe/Berlin:20260207T123000
DTEND;TZID=Europe/Berlin:20260207T143000
LOCATION:Sokolovna Metylovice\,  Metylovice111
SUMMARY:FM-U16Z-T4A: SK Metylovice-VKB Frýdlant n/O C
END:VEVENT
BEGIN:VEVENT
UID:64623532-3633-4036-b231-643430373030
DTSTAMP:20260423T042858Z
DESCRIPTION:2/2 VKB Frýdlant n/O C - SK Metylovice 3:0 (16\,14\,21)
DTSTART;TZID=Europe/Berlin:20260314T104500
DTEND;TZID=Europe/Berlin:20260314T124500
LOCATION:Sokolovna\,  Mosty u Jablunkova700
SUMMARY:FM-U16Z-T5A: VKB Frýdlant n/O C-SK Metylovice
END:VEVENT
BEGIN:VEVENT
UID:38616335-3738-4338-b236-326362613361
DTSTAMP:20260423T042858Z
DESCRIPTION:3/3 TJ Sokol Mosty - SK Metylovice 1:2 (-25\,-23\,22)
DTSTART;TZID=Europe/Berlin:20260314T123000
DTEND;TZID=Europe/Berlin:20260314T143000
LOCATION:Sokolovna\,  Mosty u Jablunkova700
SUMMARY:FM-U16Z-T5A: TJ Sokol Mosty-SK Metylovice
END:VEVENT
BEGIN:VEVENT
UID:32373837-3462-4863-b831-356339623133
DTSTAMP:20260423T042858Z
DESCRIPTION:2/2 VKB Frýdlant n/O C - SK Metylovice 3:0 (18\,13\,17)
DTSTART;TZID=Europe/Berlin:20260411T103000
DTEND;TZID=Europe/Berlin:20260411T123000
LOCATION:Víceúčelová sportovní hala\,  Raškovice18
SUMMARY:FM-U16Z-T6A: VKB Frýdlant n/O C-SK Metylovice
END:VEVENT
BEGIN:VEVENT
UID:31343739-6237-4932-b635-636634303433
DTSTAMP:20260423T042858Z
DESCRIPTION:3/3 VK Raškovice B - SK Metylovice 0:3 (-21\,-17\,-17)
DTSTART;TZID=Europe/Berlin:20260411T120000
DTEND;TZID=Europe/Berlin:20260411T140000
LOCATION:Víceúčelová sportovní hala\,  Raškovice18
SUMMARY:FM-U16Z-T6A: VK Raškovice B-SK Metylovice
END:VEVENT
END:VCALENDAR
