BEGIN:VCALENDAR
VERSION:2.0
PRODID:-//Volejbal Sloup "Čtverky" "Chlapci, mix"91814//NONSGML kigkonsult.se iCalcreator 2.41.80//
CALSCALE:GREGORIAN
UID:39333262-6261-4630-b262-393163326561
BEGIN:VEVENT
UID:64396362-6636-4161-b937-306362366437
DTSTAMP:20260423T050006Z
DESCRIPTION:4/4 VK Sloup 'Čtverky' 'Chlapci\, mix' - TJ Sokol Předklášteří 
 'Čtverky' 'Dívky' 0:2 (-17\,-19)\nKurt 1
DTSTART;TZID=Europe/Berlin:20251005T110000
DTEND;TZID=Europe/Berlin:20251005T130000
LOCATION:Sportovní hala Letovice\, V zahradách 831 Letovice
SUMMARY:JM-U14Z-KVE: VK Sloup 'Čtverky' 'Chlapci\, mix'-TJ Sokol Předklášte
 ří 'Čtverky' 'Dívky'
END:VEVENT
BEGIN:VEVENT
UID:66633136-6234-4065-a632-326137633465
DTSTAMP:20260423T050006Z
DESCRIPTION:6/6 VK Sloup 'Čtverky' 'Chlapci\, mix' - TJ Sokol Letovice 'A' 
 'Čtverky' 'Dívky' 0:2 (-17\,-19)\nKurt 1
DTSTART;TZID=Europe/Berlin:20251005T120000
DTEND;TZID=Europe/Berlin:20251005T140000
LOCATION:Sportovní hala Letovice\, V zahradách 831 Letovice
SUMMARY:JM-U14Z-KVE: VK Sloup 'Čtverky' 'Chlapci\, mix'-TJ Sokol Letovice '
 A' 'Čtverky' 'Dívky'
END:VEVENT
BEGIN:VEVENT
UID:62306637-6261-4830-b438-373362333535
DTSTAMP:20260423T050006Z
DESCRIPTION:7/7 VK Sloup 'Čtverky' 'Chlapci\, mix' - TJ Sokol Letovice 'C' 
 'Čtverky' 'Dívky' 2:0 (12\,9)\nKurt 1
DTSTART;TZID=Europe/Berlin:20251005T130000
DTEND;TZID=Europe/Berlin:20251005T150000
LOCATION:Sportovní hala Letovice\, V zahradách 831 Letovice
SUMMARY:JM-U14Z-KVE: VK Sloup 'Čtverky' 'Chlapci\, mix'-TJ Sokol Letovice '
 C' 'Čtverky' 'Dívky'
END:VEVENT
BEGIN:VEVENT
UID:36636331-6334-4532-a461-336431386638
DTSTAMP:20260423T050006Z
DESCRIPTION:9/9 TJ Sokol Letovice 'E' 'Čtverky' 'Chlapci\, mix' - VK Sloup 
 'Čtverky' 'Chlapci\, mix' 2:0 (10\,15)\nKurt 1
DTSTART;TZID=Europe/Berlin:20251005T140000
DTEND;TZID=Europe/Berlin:20251005T160000
LOCATION:Sportovní hala Letovice\, V zahradách 831 Letovice
SUMMARY:JM-U14Z-KVE: TJ Sokol Letovice 'E' 'Čtverky' 'Chlapci\, mix'-VK Slo
 up 'Čtverky' 'Chlapci\, mix'
END:VEVENT
BEGIN:VEVENT
UID:65346265-6435-4536-b833-343565353165
DTSTAMP:20260423T050006Z
DESCRIPTION:1/1 VK Sloup 'Čtverky' 'Chlapci\, mix' - TJ Sokol Šlapanice u B
 rna 'A' 'Čtverky' 'Dívky' 2:1 (23\,-20\,12)
DTSTART;TZID=Europe/Berlin:20251109T090000
DTEND;TZID=Europe/Berlin:20251109T110000
LOCATION:ZŠ Sloup\,  Sloup200
SUMMARY:JM-U14Z-ID4: VK Sloup 'Čtverky' 'Chlapci\, mix'-TJ Sokol Šlapanice 
 u Brna 'A' 'Čtverky' 'Dívky'
END:VEVENT
BEGIN:VEVENT
UID:38366339-6133-4833-b366-323734326134
DTSTAMP:20260423T050006Z
DESCRIPTION:4/4 VK Sloup 'Čtverky' 'Chlapci\, mix' - TJ Sokol Letovice 'B' 
 'Čtverky' 'Dívky' 1:2 (-21\,18\,-12)
DTSTART;TZID=Europe/Berlin:20251109T130000
DTEND;TZID=Europe/Berlin:20251109T150000
LOCATION:ZŠ Sloup\,  Sloup200
SUMMARY:JM-U14Z-ID4: VK Sloup 'Čtverky' 'Chlapci\, mix'-TJ Sokol Letovice '
 B' 'Čtverky' 'Dívky'
END:VEVENT
BEGIN:VEVENT
UID:33346163-3565-4861-a238-373131623432
DTSTAMP:20260423T050006Z
DESCRIPTION:6/6 Orel jednota Křenovice 'Čtverky' 'Dívky' - VK Sloup 'Čtverk
 y' 'Chlapci\, mix' 0:2 (-25\,-22)
DTSTART;TZID=Europe/Berlin:20251109T153000
DTEND;TZID=Europe/Berlin:20251109T173000
LOCATION:ZŠ Sloup\,  Sloup200
SUMMARY:JM-U14Z-ID4: Orel jednota Křenovice 'Čtverky' 'Dívky'-VK Sloup 'Čtv
 erky' 'Chlapci\, mix'
END:VEVENT
BEGIN:VEVENT
UID:30643565-3261-4339-b037-306463383934
DTSTAMP:20260423T050006Z
DESCRIPTION:1/2 VK Sloup 'Čtverky' 'Chlapci\, mix' - TJ ASK BLANSKO 'Čtverk
 y' 'Chlapci\, mix' 2:0 (23\,23)
DTSTART;TZID=Europe/Berlin:20251130T090000
DTEND;TZID=Europe/Berlin:20251130T110000
LOCATION:tělocvičny ZŠ Novolíšeňská\, Brno\, Novolíšeňská 2411 Brno - Líšeň
SUMMARY:JM-U14Z-IIC4: VK Sloup 'Čtverky' 'Chlapci\, mix'-TJ ASK BLANSKO 'Čt
 verky' 'Chlapci\, mix'
END:VEVENT
BEGIN:VEVENT
UID:33643566-6164-4461-b133-386233393362
DTSTAMP:20260423T050006Z
DESCRIPTION:3/5 VK Sloup 'Čtverky' 'Chlapci\, mix' - SK SKUNK Unkovice 'B' 
 'Čtverky' 'Chlapci\, mix' 2:1 (14\,-22\,9)
DTSTART;TZID=Europe/Berlin:20251130T114500
DTEND;TZID=Europe/Berlin:20251130T134500
LOCATION:tělocvičny ZŠ Novolíšeňská\, Brno\, Novolíšeňská 2411 Brno - Líšeň
SUMMARY:JM-U14Z-IIC4: VK Sloup 'Čtverky' 'Chlapci\, mix'-SK SKUNK Unkovice 
 'B' 'Čtverky' 'Chlapci\, mix'
END:VEVENT
BEGIN:VEVENT
UID:64383061-3133-4266-b236-323730643664
DTSTAMP:20260423T050006Z
DESCRIPTION:2/4 TJ JUNIOR Brno 'C' 'Čtverky' 'Dívky' - VK Sloup 'Čtverky' '
 Chlapci\, mix' 1:2 (-20\,12\,-15)
DTSTART;TZID=Europe/Berlin:20251130T103000
DTEND;TZID=Europe/Berlin:20251130T123000
LOCATION:tělocvičny ZŠ Novolíšeňská\, Brno\, Novolíšeňská 2411 Brno - Líšeň
SUMMARY:JM-U14Z-IIC4: TJ JUNIOR Brno 'C' 'Čtverky' 'Dívky'-VK Sloup 'Čtverk
 y' 'Chlapci\, mix'
END:VEVENT
BEGIN:VEVENT
UID:61343464-3862-4537-b037-646233653362
DTSTAMP:20260423T050006Z
DESCRIPTION:6/6 VK Sloup 'Čtverky' 'Chlapci\, mix' - TJ Sokol Předklášteří 
 'Čtverky' 'Dívky' 1:2 (-11\,11\,-7)
DTSTART;TZID=Europe/Berlin:20251214T153000
DTEND;TZID=Europe/Berlin:20251214T173000
LOCATION:ZŠ Předklášteří\, Komenského 1097 Předklášteří
SUMMARY:JM-U14Z-IIIB4: VK Sloup 'Čtverky' 'Chlapci\, mix'-TJ Sokol Předkláš
 teří 'Čtverky' 'Dívky'
END:VEVENT
BEGIN:VEVENT
UID:66396333-6366-4132-b232-316366623962
DTSTAMP:20260423T050006Z
DESCRIPTION:2/2 Orel jednota Křenovice 'Čtverky' 'Chlapci\, mix' - VK Sloup
  'Čtverky' 'Chlapci\, mix' 2:0 (13\,11)
DTSTART;TZID=Europe/Berlin:20251214T103000
DTEND;TZID=Europe/Berlin:20251214T123000
LOCATION:ZŠ Předklášteří\, Komenského 1097 Předklášteří
SUMMARY:JM-U14Z-IIIB4: Orel jednota Křenovice 'Čtverky' 'Chlapci\, mix'-VK 
 Sloup 'Čtverky' 'Chlapci\, mix'
END:VEVENT
BEGIN:VEVENT
UID:62613761-3266-4139-a539-626233613032
DTSTAMP:20260423T050006Z
DESCRIPTION:3/3 TJ Sokol Letovice 'D' 'Čtverky' 'Dívky' - VK Sloup 'Čtverky
 ' 'Chlapci\, mix' 1:2 (15\,-14\,-10)
DTSTART;TZID=Europe/Berlin:20251214T114500
DTEND;TZID=Europe/Berlin:20251214T134500
LOCATION:ZŠ Předklášteří\, Komenského 1097 Předklášteří
SUMMARY:JM-U14Z-IIIB4: TJ Sokol Letovice 'D' 'Čtverky' 'Dívky'-VK Sloup 'Čt
 verky' 'Chlapci\, mix'
END:VEVENT
BEGIN:VEVENT
UID:30643938-3436-4263-b765-663461323934
DTSTAMP:20260423T050006Z
DESCRIPTION:6/6 VK Sloup 'Čtverky' 'Chlapci\, mix' - TJ Sokol Předklášteří 
 'Čtverky' 'Dívky' 0:2 (-13\,-20)
DTSTART;TZID=Europe/Berlin:20260111T153000
DTEND;TZID=Europe/Berlin:20260111T173000
LOCATION:ZŠ Předklášteří\, Komenského 1097 Předklášteří
SUMMARY:JM-U14Z-IVB4: VK Sloup 'Čtverky' 'Chlapci\, mix'-TJ Sokol Předklášt
 eří 'Čtverky' 'Dívky'
END:VEVENT
BEGIN:VEVENT
UID:30373038-3739-4064-b865-326661306666
DTSTAMP:20260423T050006Z
DESCRIPTION:2/2 TJ Sokol Letovice 'A' 'Čtverky' 'Dívky' - VK Sloup 'Čtverky
 ' 'Chlapci\, mix' 2:1 (22\,-23\,8)
DTSTART;TZID=Europe/Berlin:20260111T103000
DTEND;TZID=Europe/Berlin:20260111T123000
LOCATION:ZŠ Předklášteří\, Komenského 1097 Předklášteří
SUMMARY:JM-U14Z-IVB4: TJ Sokol Letovice 'A' 'Čtverky' 'Dívky'-VK Sloup 'Čtv
 erky' 'Chlapci\, mix'
END:VEVENT
BEGIN:VEVENT
UID:32643231-3631-4435-b132-356536666432
DTSTAMP:20260423T050006Z
DESCRIPTION:3/3 TJ JUNIOR Brno 'B' 'Čtverky' 'Dívky' - VK Sloup 'Čtverky' '
 Chlapci\, mix' 1:2 (22\,-5\,-11)
DTSTART;TZID=Europe/Berlin:20260111T114500
DTEND;TZID=Europe/Berlin:20260111T134500
LOCATION:ZŠ Předklášteří\, Komenského 1097 Předklášteří
SUMMARY:JM-U14Z-IVB4: TJ JUNIOR Brno 'B' 'Čtverky' 'Dívky'-VK Sloup 'Čtverk
 y' 'Chlapci\, mix'
END:VEVENT
BEGIN:VEVENT
UID:38373133-6261-4863-b734-333165366265
DTSTAMP:20260423T050006Z
DESCRIPTION:1/1 VK Sloup 'Čtverky' 'Chlapci\, mix' - TJ Sokol Předklášteří 
 'Čtverky' 'Dívky' 1:2 (-16\,26\,-5)
DTSTART;TZID=Europe/Berlin:20260208T090000
DTEND;TZID=Europe/Berlin:20260208T110000
LOCATION:ZŠ Sloup\,  Sloup200
SUMMARY:JM-U14Z-VB4: VK Sloup 'Čtverky' 'Chlapci\, mix'-TJ Sokol Předklášte
 ří 'Čtverky' 'Dívky'
END:VEVENT
BEGIN:VEVENT
UID:64616361-3963-4238-b862-643039363864
DTSTAMP:20260423T050006Z
DESCRIPTION:4/4 VK Sloup 'Čtverky' 'Chlapci\, mix' - TJ Sokol Letovice 'D' 
 'Čtverky' 'Dívky' 2:0 (22\,24)
DTSTART;TZID=Europe/Berlin:20260208T130000
DTEND;TZID=Europe/Berlin:20260208T150000
LOCATION:ZŠ Sloup\,  Sloup200
SUMMARY:JM-U14Z-VB4: VK Sloup 'Čtverky' 'Chlapci\, mix'-TJ Sokol Letovice '
 D' 'Čtverky' 'Dívky'
END:VEVENT
BEGIN:VEVENT
UID:63663364-3730-4234-a435-623064643566
DTSTAMP:20260423T050006Z
DESCRIPTION:6/6 Orel jednota Křenovice 'Čtverky' 'Chlapci\, mix' - VK Sloup
  'Čtverky' 'Chlapci\, mix' 2:0 (22\,19)
DTSTART;TZID=Europe/Berlin:20260208T153000
DTEND;TZID=Europe/Berlin:20260208T173000
LOCATION:ZŠ Sloup\,  Sloup200
SUMMARY:JM-U14Z-VB4: Orel jednota Křenovice 'Čtverky' 'Chlapci\, mix'-VK Sl
 oup 'Čtverky' 'Chlapci\, mix'
END:VEVENT
BEGIN:VEVENT
UID:33343438-6136-4330-b438-333633353032
DTSTAMP:20260423T050006Z
DESCRIPTION:2/3 VK Sloup 'Čtverky' 'Chlapci\, mix' - Orel jednota Křenovice
  'Čtverky' 'Dívky' 1:2 (20\,-18\,-11)
DTSTART;TZID=Europe/Berlin:20260315T103000
DTEND;TZID=Europe/Berlin:20260315T123000
LOCATION:Sportovní hala Křenovice \, Bratří Mrázků 635 Křenovice
SUMMARY:JM-U14Z-VIB4: VK Sloup 'Čtverky' 'Chlapci\, mix'-Orel jednota Křeno
 vice 'Čtverky' 'Dívky'
END:VEVENT
BEGIN:VEVENT
UID:64656365-6631-4431-a333-383339633435
DTSTAMP:20260423T050006Z
DESCRIPTION:1/1 Orel jednota Křenovice 'Čtverky' 'Chlapci\, mix' - VK Sloup
  'Čtverky' 'Chlapci\, mix' 2:0 (17\,19)
DTSTART;TZID=Europe/Berlin:20260315T090000
DTEND;TZID=Europe/Berlin:20260315T110000
LOCATION:Sportovní hala Křenovice \, Bratří Mrázků 635 Křenovice
SUMMARY:JM-U14Z-VIB4: Orel jednota Křenovice 'Čtverky' 'Chlapci\, mix'-VK S
 loup 'Čtverky' 'Chlapci\, mix'
END:VEVENT
BEGIN:VEVENT
UID:37613436-3037-4535-b532-303836623836
DTSTAMP:20260423T050006Z
DESCRIPTION:3/5 TJ Sokol Letovice 'A' 'Čtverky' 'Dívky' - VK Sloup 'Čtverky
 ' 'Chlapci\, mix' 2:0 (17\,21)
DTSTART;TZID=Europe/Berlin:20260315T114500
DTEND;TZID=Europe/Berlin:20260315T134500
LOCATION:Sportovní hala Křenovice \, Bratří Mrázků 635 Křenovice
SUMMARY:JM-U14Z-VIB4: TJ Sokol Letovice 'A' 'Čtverky' 'Dívky'-VK Sloup 'Čtv
 erky' 'Chlapci\, mix'
END:VEVENT
BEGIN:VEVENT
UID:30663938-3366-4065-b562-623433326533
DTSTAMP:20260423T050006Z
DESCRIPTION:3/6 VK Sloup 'Čtverky' 'Chlapci\, mix' - SK SKUNK Unkovice 'A' 
 'Čtverky' 'Chlapci\, mix' 2:1 (-10\,0\,0)\nL2 vs L3 Kurt 2
DTSTART;TZID=Europe/Berlin:20260412T120000
DTEND;TZID=Europe/Berlin:20260412T140000
SUMMARY:JM-U14Z-FC: VK Sloup 'Čtverky' 'Chlapci\, mix'-SK SKUNK Unkovice 'A
 ' 'Čtverky' 'Chlapci\, mix'
END:VEVENT
BEGIN:VEVENT
UID:37643736-3566-4030-b639-626261303533
DTSTAMP:20260423T050006Z
DESCRIPTION:1/2 TJ Sokol Šlapanice u Brna 'C' 'Čtverky' 'Chlapci\, mix' - V
 K Sloup 'Čtverky' 'Chlapci\, mix' 2:0 (22\,16)\n2. vs 7. Kurt 1
DTSTART;TZID=Europe/Berlin:20260412T093000
DTEND;TZID=Europe/Berlin:20260412T113000
SUMMARY:JM-U14Z-FC: TJ Sokol Šlapanice u Brna 'C' 'Čtverky' 'Chlapci\, mix'
 -VK Sloup 'Čtverky' 'Chlapci\, mix'
END:VEVENT
BEGIN:VEVENT
UID:33303339-6330-4739-a435-376634646639
DTSTAMP:20260423T050006Z
DESCRIPTION:5/10 Orel jednota Křenovice 'Čtverky' 'Chlapci\, mix' - VK Slou
 p 'Čtverky' 'Chlapci\, mix' 2:1 (-23\,14\,7)\nW5 vs W6 Kurt 1
DTSTART;TZID=Europe/Berlin:20260412T133000
DTEND;TZID=Europe/Berlin:20260412T153000
SUMMARY:JM-U14Z-FC: Orel jednota Křenovice 'Čtverky' 'Chlapci\, mix'-VK Slo
 up 'Čtverky' 'Chlapci\, mix'
END:VEVENT
END:VCALENDAR
