BEGIN:VCALENDAR
VERSION:2.0
PRODID:-//VK Královo Pole, ZŠ Milénova Brno "B" "Dívky"91817//NONSGML kigkonsult.se iCalcreator 2.41.80//
CALSCALE:GREGORIAN
UID:61333330-3138-4531-a133-666366653934
BEGIN:VEVENT
UID:39356534-6132-4263-b232-633032343764
DTSTAMP:20260422T022914Z
DESCRIPTION:3/3 ZŠ Milénova Brno 'B' 'Dívky' - VK Brno 'A' 'Dívky' 0:2 (-8\
 ,-13)
DTSTART;TZID=Europe/Berlin:20251005T103000
DTEND;TZID=Europe/Berlin:20251005T123000
LOCATION:ZŠ Vejrostova\, Vejrostova 1066 Brno - Bystrc
SUMMARY:JM-U14Z-KVD: ZŠ Milénova Brno 'B' 'Dívky'-VK Brno 'A' 'Dívky'
END:VEVENT
BEGIN:VEVENT
UID:36643732-3238-4231-b338-363864636564
DTSTAMP:20260422T022914Z
DESCRIPTION:8/8 ZŠ Milénova Brno 'B' 'Dívky' - VK Královo Pole 'E' 'Dívky' 
 0:2 (-21\,-19)
DTSTART;TZID=Europe/Berlin:20251005T141500
DTEND;TZID=Europe/Berlin:20251005T161500
LOCATION:ZŠ Vejrostova\, Vejrostova 1066 Brno - Bystrc
SUMMARY:JM-U14Z-KVD: ZŠ Milénova Brno 'B' 'Dívky'-VK Královo Pole 'E' 'Dívk
 y'
END:VEVENT
BEGIN:VEVENT
UID:36653132-3331-4736-b632-346462333636
DTSTAMP:20260422T022914Z
DESCRIPTION:2/2 TJ Agrotec Hustopeče z.s. 'Chlapci\, mix' - ZŠ Milénova Brn
 o 'B' 'Dívky' 2:0 (13\,14)
DTSTART;TZID=Europe/Berlin:20251005T093000
DTEND;TZID=Europe/Berlin:20251005T113000
LOCATION:ZŠ Vejrostova\, Vejrostova 1066 Brno - Bystrc
SUMMARY:JM-U14Z-KVD: TJ Agrotec Hustopeče z.s. 'Chlapci\, mix'-ZŠ Milénova 
 Brno 'B' 'Dívky'
END:VEVENT
BEGIN:VEVENT
UID:62353763-6562-4464-b438-313637663431
DTSTAMP:20260422T022914Z
DESCRIPTION:6/6 PFN Znojmo 'Chlapci\, mix' - ZŠ Milénova Brno 'B' 'Dívky' 2
 :0 (10\,11)
DTSTART;TZID=Europe/Berlin:20251005T124500
DTEND;TZID=Europe/Berlin:20251005T144500
LOCATION:ZŠ Vejrostova\, Vejrostova 1066 Brno - Bystrc
SUMMARY:JM-U14Z-KVD: PFN Znojmo 'Chlapci\, mix'-ZŠ Milénova Brno 'B' 'Dívky
 '
END:VEVENT
BEGIN:VEVENT
UID:32306335-3665-4438-b632-373130333361
DTSTAMP:20260422T022914Z
DESCRIPTION:9/9 ZŠ Milénova Brno 'B' 'Dívky' - VK Brno 'B' 'Chlapci\, mix' 
 2:0 (12\,14)
DTSTART;TZID=Europe/Berlin:20251109T141500
DTEND;TZID=Europe/Berlin:20251109T161500
LOCATION:Sportovní hala Rousínov\, Habrovanská 1199 Rousínov
SUMMARY:JM-U14Z-IE: ZŠ Milénova Brno 'B' 'Dívky'-VK Brno 'B' 'Chlapci\, mix
 '
END:VEVENT
BEGIN:VEVENT
UID:39643535-6561-4461-b534-373730356363
DTSTAMP:20260422T022914Z
DESCRIPTION:1/1 VK Rousínov 'Dívky' - ZŠ Milénova Brno 'B' 'Dívky' 2:0 (17\
 ,15)
DTSTART;TZID=Europe/Berlin:20251109T090000
DTEND;TZID=Europe/Berlin:20251109T110000
LOCATION:Sportovní hala Rousínov\, Habrovanská 1199 Rousínov
SUMMARY:JM-U14Z-IE: VK Rousínov 'Dívky'-ZŠ Milénova Brno 'B' 'Dívky'
END:VEVENT
BEGIN:VEVENT
UID:32383163-3165-4663-b962-383337646561
DTSTAMP:20260422T022914Z
DESCRIPTION:5/5 TJ Sokol Bučovice 'D' 'Dívky' - ZŠ Milénova Brno 'B' 'Dívky
 ' 2:0 (22\,22)
DTSTART;TZID=Europe/Berlin:20251109T114500
DTEND;TZID=Europe/Berlin:20251109T134500
LOCATION:Sportovní hala Rousínov\, Habrovanská 1199 Rousínov
SUMMARY:JM-U14Z-IE: TJ Sokol Bučovice 'D' 'Dívky'-ZŠ Milénova Brno 'B' 'Dív
 ky'
END:VEVENT
BEGIN:VEVENT
UID:36613263-6465-4262-a263-326466643064
DTSTAMP:20260422T022914Z
DESCRIPTION:8/8 VK Královo Pole 'F' 'Dívky' - ZŠ Milénova Brno 'B' 'Dívky' 
 1:1 (-20\,9)
DTSTART;TZID=Europe/Berlin:20251109T130000
DTEND;TZID=Europe/Berlin:20251109T150000
LOCATION:Sportovní hala Rousínov\, Habrovanská 1199 Rousínov
SUMMARY:JM-U14Z-IE: VK Královo Pole 'F' 'Dívky'-ZŠ Milénova Brno 'B' 'Dívky
 '
END:VEVENT
BEGIN:VEVENT
UID:38373131-3435-4231-b234-383566343032
DTSTAMP:20260422T022914Z
DESCRIPTION:3/3 ZŠ Milénova Brno 'B' 'Dívky' - VK Královo Pole 'F' 'Dívky' 
 1:1 (-22\,17)
DTSTART;TZID=Europe/Berlin:20251130T103000
DTEND;TZID=Europe/Berlin:20251130T123000
LOCATION:Městská sportovní hala\, Šafaříkova 1016 Hustopeče
SUMMARY:JM-U14Z-IIE: ZŠ Milénova Brno 'B' 'Dívky'-VK Královo Pole 'F' 'Dívk
 y'
END:VEVENT
BEGIN:VEVENT
UID:61623739-3131-4636-b836-323938336638
DTSTAMP:20260422T022914Z
DESCRIPTION:8/8 ZŠ Milénova Brno 'B' 'Dívky' - VK Brno 'B' 'Chlapci\, mix' 
 2:0 (8\,6)
DTSTART;TZID=Europe/Berlin:20251130T130000
DTEND;TZID=Europe/Berlin:20251130T150000
LOCATION:Městská sportovní hala\, Šafaříkova 1016 Hustopeče
SUMMARY:JM-U14Z-IIE: ZŠ Milénova Brno 'B' 'Dívky'-VK Brno 'B' 'Chlapci\, mi
 x'
END:VEVENT
BEGIN:VEVENT
UID:37313235-6164-4633-b838-323864376563
DTSTAMP:20260422T022914Z
DESCRIPTION:2/2 VK Brno 'Chlapci\, mix' - ZŠ Milénova Brno 'B' 'Dívky' 0:2 
 (-20\,-23)
DTSTART;TZID=Europe/Berlin:20251130T090000
DTEND;TZID=Europe/Berlin:20251130T110000
LOCATION:Městská sportovní hala\, Šafaříkova 1016 Hustopeče
SUMMARY:JM-U14Z-IIE: VK Brno 'Chlapci\, mix'-ZŠ Milénova Brno 'B' 'Dívky'
END:VEVENT
BEGIN:VEVENT
UID:62316239-6430-4531-a535-313664633263
DTSTAMP:20260422T022914Z
DESCRIPTION:6/6 TJ Sokol Bučovice 'D' 'Dívky' - ZŠ Milénova Brno 'B' 'Dívky
 ' 1:1 (16\,-18)
DTSTART;TZID=Europe/Berlin:20251130T114500
DTEND;TZID=Europe/Berlin:20251130T134500
LOCATION:Městská sportovní hala\, Šafaříkova 1016 Hustopeče
SUMMARY:JM-U14Z-IIE: TJ Sokol Bučovice 'D' 'Dívky'-ZŠ Milénova Brno 'B' 'Dí
 vky'
END:VEVENT
BEGIN:VEVENT
UID:37383537-6165-4334-b837-313030623363
DTSTAMP:20260422T022914Z
DESCRIPTION:3/6 ZŠ Milénova Brno 'B' 'Dívky' - VK Rousínov 'Dívky' 0:2 (-24
 \,-7)
DTSTART;TZID=Europe/Berlin:20251214T114500
DTEND;TZID=Europe/Berlin:20251214T134500
LOCATION:Sportovní hala Rousínov\, Habrovanská 1199 Rousínov
SUMMARY:JM-U14Z-IIID: ZŠ Milénova Brno 'B' 'Dívky'-VK Rousínov 'Dívky'
END:VEVENT
BEGIN:VEVENT
UID:30653436-3666-4762-b531-383236663933
DTSTAMP:20260422T022914Z
DESCRIPTION:1/2 TJ Agrotec Hustopeče z.s. 'Chlapci\, mix' - ZŠ Milénova Brn
 o 'B' 'Dívky' 2:0 (13\,13)
DTSTART;TZID=Europe/Berlin:20251214T090000
DTEND;TZID=Europe/Berlin:20251214T110000
LOCATION:Sportovní hala Rousínov\, Habrovanská 1199 Rousínov
SUMMARY:JM-U14Z-IIID: TJ Agrotec Hustopeče z.s. 'Chlapci\, mix'-ZŠ Milénova
  Brno 'B' 'Dívky'
END:VEVENT
BEGIN:VEVENT
UID:62623833-6335-4662-a663-626530643538
DTSTAMP:20260422T022914Z
DESCRIPTION:2/3 VK Brno 'A' 'Dívky' - ZŠ Milénova Brno 'B' 'Dívky' 2:0 (19\
 ,19)
DTSTART;TZID=Europe/Berlin:20251214T103000
DTEND;TZID=Europe/Berlin:20251214T123000
LOCATION:Sportovní hala Rousínov\, Habrovanská 1199 Rousínov
SUMMARY:JM-U14Z-IIID: VK Brno 'A' 'Dívky'-ZŠ Milénova Brno 'B' 'Dívky'
END:VEVENT
BEGIN:VEVENT
UID:38383938-3435-4361-b361-366462646132
DTSTAMP:20260422T022914Z
DESCRIPTION:6/6 ZŠ Milénova Brno 'B' 'Dívky' - VK Brno 'A' 'Dívky' 0:2 (-11
 \,-9)
DTSTART;TZID=Europe/Berlin:20260111T153000
DTEND;TZID=Europe/Berlin:20260111T173000
LOCATION:ZŠ Vejrostova\, Vejrostova 1066 Brno - Bystrc
SUMMARY:JM-U14Z-IVC: ZŠ Milénova Brno 'B' 'Dívky'-VK Brno 'A' 'Dívky'
END:VEVENT
BEGIN:VEVENT
UID:34326166-6630-4431-b865-636236373134
DTSTAMP:20260422T022914Z
DESCRIPTION:2/2 VS Drásov 'Dívky' - ZŠ Milénova Brno 'B' 'Dívky' 2:1 (-13\,
 17\,11)
DTSTART;TZID=Europe/Berlin:20260111T103000
DTEND;TZID=Europe/Berlin:20260111T123000
LOCATION:ZŠ Vejrostova\, Vejrostova 1066 Brno - Bystrc
SUMMARY:JM-U14Z-IVC: VS Drásov 'Dívky'-ZŠ Milénova Brno 'B' 'Dívky'
END:VEVENT
BEGIN:VEVENT
UID:36663164-3731-4537-b262-366431633834
DTSTAMP:20260422T022914Z
DESCRIPTION:3/3 VK Královo Pole 'E' 'Dívky' - ZŠ Milénova Brno 'B' 'Dívky' 
 2:0 (15\,7)
DTSTART;TZID=Europe/Berlin:20260111T114500
DTEND;TZID=Europe/Berlin:20260111T134500
LOCATION:ZŠ Vejrostova\, Vejrostova 1066 Brno - Bystrc
SUMMARY:JM-U14Z-IVC: VK Královo Pole 'E' 'Dívky'-ZŠ Milénova Brno 'B' 'Dívk
 y'
END:VEVENT
BEGIN:VEVENT
UID:32326531-3134-4530-b937-396531333330
DTSTAMP:20260422T022914Z
DESCRIPTION:2/2 ZŠ Milénova Brno 'B' 'Dívky' - TJ Sokol Bučovice 'D' 'Dívky
 ' 1:2 (20\,-13\,-12)
DTSTART;TZID=Europe/Berlin:20260208T103000
DTEND;TZID=Europe/Berlin:20260208T123000
LOCATION:STAREZ ARÉNA VODOVA (Hala 3)\, Vodova 336 Brno - Královo Pole
SUMMARY:JM-U14Z-VD: ZŠ Milénova Brno 'B' 'Dívky'-TJ Sokol Bučovice 'D' 'Dív
 ky'
END:VEVENT
BEGIN:VEVENT
UID:39353364-6232-4237-b231-626439663761
DTSTAMP:20260422T022914Z
DESCRIPTION:1/1 VK Královo Pole 'F' 'Dívky' - ZŠ Milénova Brno 'B' 'Dívky' 
 2:0 (15\,16)
DTSTART;TZID=Europe/Berlin:20260208T090000
DTEND;TZID=Europe/Berlin:20260208T110000
LOCATION:STAREZ ARÉNA VODOVA (Hala 3)\, Vodova 336 Brno - Královo Pole
SUMMARY:JM-U14Z-VD: VK Královo Pole 'F' 'Dívky'-ZŠ Milénova Brno 'B' 'Dívky
 '
END:VEVENT
BEGIN:VEVENT
UID:64613532-6664-4431-b330-313565396331
DTSTAMP:20260422T022914Z
DESCRIPTION:4/5 PFN Znojmo 'A' 'Dívky' - ZŠ Milénova Brno 'B' 'Dívky' 2:0 (
 23\,13)
DTSTART;TZID=Europe/Berlin:20260208T130000
DTEND;TZID=Europe/Berlin:20260208T150000
LOCATION:STAREZ ARÉNA VODOVA (Hala 3)\, Vodova 336 Brno - Královo Pole
SUMMARY:JM-U14Z-VD: PFN Znojmo 'A' 'Dívky'-ZŠ Milénova Brno 'B' 'Dívky'
END:VEVENT
BEGIN:VEVENT
UID:33623561-3064-4734-a230-333161383865
DTSTAMP:20260422T022914Z
DESCRIPTION:1/1 ZŠ Milénova Brno 'B' 'Dívky' - ZŠ Milénova Brno 'C' 'Dívky'
  2:1 (-19\,23\,8)
DTSTART;TZID=Europe/Berlin:20260315T090000
DTEND;TZID=Europe/Berlin:20260315T110000
LOCATION:ZŠ Milénova 14\, Milénova 808 Brno - Lesná
SUMMARY:JM-U14Z-VID: ZŠ Milénova Brno 'B' 'Dívky'-ZŠ Milénova Brno 'C' 'Dív
 ky'
END:VEVENT
BEGIN:VEVENT
UID:65323631-6132-4437-b931-393439626434
DTSTAMP:20260422T022914Z
DESCRIPTION:4/4 ZŠ Milénova Brno 'B' 'Dívky' - PFN Znojmo 'A' 'Dívky' 2:1 (
 -18\,17\,9)
DTSTART;TZID=Europe/Berlin:20260315T130000
DTEND;TZID=Europe/Berlin:20260315T150000
LOCATION:ZŠ Milénova 14\, Milénova 808 Brno - Lesná
SUMMARY:JM-U14Z-VID: ZŠ Milénova Brno 'B' 'Dívky'-PFN Znojmo 'A' 'Dívky'
END:VEVENT
BEGIN:VEVENT
UID:30356266-3362-4833-b062-363935353036
DTSTAMP:20260422T022914Z
DESCRIPTION:6/6 VK Královo Pole 'F' 'Dívky' - ZŠ Milénova Brno 'B' 'Dívky' 
 0:2 (-25\,-21)
DTSTART;TZID=Europe/Berlin:20260315T153000
DTEND;TZID=Europe/Berlin:20260315T173000
LOCATION:ZŠ Milénova 14\, Milénova 808 Brno - Lesná
SUMMARY:JM-U14Z-VID: VK Královo Pole 'F' 'Dívky'-ZŠ Milénova Brno 'B' 'Dívk
 y'
END:VEVENT
END:VCALENDAR
