BEGIN:VCALENDAR
VERSION:2.0
PRODID:-//Orel jednota Křenovice "Čtverky" "Chlapci, mix"91819//NONSGML kigkonsult.se iCalcreator 2.41.80//
CALSCALE:GREGORIAN
UID:31353539-3839-4735-a461-623062393938
BEGIN:VEVENT
UID:64653936-3665-4566-b365-393239303833
DTSTAMP:20260423T022345Z
DESCRIPTION:1/1 Orel jednota Křenovice 'Čtverky' 'Chlapci\, mix' - TJ JUNIO
 R Brno 'C' 'Čtverky' 'Dívky' 2:0 (15\,19)
DTSTART;TZID=Europe/Berlin:20251005T090000
DTEND;TZID=Europe/Berlin:20251005T110000
LOCATION:Sportovní hala Křenovice \, Bratří Mrázků 635 Křenovice
SUMMARY:JM-U14Z-KVH: Orel jednota Křenovice 'Čtverky' 'Chlapci\, mix'-TJ JU
 NIOR Brno 'C' 'Čtverky' 'Dívky'
END:VEVENT
BEGIN:VEVENT
UID:63663338-6264-4364-a463-646238346137
DTSTAMP:20260423T022345Z
DESCRIPTION:10/10 Orel jednota Křenovice 'Čtverky' 'Chlapci\, mix' - SK SKU
 NK Unkovice 'B' 'Čtverky' 'Chlapci\, mix'
DTSTART;TZID=Europe/Berlin:20251005T150000
DTEND;TZID=Europe/Berlin:20251005T170000
LOCATION:Sportovní hala Křenovice \, Bratří Mrázků 635 Křenovice
SUMMARY:JM-U14Z-KVH: Orel jednota Křenovice 'Čtverky' 'Chlapci\, mix'-SK SK
 UNK Unkovice 'B' 'Čtverky' 'Chlapci\, mix'
END:VEVENT
BEGIN:VEVENT
UID:37666235-6335-4737-b134-633764343864
DTSTAMP:20260423T022345Z
DESCRIPTION:3/3 VK Královo Pole 'F-4' 'Čtverky' 'Dívky' POSUN DO ŠESTEK - O
 rel jednota Křenovice 'Čtverky' 'Chlapci\, mix' 0:2 (-10\,-14)
DTSTART;TZID=Europe/Berlin:20251005T100000
DTEND;TZID=Europe/Berlin:20251005T120000
LOCATION:Sportovní hala Křenovice \, Bratří Mrázků 635 Křenovice
SUMMARY:JM-U14Z-KVH: VK Královo Pole 'F-4' 'Čtverky' 'Dívky' POSUN DO ŠESTE
 K-Orel jednota Křenovice 'Čtverky' 'Chlapci\, mix'
END:VEVENT
BEGIN:VEVENT
UID:30393832-3134-4761-b033-326433383766
DTSTAMP:20260423T022345Z
DESCRIPTION:6/6 TJ Sokol Šlapanice u Brna 'A' 'Čtverky' 'Dívky' - Orel jedn
 ota Křenovice 'Čtverky' 'Chlapci\, mix' 0:2 (-15\,-15)
DTSTART;TZID=Europe/Berlin:20251005T120000
DTEND;TZID=Europe/Berlin:20251005T140000
LOCATION:Sportovní hala Křenovice \, Bratří Mrázků 635 Křenovice
SUMMARY:JM-U14Z-KVH: TJ Sokol Šlapanice u Brna 'A' 'Čtverky' 'Dívky'-Orel j
 ednota Křenovice 'Čtverky' 'Chlapci\, mix'
END:VEVENT
BEGIN:VEVENT
UID:64636461-6265-4564-b336-303539346666
DTSTAMP:20260423T022345Z
DESCRIPTION:2/3 Orel jednota Křenovice 'Čtverky' 'Chlapci\, mix' - TJ Sokol
  Letovice 'E' 'Čtverky' 'Chlapci\, mix' 0:2 (-8\,-7)
DTSTART;TZID=Europe/Berlin:20251109T103000
DTEND;TZID=Europe/Berlin:20251109T123000
LOCATION:Tělocvična ZŠ Šlapanice\, Masarykovo náměstí 1594 Šlapanice
SUMMARY:JM-U14Z-IA4: Orel jednota Křenovice 'Čtverky' 'Chlapci\, mix'-TJ So
 kol Letovice 'E' 'Čtverky' 'Chlapci\, mix'
END:VEVENT
BEGIN:VEVENT
UID:30353161-3133-4734-a462-656339333539
DTSTAMP:20260423T022345Z
DESCRIPTION:1/1 TJ Sokol Šlapanice u Brna 'C' 'Čtverky' 'Chlapci\, mix' - O
 rel jednota Křenovice 'Čtverky' 'Chlapci\, mix' 2:0 (9\,11)
DTSTART;TZID=Europe/Berlin:20251109T090000
DTEND;TZID=Europe/Berlin:20251109T110000
LOCATION:Tělocvična ZŠ Šlapanice\, Masarykovo náměstí 1594 Šlapanice
SUMMARY:JM-U14Z-IA4: TJ Sokol Šlapanice u Brna 'C' 'Čtverky' 'Chlapci\, mix
 '-Orel jednota Křenovice 'Čtverky' 'Chlapci\, mix'
END:VEVENT
BEGIN:VEVENT
UID:64366533-3066-4162-b431-623134386561
DTSTAMP:20260423T022345Z
DESCRIPTION:3/5 TJ Sokol Letovice 'D' 'Čtverky' 'Dívky' - Orel jednota Křen
 ovice 'Čtverky' 'Chlapci\, mix' 1:2 (17\,-13\,-13)
DTSTART;TZID=Europe/Berlin:20251109T114500
DTEND;TZID=Europe/Berlin:20251109T134500
LOCATION:Tělocvična ZŠ Šlapanice\, Masarykovo náměstí 1594 Šlapanice
SUMMARY:JM-U14Z-IA4: TJ Sokol Letovice 'D' 'Čtverky' 'Dívky'-Orel jednota K
 řenovice 'Čtverky' 'Chlapci\, mix'
END:VEVENT
BEGIN:VEVENT
UID:38636234-3463-4335-b061-343632616530
DTSTAMP:20260423T022345Z
DESCRIPTION:6/6 Orel jednota Křenovice 'Čtverky' 'Chlapci\, mix' - TJ Sokol
  Letovice 'E' 'Čtverky' 'Chlapci\, mix' 0:2 (-14\,-20)
DTSTART;TZID=Europe/Berlin:20251130T153000
DTEND;TZID=Europe/Berlin:20251130T173000
LOCATION:Sportovní hala Letovice\, V zahradách 831 Letovice
SUMMARY:JM-U14Z-IIA4: Orel jednota Křenovice 'Čtverky' 'Chlapci\, mix'-TJ S
 okol Letovice 'E' 'Čtverky' 'Chlapci\, mix'
END:VEVENT
BEGIN:VEVENT
UID:62363562-3161-4832-a636-363930383832
DTSTAMP:20260423T022345Z
DESCRIPTION:2/2 SK SKUNK Unkovice 'A' 'Čtverky' 'Chlapci\, mix' - Orel jedn
 ota Křenovice 'Čtverky' 'Chlapci\, mix' 2:0 (15\,14)
DTSTART;TZID=Europe/Berlin:20251130T103000
DTEND;TZID=Europe/Berlin:20251130T123000
LOCATION:Sportovní hala Letovice\, V zahradách 831 Letovice
SUMMARY:JM-U14Z-IIA4: SK SKUNK Unkovice 'A' 'Čtverky' 'Chlapci\, mix'-Orel 
 jednota Křenovice 'Čtverky' 'Chlapci\, mix'
END:VEVENT
BEGIN:VEVENT
UID:38323833-6465-4038-b631-383864633161
DTSTAMP:20260423T022345Z
DESCRIPTION:3/3 TJ Sokol Šlapanice u Brna 'C' 'Čtverky' 'Chlapci\, mix' - O
 rel jednota Křenovice 'Čtverky' 'Chlapci\, mix' 2:0 (17\,14)
DTSTART;TZID=Europe/Berlin:20251130T114500
DTEND;TZID=Europe/Berlin:20251130T134500
LOCATION:Sportovní hala Letovice\, V zahradách 831 Letovice
SUMMARY:JM-U14Z-IIA4: TJ Sokol Šlapanice u Brna 'C' 'Čtverky' 'Chlapci\, mi
 x'-Orel jednota Křenovice 'Čtverky' 'Chlapci\, mix'
END:VEVENT
BEGIN:VEVENT
UID:66613036-6239-4138-b864-666465343130
DTSTAMP:20260423T022345Z
DESCRIPTION:2/2 Orel jednota Křenovice 'Čtverky' 'Chlapci\, mix' - VK Sloup
  'Čtverky' 'Chlapci\, mix' 2:0 (13\,11)
DTSTART;TZID=Europe/Berlin:20251214T103000
DTEND;TZID=Europe/Berlin:20251214T123000
LOCATION:ZŠ Předklášteří\, Komenského 1097 Předklášteří
SUMMARY:JM-U14Z-IIIB4: Orel jednota Křenovice 'Čtverky' 'Chlapci\, mix'-VK 
 Sloup 'Čtverky' 'Chlapci\, mix'
END:VEVENT
BEGIN:VEVENT
UID:63373265-3231-4030-b666-626637346437
DTSTAMP:20260423T022345Z
DESCRIPTION:5/5 Orel jednota Křenovice 'Čtverky' 'Chlapci\, mix' - TJ Sokol
  Letovice 'D' 'Čtverky' 'Dívky' 2:0 (23\,27)
DTSTART;TZID=Europe/Berlin:20251214T141500
DTEND;TZID=Europe/Berlin:20251214T161500
LOCATION:ZŠ Předklášteří\, Komenského 1097 Předklášteří
SUMMARY:JM-U14Z-IIIB4: Orel jednota Křenovice 'Čtverky' 'Chlapci\, mix'-TJ 
 Sokol Letovice 'D' 'Čtverky' 'Dívky'
END:VEVENT
BEGIN:VEVENT
UID:66646266-6265-4138-a133-323431366464
DTSTAMP:20260423T022345Z
DESCRIPTION:4/4 TJ Sokol Předklášteří 'Čtverky' 'Dívky' - Orel jednota Křen
 ovice 'Čtverky' 'Chlapci\, mix' 1:2 (21\,-16\,-9)
DTSTART;TZID=Europe/Berlin:20251214T130000
DTEND;TZID=Europe/Berlin:20251214T150000
LOCATION:ZŠ Předklášteří\, Komenského 1097 Předklášteří
SUMMARY:JM-U14Z-IIIB4: TJ Sokol Předklášteří 'Čtverky' 'Dívky'-Orel jednota
  Křenovice 'Čtverky' 'Chlapci\, mix'
END:VEVENT
BEGIN:VEVENT
UID:65656563-6639-4166-b765-653762333765
DTSTAMP:20260423T022345Z
DESCRIPTION:3/3 Orel jednota Křenovice 'Čtverky' 'Chlapci\, mix' - TJ Sokol
  Šlapanice u Brna 'C' 'Čtverky' 'Chlapci\, mix' 0:2 (-12\,-12)
DTSTART;TZID=Europe/Berlin:20260111T114500
DTEND;TZID=Europe/Berlin:20260111T134500
LOCATION:Kulturní dům Unkovice\,  Unkovice38
SUMMARY:JM-U14Z-IVA4: Orel jednota Křenovice 'Čtverky' 'Chlapci\, mix'-TJ S
 okol Šlapanice u Brna 'C' 'Čtverky' 'Chlapci\, mix'
END:VEVENT
BEGIN:VEVENT
UID:36343565-6134-4736-a136-626133303266
DTSTAMP:20260423T022345Z
DESCRIPTION:1/1 SK SKUNK Unkovice 'A' 'Čtverky' 'Chlapci\, mix' - Orel jedn
 ota Křenovice 'Čtverky' 'Chlapci\, mix' 2:0 (11\,21)
DTSTART;TZID=Europe/Berlin:20260111T090000
DTEND;TZID=Europe/Berlin:20260111T110000
LOCATION:Kulturní dům Unkovice\,  Unkovice38
SUMMARY:JM-U14Z-IVA4: SK SKUNK Unkovice 'A' 'Čtverky' 'Chlapci\, mix'-Orel 
 jednota Křenovice 'Čtverky' 'Chlapci\, mix'
END:VEVENT
BEGIN:VEVENT
UID:61336337-3666-4433-b363-306565303265
DTSTAMP:20260423T022345Z
DESCRIPTION:5/5 TJ Sokol Letovice 'E' 'Čtverky' 'Chlapci\, mix' - Orel jedn
 ota Křenovice 'Čtverky' 'Chlapci\, mix' 2:0 (9\,13)
DTSTART;TZID=Europe/Berlin:20260111T141500
DTEND;TZID=Europe/Berlin:20260111T161500
LOCATION:Kulturní dům Unkovice\,  Unkovice38
SUMMARY:JM-U14Z-IVA4: TJ Sokol Letovice 'E' 'Čtverky' 'Chlapci\, mix'-Orel 
 jednota Křenovice 'Čtverky' 'Chlapci\, mix'
END:VEVENT
BEGIN:VEVENT
UID:31613533-6266-4564-a635-373532643131
DTSTAMP:20260423T022345Z
DESCRIPTION:6/6 Orel jednota Křenovice 'Čtverky' 'Chlapci\, mix' - VK Sloup
  'Čtverky' 'Chlapci\, mix' 2:0 (22\,19)
DTSTART;TZID=Europe/Berlin:20260208T153000
DTEND;TZID=Europe/Berlin:20260208T173000
LOCATION:ZŠ Sloup\,  Sloup200
SUMMARY:JM-U14Z-VB4: Orel jednota Křenovice 'Čtverky' 'Chlapci\, mix'-VK Sl
 oup 'Čtverky' 'Chlapci\, mix'
END:VEVENT
BEGIN:VEVENT
UID:39663766-6537-4737-a664-373461353665
DTSTAMP:20260423T022345Z
DESCRIPTION:2/2 TJ Sokol Letovice 'D' 'Čtverky' 'Dívky' - Orel jednota Křen
 ovice 'Čtverky' 'Chlapci\, mix' 0:2 (-19\,-20)
DTSTART;TZID=Europe/Berlin:20260208T103000
DTEND;TZID=Europe/Berlin:20260208T123000
LOCATION:ZŠ Sloup\,  Sloup200
SUMMARY:JM-U14Z-VB4: TJ Sokol Letovice 'D' 'Čtverky' 'Dívky'-Orel jednota K
 řenovice 'Čtverky' 'Chlapci\, mix'
END:VEVENT
BEGIN:VEVENT
UID:66623861-3336-4164-b236-383238336265
DTSTAMP:20260423T022345Z
DESCRIPTION:3/3 TJ Sokol Předklášteří 'Čtverky' 'Dívky' - Orel jednota Křen
 ovice 'Čtverky' 'Chlapci\, mix' 2:1 (-23\,18\,13)
DTSTART;TZID=Europe/Berlin:20260208T114500
DTEND;TZID=Europe/Berlin:20260208T134500
LOCATION:ZŠ Sloup\,  Sloup200
SUMMARY:JM-U14Z-VB4: TJ Sokol Předklášteří 'Čtverky' 'Dívky'-Orel jednota K
 řenovice 'Čtverky' 'Chlapci\, mix'
END:VEVENT
BEGIN:VEVENT
UID:65636133-3339-4137-b730-616365383437
DTSTAMP:20260423T022345Z
DESCRIPTION:1/1 Orel jednota Křenovice 'Čtverky' 'Chlapci\, mix' - VK Sloup
  'Čtverky' 'Chlapci\, mix' 2:0 (17\,19)
DTSTART;TZID=Europe/Berlin:20260315T090000
DTEND;TZID=Europe/Berlin:20260315T110000
LOCATION:Sportovní hala Křenovice \, Bratří Mrázků 635 Křenovice
SUMMARY:JM-U14Z-VIB4: Orel jednota Křenovice 'Čtverky' 'Chlapci\, mix'-VK S
 loup 'Čtverky' 'Chlapci\, mix'
END:VEVENT
BEGIN:VEVENT
UID:35333038-6634-4364-b239-633931643038
DTSTAMP:20260423T022345Z
DESCRIPTION:2/4 Orel jednota Křenovice 'Čtverky' 'Chlapci\, mix' - TJ Sokol
  Letovice 'A' 'Čtverky' 'Dívky' 2:1 (-14\,23\,16)
DTSTART;TZID=Europe/Berlin:20260315T103000
DTEND;TZID=Europe/Berlin:20260315T123000
LOCATION:Sportovní hala Křenovice \, Bratří Mrázků 635 Křenovice
SUMMARY:JM-U14Z-VIB4: Orel jednota Křenovice 'Čtverky' 'Chlapci\, mix'-TJ S
 okol Letovice 'A' 'Čtverky' 'Dívky'
END:VEVENT
BEGIN:VEVENT
UID:36313638-6662-4465-b362-316232396662
DTSTAMP:20260423T022345Z
DESCRIPTION:3/6 Orel jednota Křenovice 'Čtverky' 'Dívky' - Orel jednota Kře
 novice 'Čtverky' 'Chlapci\, mix' 0:2 (-14\,-16)
DTSTART;TZID=Europe/Berlin:20260315T114500
DTEND;TZID=Europe/Berlin:20260315T134500
LOCATION:Sportovní hala Křenovice \, Bratří Mrázků 635 Křenovice
SUMMARY:JM-U14Z-VIB4: Orel jednota Křenovice 'Čtverky' 'Dívky'-Orel jednota
  Křenovice 'Čtverky' 'Chlapci\, mix'
END:VEVENT
BEGIN:VEVENT
UID:66356336-6435-4538-b033-313065303937
DTSTAMP:20260423T022345Z
DESCRIPTION:5/10 Orel jednota Křenovice 'Čtverky' 'Chlapci\, mix' - VK Slou
 p 'Čtverky' 'Chlapci\, mix' 2:1 (-23\,14\,7)\nW5 vs W6 Kurt 1
DTSTART;TZID=Europe/Berlin:20260412T133000
DTEND;TZID=Europe/Berlin:20260412T153000
SUMMARY:JM-U14Z-FC: Orel jednota Křenovice 'Čtverky' 'Chlapci\, mix'-VK Slo
 up 'Čtverky' 'Chlapci\, mix'
END:VEVENT
BEGIN:VEVENT
UID:34653662-6331-4835-b963-356562386263
DTSTAMP:20260423T022345Z
DESCRIPTION:2/4 TJ Sokol Předklášteří 'Čtverky' 'Dívky' - Orel jednota Křen
 ovice 'Čtverky' 'Chlapci\, mix' 2:0 (23\,17)\n4. vs 5. Kurt 1
DTSTART;TZID=Europe/Berlin:20260412T111500
DTEND;TZID=Europe/Berlin:20260412T131500
SUMMARY:JM-U14Z-FC: TJ Sokol Předklášteří 'Čtverky' 'Dívky'-Orel jednota Kř
 enovice 'Čtverky' 'Chlapci\, mix'
END:VEVENT
BEGIN:VEVENT
UID:38353438-6261-4166-b561-396336656463
DTSTAMP:20260423T022345Z
DESCRIPTION:3/5 Orel jednota Křenovice 'Čtverky' 'Dívky' - Orel jednota Kře
 novice 'Čtverky' 'Chlapci\, mix' 0:2 (-14\,-12)\nL1 vs L4 Kurt 1
DTSTART;TZID=Europe/Berlin:20260412T120000
DTEND;TZID=Europe/Berlin:20260412T140000
SUMMARY:JM-U14Z-FC: Orel jednota Křenovice 'Čtverky' 'Dívky'-Orel jednota K
 řenovice 'Čtverky' 'Chlapci\, mix'
END:VEVENT
END:VCALENDAR
