BEGIN:VCALENDAR
VERSION:2.0
PRODID:-//TJ Sokol Letovice "D" "Čtverky" "Dívky"91843//NONSGML kigkonsult.se iCalcreator 2.41.80//
CALSCALE:GREGORIAN
UID:64666133-3935-4262-b837-626630663762
BEGIN:VEVENT
UID:65366464-6431-4764-a331-656264333833
DTSTAMP:20260423T081942Z
DESCRIPTION:4/4 TJ Sokol Letovice 'D' 'Čtverky' 'Dívky' - TJ ASK BLANSKO 'Č
 tverky' 'Chlapci\, mix' 1:1 (-18\,19)\nKurt 3
DTSTART;TZID=Europe/Berlin:20251005T110000
DTEND;TZID=Europe/Berlin:20251005T130000
LOCATION:Sportovní hala Letovice\, V zahradách 831 Letovice
SUMMARY:JM-U14Z-KVF: TJ Sokol Letovice 'D' 'Čtverky' 'Dívky'-TJ ASK BLANSKO
  'Čtverky' 'Chlapci\, mix'
END:VEVENT
BEGIN:VEVENT
UID:65643064-3239-4237-a666-663165363439
DTSTAMP:20260423T081942Z
DESCRIPTION:8/8 TJ Sokol Letovice 'D' 'Čtverky' 'Dívky' - TJ Sokol Letovice
  'F' 'Čtverky' 'Chlapci\, mix' 2:0 (23\,12)\nKurt 3
DTSTART;TZID=Europe/Berlin:20251005T140000
DTEND;TZID=Europe/Berlin:20251005T160000
LOCATION:Sportovní hala Letovice\, V zahradách 831 Letovice
SUMMARY:JM-U14Z-KVF: TJ Sokol Letovice 'D' 'Čtverky' 'Dívky'-TJ Sokol Letov
 ice 'F' 'Čtverky' 'Chlapci\, mix'
END:VEVENT
BEGIN:VEVENT
UID:61626164-3032-4966-b562-373465353964
DTSTAMP:20260423T081942Z
DESCRIPTION:2/2 TJ JUNIOR Brno 'B' 'Čtverky' 'Dívky' - TJ Sokol Letovice 'D
 ' 'Čtverky' 'Dívky' 1:1 (19\,-19)\nKurt 3
DTSTART;TZID=Europe/Berlin:20251005T100000
DTEND;TZID=Europe/Berlin:20251005T120000
LOCATION:Sportovní hala Letovice\, V zahradách 831 Letovice
SUMMARY:JM-U14Z-KVF: TJ JUNIOR Brno 'B' 'Čtverky' 'Dívky'-TJ Sokol Letovice
  'D' 'Čtverky' 'Dívky'
END:VEVENT
BEGIN:VEVENT
UID:34646663-3437-4564-b331-373630373465
DTSTAMP:20260423T081942Z
DESCRIPTION:10/10 TJ Sokol Letovice 'B' 'Čtverky' 'Dívky' - TJ Sokol Letovi
 ce 'D' 'Čtverky' 'Dívky' 0:2 (-24\,-17)\nKurt 3
DTSTART;TZID=Europe/Berlin:20251005T150000
DTEND;TZID=Europe/Berlin:20251005T170000
LOCATION:Sportovní hala Letovice\, V zahradách 831 Letovice
SUMMARY:JM-U14Z-KVF: TJ Sokol Letovice 'B' 'Čtverky' 'Dívky'-TJ Sokol Letov
 ice 'D' 'Čtverky' 'Dívky'
END:VEVENT
BEGIN:VEVENT
UID:63616233-3865-4734-b664-363563386533
DTSTAMP:20260423T081942Z
DESCRIPTION:1/2 TJ Sokol Letovice 'D' 'Čtverky' 'Dívky' - TJ Sokol Letovice
  'E' 'Čtverky' 'Chlapci\, mix' 0:2 (-13\,-13)
DTSTART;TZID=Europe/Berlin:20251109T090000
DTEND;TZID=Europe/Berlin:20251109T110000
LOCATION:Tělocvična ZŠ Šlapanice\, Masarykovo náměstí 1594 Šlapanice
SUMMARY:JM-U14Z-IA4: TJ Sokol Letovice 'D' 'Čtverky' 'Dívky'-TJ Sokol Letov
 ice 'E' 'Čtverky' 'Chlapci\, mix'
END:VEVENT
BEGIN:VEVENT
UID:30636131-6138-4562-b964-303534333566
DTSTAMP:20260423T081942Z
DESCRIPTION:3/5 TJ Sokol Letovice 'D' 'Čtverky' 'Dívky' - Orel jednota Křen
 ovice 'Čtverky' 'Chlapci\, mix' 1:2 (17\,-13\,-13)
DTSTART;TZID=Europe/Berlin:20251109T114500
DTEND;TZID=Europe/Berlin:20251109T134500
LOCATION:Tělocvična ZŠ Šlapanice\, Masarykovo náměstí 1594 Šlapanice
SUMMARY:JM-U14Z-IA4: TJ Sokol Letovice 'D' 'Čtverky' 'Dívky'-Orel jednota K
 řenovice 'Čtverky' 'Chlapci\, mix'
END:VEVENT
BEGIN:VEVENT
UID:66303138-3138-4037-a536-323261663163
DTSTAMP:20260423T081942Z
DESCRIPTION:2/4 TJ Sokol Šlapanice u Brna 'C' 'Čtverky' 'Chlapci\, mix' - T
 J Sokol Letovice 'D' 'Čtverky' 'Dívky' 2:0 (11\,11)
DTSTART;TZID=Europe/Berlin:20251109T103000
DTEND;TZID=Europe/Berlin:20251109T123000
LOCATION:Tělocvična ZŠ Šlapanice\, Masarykovo náměstí 1594 Šlapanice
SUMMARY:JM-U14Z-IA4: TJ Sokol Šlapanice u Brna 'C' 'Čtverky' 'Chlapci\, mix
 '-TJ Sokol Letovice 'D' 'Čtverky' 'Dívky'
END:VEVENT
BEGIN:VEVENT
UID:30663262-6262-4533-a233-386138333464
DTSTAMP:20260423T081942Z
DESCRIPTION:3/3 TJ Sokol Letovice 'D' 'Čtverky' 'Dívky' - TJ Sokol Předkláš
 teří 'Čtverky' 'Dívky' 2:0 (20\,21)
DTSTART;TZID=Europe/Berlin:20251130T114500
DTEND;TZID=Europe/Berlin:20251130T134500
LOCATION:Sportovní hala Letovice\, V zahradách 831 Letovice
SUMMARY:JM-U14Z-IIB4: TJ Sokol Letovice 'D' 'Čtverky' 'Dívky'-TJ Sokol Před
 klášteří 'Čtverky' 'Dívky'
END:VEVENT
BEGIN:VEVENT
UID:35636564-6634-4034-b633-353635313132
DTSTAMP:20260423T081942Z
DESCRIPTION:1/1 TJ Sokol Letovice 'A' 'Čtverky' 'Dívky' - TJ Sokol Letovice
  'D' 'Čtverky' 'Dívky' 2:0 (18\,16)
DTSTART;TZID=Europe/Berlin:20251130T090000
DTEND;TZID=Europe/Berlin:20251130T110000
LOCATION:Sportovní hala Letovice\, V zahradách 831 Letovice
SUMMARY:JM-U14Z-IIB4: TJ Sokol Letovice 'A' 'Čtverky' 'Dívky'-TJ Sokol Leto
 vice 'D' 'Čtverky' 'Dívky'
END:VEVENT
BEGIN:VEVENT
UID:64363731-6339-4030-b361-353732316337
DTSTAMP:20260423T081942Z
DESCRIPTION:5/5 TJ JUNIOR Brno 'B' 'Čtverky' 'Dívky' - TJ Sokol Letovice 'D
 ' 'Čtverky' 'Dívky' 0:2 (-15\,-18)
DTSTART;TZID=Europe/Berlin:20251130T141500
DTEND;TZID=Europe/Berlin:20251130T161500
LOCATION:Sportovní hala Letovice\, V zahradách 831 Letovice
SUMMARY:JM-U14Z-IIB4: TJ JUNIOR Brno 'B' 'Čtverky' 'Dívky'-TJ Sokol Letovic
 e 'D' 'Čtverky' 'Dívky'
END:VEVENT
BEGIN:VEVENT
UID:66336535-6561-4038-b137-653331666362
DTSTAMP:20260423T081942Z
DESCRIPTION:3/3 TJ Sokol Letovice 'D' 'Čtverky' 'Dívky' - VK Sloup 'Čtverky
 ' 'Chlapci\, mix' 1:2 (15\,-14\,-10)
DTSTART;TZID=Europe/Berlin:20251214T114500
DTEND;TZID=Europe/Berlin:20251214T134500
LOCATION:ZŠ Předklášteří\, Komenského 1097 Předklášteří
SUMMARY:JM-U14Z-IIIB4: TJ Sokol Letovice 'D' 'Čtverky' 'Dívky'-VK Sloup 'Čt
 verky' 'Chlapci\, mix'
END:VEVENT
BEGIN:VEVENT
UID:64643830-3530-4261-a639-376236393433
DTSTAMP:20260423T081942Z
DESCRIPTION:1/1 TJ Sokol Předklášteří 'Čtverky' 'Dívky' - TJ Sokol Letovice
  'D' 'Čtverky' 'Dívky' 2:0 (16\,17)
DTSTART;TZID=Europe/Berlin:20251214T090000
DTEND;TZID=Europe/Berlin:20251214T110000
LOCATION:ZŠ Předklášteří\, Komenského 1097 Předklášteří
SUMMARY:JM-U14Z-IIIB4: TJ Sokol Předklášteří 'Čtverky' 'Dívky'-TJ Sokol Let
 ovice 'D' 'Čtverky' 'Dívky'
END:VEVENT
BEGIN:VEVENT
UID:33363235-3237-4733-a665-663336323237
DTSTAMP:20260423T081942Z
DESCRIPTION:5/5 Orel jednota Křenovice 'Čtverky' 'Chlapci\, mix' - TJ Sokol
  Letovice 'D' 'Čtverky' 'Dívky' 2:0 (23\,27)
DTSTART;TZID=Europe/Berlin:20251214T141500
DTEND;TZID=Europe/Berlin:20251214T161500
LOCATION:ZŠ Předklášteří\, Komenského 1097 Předklášteří
SUMMARY:JM-U14Z-IIIB4: Orel jednota Křenovice 'Čtverky' 'Chlapci\, mix'-TJ 
 Sokol Letovice 'D' 'Čtverky' 'Dívky'
END:VEVENT
BEGIN:VEVENT
UID:66653666-3338-4161-b833-643065663639
DTSTAMP:20260423T081942Z
DESCRIPTION:1/1 TJ Sokol Letovice 'D' 'Čtverky' 'Dívky' - TJ ASK BLANSKO 'Č
 tverky' 'Chlapci\, mix' 2:1 (12\,-21\,12)
DTSTART;TZID=Europe/Berlin:20260111T090000
DTEND;TZID=Europe/Berlin:20260111T110000
LOCATION:Sportovní hala Letovice\, V zahradách 831 Letovice
SUMMARY:JM-U14Z-IVC4: TJ Sokol Letovice 'D' 'Čtverky' 'Dívky'-TJ ASK BLANSK
 O 'Čtverky' 'Chlapci\, mix'
END:VEVENT
BEGIN:VEVENT
UID:62356463-3962-4461-b139-636338663931
DTSTAMP:20260423T081942Z
DESCRIPTION:4/4 TJ Sokol Letovice 'D' 'Čtverky' 'Dívky' - Orel jednota Křen
 ovice 'Čtverky' 'Dívky' 2:0 (18\,20)
DTSTART;TZID=Europe/Berlin:20260111T130000
DTEND;TZID=Europe/Berlin:20260111T150000
LOCATION:Sportovní hala Letovice\, V zahradách 831 Letovice
SUMMARY:JM-U14Z-IVC4: TJ Sokol Letovice 'D' 'Čtverky' 'Dívky'-Orel jednota 
 Křenovice 'Čtverky' 'Dívky'
END:VEVENT
BEGIN:VEVENT
UID:30626231-3032-4037-b161-653132303731
DTSTAMP:20260423T081942Z
DESCRIPTION:6/6 SK SKUNK Unkovice 'B' 'Čtverky' 'Chlapci\, mix' - TJ Sokol 
 Letovice 'D' 'Čtverky' 'Dívky' 0:2 (-10\,-11)
DTSTART;TZID=Europe/Berlin:20260111T153000
DTEND;TZID=Europe/Berlin:20260111T173000
LOCATION:Sportovní hala Letovice\, V zahradách 831 Letovice
SUMMARY:JM-U14Z-IVC4: SK SKUNK Unkovice 'B' 'Čtverky' 'Chlapci\, mix'-TJ So
 kol Letovice 'D' 'Čtverky' 'Dívky'
END:VEVENT
BEGIN:VEVENT
UID:37373937-3966-4261-b864-656133326638
DTSTAMP:20260423T081942Z
DESCRIPTION:2/2 TJ Sokol Letovice 'D' 'Čtverky' 'Dívky' - Orel jednota Křen
 ovice 'Čtverky' 'Chlapci\, mix' 0:2 (-19\,-20)
DTSTART;TZID=Europe/Berlin:20260208T103000
DTEND;TZID=Europe/Berlin:20260208T123000
LOCATION:ZŠ Sloup\,  Sloup200
SUMMARY:JM-U14Z-VB4: TJ Sokol Letovice 'D' 'Čtverky' 'Dívky'-Orel jednota K
 řenovice 'Čtverky' 'Chlapci\, mix'
END:VEVENT
BEGIN:VEVENT
UID:61343135-3630-4638-a538-353232336639
DTSTAMP:20260423T081942Z
DESCRIPTION:5/5 TJ Sokol Letovice 'D' 'Čtverky' 'Dívky' - TJ Sokol Předkláš
 teří 'Čtverky' 'Dívky' 0:2 (-12\,-17)
DTSTART;TZID=Europe/Berlin:20260208T141500
DTEND;TZID=Europe/Berlin:20260208T161500
LOCATION:ZŠ Sloup\,  Sloup200
SUMMARY:JM-U14Z-VB4: TJ Sokol Letovice 'D' 'Čtverky' 'Dívky'-TJ Sokol Předk
 lášteří 'Čtverky' 'Dívky'
END:VEVENT
BEGIN:VEVENT
UID:64303536-3232-4431-b137-626164313664
DTSTAMP:20260423T081942Z
DESCRIPTION:4/4 VK Sloup 'Čtverky' 'Chlapci\, mix' - TJ Sokol Letovice 'D' 
 'Čtverky' 'Dívky' 2:0 (22\,24)
DTSTART;TZID=Europe/Berlin:20260208T130000
DTEND;TZID=Europe/Berlin:20260208T150000
LOCATION:ZŠ Sloup\,  Sloup200
SUMMARY:JM-U14Z-VB4: VK Sloup 'Čtverky' 'Chlapci\, mix'-TJ Sokol Letovice '
 D' 'Čtverky' 'Dívky'
END:VEVENT
BEGIN:VEVENT
UID:32326265-3363-4661-b164-373665313063
DTSTAMP:20260423T081942Z
DESCRIPTION:2/2 TJ Sokol Letovice 'D' 'Čtverky' 'Dívky' - TJ Sokol Šlapanic
 e u Brna 'A' 'Čtverky' 'Dívky' 2:0 (11\,11)
DTSTART;TZID=Europe/Berlin:20260315T103000
DTEND;TZID=Europe/Berlin:20260315T123000
SUMMARY:JM-U14Z-VIC4: TJ Sokol Letovice 'D' 'Čtverky' 'Dívky'-TJ Sokol Šlap
 anice u Brna 'A' 'Čtverky' 'Dívky'
END:VEVENT
BEGIN:VEVENT
UID:61303135-6431-4435-b433-666536326366
DTSTAMP:20260423T081942Z
DESCRIPTION:5/5 TJ Sokol Letovice 'D' 'Čtverky' 'Dívky' - TJ JUNIOR Brno 'B
 ' 'Čtverky' 'Dívky' 1:2 (-11\,18\,-14)
DTSTART;TZID=Europe/Berlin:20260315T141500
DTEND;TZID=Europe/Berlin:20260315T161500
SUMMARY:JM-U14Z-VIC4: TJ Sokol Letovice 'D' 'Čtverky' 'Dívky'-TJ JUNIOR Brn
 o 'B' 'Čtverky' 'Dívky'
END:VEVENT
BEGIN:VEVENT
UID:31633532-3363-4435-b336-643933656632
DTSTAMP:20260423T081942Z
DESCRIPTION:4/4 TJ ASK BLANSKO 'Čtverky' 'Chlapci\, mix' - TJ Sokol Letovic
 e 'D' 'Čtverky' 'Dívky' 0:2 (-12\,-23)
DTSTART;TZID=Europe/Berlin:20260315T130000
DTEND;TZID=Europe/Berlin:20260315T150000
SUMMARY:JM-U14Z-VIC4: TJ ASK BLANSKO 'Čtverky' 'Chlapci\, mix'-TJ Sokol Let
 ovice 'D' 'Čtverky' 'Dívky'
END:VEVENT
BEGIN:VEVENT
UID:39353332-3166-4165-b064-383436613635
DTSTAMP:20260423T081942Z
DESCRIPTION:1/1 TJ Sokol Letovice 'D' 'Čtverky' 'Dívky' - TJ Sokol Letovice
  'C' 'Čtverky' 'Dívky' 2:0 (8\,0)\nKurt 2
DTSTART;TZID=Europe/Berlin:20260412T083000
DTEND;TZID=Europe/Berlin:20260412T103000
SUMMARY:JM-U14Z-FCBA: TJ Sokol Letovice 'D' 'Čtverky' 'Dívky'-TJ Sokol Leto
 vice 'C' 'Čtverky' 'Dívky'
END:VEVENT
BEGIN:VEVENT
UID:38333033-6133-4166-b666-623061303331
DTSTAMP:20260423T081942Z
DESCRIPTION:10/10 TJ Sokol Letovice 'D' 'Čtverky' 'Dívky' - TJ ASK BLANSKO 
 'Čtverky' 'Chlapci\, mix' 2:0 (21\,0)\nKurt 2
DTSTART;TZID=Europe/Berlin:20260412T114000
DTEND;TZID=Europe/Berlin:20260412T134000
SUMMARY:JM-U14Z-FCBA: TJ Sokol Letovice 'D' 'Čtverky' 'Dívky'-TJ ASK BLANSK
 O 'Čtverky' 'Chlapci\, mix'
END:VEVENT
BEGIN:VEVENT
UID:34646464-3435-4139-b036-303636613161
DTSTAMP:20260423T081942Z
DESCRIPTION:3/3 TJ JUNIOR Brno 'C' 'Čtverky' 'Dívky' - TJ Sokol Letovice 'D
 ' 'Čtverky' 'Dívky' 0:2 (-20\,-0)\nKurt 2
DTSTART;TZID=Europe/Berlin:20260412T092000
DTEND;TZID=Europe/Berlin:20260412T112000
SUMMARY:JM-U14Z-FCBA: TJ JUNIOR Brno 'C' 'Čtverky' 'Dívky'-TJ Sokol Letovic
 e 'D' 'Čtverky' 'Dívky'
END:VEVENT
BEGIN:VEVENT
UID:66343464-6165-4337-a265-363438616236
DTSTAMP:20260423T081942Z
DESCRIPTION:7/7 TJ Sokol Šlapanice u Brna 'B' 'Čtverky' 'Dívky' - TJ Sokol 
 Letovice 'D' 'Čtverky' 'Dívky' 0:2 (-15\,-0)\nKurt 2
DTSTART;TZID=Europe/Berlin:20260412T104000
DTEND;TZID=Europe/Berlin:20260412T124000
SUMMARY:JM-U14Z-FCBA: TJ Sokol Šlapanice u Brna 'B' 'Čtverky' 'Dívky'-TJ So
 kol Letovice 'D' 'Čtverky' 'Dívky'
END:VEVENT
BEGIN:VEVENT
UID:65333534-6537-4430-b162-653463396631
DTSTAMP:20260423T081942Z
DESCRIPTION:5/5 TJ Sokol Letovice 'D' 'Čtverky' 'Dívky' - TJ Sokol Šlapanic
 e u Brna 'C' 'Čtverky' 'Chlapci\, mix' 2:0 (17\,0)\no 9. místo Kurt 3
DTSTART;TZID=Europe/Berlin:20260412T134000
DTEND;TZID=Europe/Berlin:20260412T154000
SUMMARY:JM-U14Z-FCB: TJ Sokol Letovice 'D' 'Čtverky' 'Dívky'-TJ Sokol Šlapa
 nice u Brna 'C' 'Čtverky' 'Chlapci\, mix'
END:VEVENT
END:VCALENDAR
