BEGIN:VCALENDAR
VERSION:2.0
PRODID:-//TJ Sokol Letovice "E" "Čtverky" "Chlapci, mix"91844//NONSGML kigkonsult.se iCalcreator 2.41.80//
CALSCALE:GREGORIAN
UID:35363565-3265-4436-b765-393364316134
BEGIN:VEVENT
UID:63663430-3334-4665-b865-623664613438
DTSTAMP:20260422T211748Z
DESCRIPTION:9/9 TJ Sokol Letovice 'E' 'Čtverky' 'Chlapci\, mix' - VK Sloup 
 'Čtverky' 'Chlapci\, mix' 2:0 (10\,15)\nKurt 1
DTSTART;TZID=Europe/Berlin:20251005T140000
DTEND;TZID=Europe/Berlin:20251005T160000
LOCATION:Sportovní hala Letovice\, V zahradách 831 Letovice
SUMMARY:JM-U14Z-KVE: TJ Sokol Letovice 'E' 'Čtverky' 'Chlapci\, mix'-VK Slo
 up 'Čtverky' 'Chlapci\, mix'
END:VEVENT
BEGIN:VEVENT
UID:61643830-3739-4364-b639-383766323332
DTSTAMP:20260422T211748Z
DESCRIPTION:1/1 TJ Sokol Letovice 'A' 'Čtverky' 'Dívky' - TJ Sokol Letovice
  'E' 'Čtverky' 'Chlapci\, mix' 1:1 (18\,-12)\nKurt 1
DTSTART;TZID=Europe/Berlin:20251005T090000
DTEND;TZID=Europe/Berlin:20251005T110000
LOCATION:Sportovní hala Letovice\, V zahradách 831 Letovice
SUMMARY:JM-U14Z-KVE: TJ Sokol Letovice 'A' 'Čtverky' 'Dívky'-TJ Sokol Letov
 ice 'E' 'Čtverky' 'Chlapci\, mix'
END:VEVENT
BEGIN:VEVENT
UID:30373935-3730-4536-a664-616338356138
DTSTAMP:20260422T211748Z
DESCRIPTION:5/5 TJ Sokol Letovice 'C' 'Čtverky' 'Dívky' - TJ Sokol Letovice
  'E' 'Čtverky' 'Chlapci\, mix' 0:2 (-11\,-11)\nKurt 2
DTSTART;TZID=Europe/Berlin:20251005T110000
DTEND;TZID=Europe/Berlin:20251005T130000
LOCATION:Sportovní hala Letovice\, V zahradách 831 Letovice
SUMMARY:JM-U14Z-KVE: TJ Sokol Letovice 'C' 'Čtverky' 'Dívky'-TJ Sokol Letov
 ice 'E' 'Čtverky' 'Chlapci\, mix'
END:VEVENT
BEGIN:VEVENT
UID:31363039-3466-4535-a466-626231613436
DTSTAMP:20260422T211748Z
DESCRIPTION:8/8 TJ Sokol Předklášteří 'Čtverky' 'Dívky' - TJ Sokol Letovice
  'E' 'Čtverky' 'Chlapci\, mix' 0:2 (-15\,-16)\nKurt 2
DTSTART;TZID=Europe/Berlin:20251005T130000
DTEND;TZID=Europe/Berlin:20251005T150000
LOCATION:Sportovní hala Letovice\, V zahradách 831 Letovice
SUMMARY:JM-U14Z-KVE: TJ Sokol Předklášteří 'Čtverky' 'Dívky'-TJ Sokol Letov
 ice 'E' 'Čtverky' 'Chlapci\, mix'
END:VEVENT
BEGIN:VEVENT
UID:62313830-6361-4433-b130-333933346338
DTSTAMP:20260422T211748Z
DESCRIPTION:3/6 TJ Sokol Letovice 'E' 'Čtverky' 'Chlapci\, mix' - TJ Sokol 
 Šlapanice u Brna 'C' 'Čtverky' 'Chlapci\, mix' 2:0 (14\,20)
DTSTART;TZID=Europe/Berlin:20251109T114500
DTEND;TZID=Europe/Berlin:20251109T134500
LOCATION:Tělocvična ZŠ Šlapanice\, Masarykovo náměstí 1594 Šlapanice
SUMMARY:JM-U14Z-IA4: TJ Sokol Letovice 'E' 'Čtverky' 'Chlapci\, mix'-TJ Sok
 ol Šlapanice u Brna 'C' 'Čtverky' 'Chlapci\, mix'
END:VEVENT
BEGIN:VEVENT
UID:62353739-3336-4863-a236-313432656338
DTSTAMP:20260422T211748Z
DESCRIPTION:1/2 TJ Sokol Letovice 'D' 'Čtverky' 'Dívky' - TJ Sokol Letovice
  'E' 'Čtverky' 'Chlapci\, mix' 0:2 (-13\,-13)
DTSTART;TZID=Europe/Berlin:20251109T090000
DTEND;TZID=Europe/Berlin:20251109T110000
LOCATION:Tělocvična ZŠ Šlapanice\, Masarykovo náměstí 1594 Šlapanice
SUMMARY:JM-U14Z-IA4: TJ Sokol Letovice 'D' 'Čtverky' 'Dívky'-TJ Sokol Letov
 ice 'E' 'Čtverky' 'Chlapci\, mix'
END:VEVENT
BEGIN:VEVENT
UID:66646265-3334-4033-b632-653766323737
DTSTAMP:20260422T211748Z
DESCRIPTION:2/3 Orel jednota Křenovice 'Čtverky' 'Chlapci\, mix' - TJ Sokol
  Letovice 'E' 'Čtverky' 'Chlapci\, mix' 0:2 (-8\,-7)
DTSTART;TZID=Europe/Berlin:20251109T103000
DTEND;TZID=Europe/Berlin:20251109T123000
LOCATION:Tělocvična ZŠ Šlapanice\, Masarykovo náměstí 1594 Šlapanice
SUMMARY:JM-U14Z-IA4: Orel jednota Křenovice 'Čtverky' 'Chlapci\, mix'-TJ So
 kol Letovice 'E' 'Čtverky' 'Chlapci\, mix'
END:VEVENT
BEGIN:VEVENT
UID:33383333-3239-4132-a437-393036643532
DTSTAMP:20260422T211748Z
DESCRIPTION:1/1 TJ Sokol Letovice 'E' 'Čtverky' 'Chlapci\, mix' - TJ Sokol 
 Šlapanice u Brna 'C' 'Čtverky' 'Chlapci\, mix' 2:1 (22\,-21\,13)
DTSTART;TZID=Europe/Berlin:20251130T090000
DTEND;TZID=Europe/Berlin:20251130T110000
LOCATION:Sportovní hala Letovice\, V zahradách 831 Letovice
SUMMARY:JM-U14Z-IIA4: TJ Sokol Letovice 'E' 'Čtverky' 'Chlapci\, mix'-TJ So
 kol Šlapanice u Brna 'C' 'Čtverky' 'Chlapci\, mix'
END:VEVENT
BEGIN:VEVENT
UID:63663330-3137-4365-b164-363637313337
DTSTAMP:20260422T211748Z
DESCRIPTION:4/4 TJ Sokol Letovice 'E' 'Čtverky' 'Chlapci\, mix' - SK SKUNK 
 Unkovice 'A' 'Čtverky' 'Chlapci\, mix' 2:0 (20\,12)
DTSTART;TZID=Europe/Berlin:20251130T130000
DTEND;TZID=Europe/Berlin:20251130T150000
LOCATION:Sportovní hala Letovice\, V zahradách 831 Letovice
SUMMARY:JM-U14Z-IIA4: TJ Sokol Letovice 'E' 'Čtverky' 'Chlapci\, mix'-SK SK
 UNK Unkovice 'A' 'Čtverky' 'Chlapci\, mix'
END:VEVENT
BEGIN:VEVENT
UID:64666561-3537-4930-b338-373932323064
DTSTAMP:20260422T211748Z
DESCRIPTION:6/6 Orel jednota Křenovice 'Čtverky' 'Chlapci\, mix' - TJ Sokol
  Letovice 'E' 'Čtverky' 'Chlapci\, mix' 0:2 (-14\,-20)
DTSTART;TZID=Europe/Berlin:20251130T153000
DTEND;TZID=Europe/Berlin:20251130T173000
LOCATION:Sportovní hala Letovice\, V zahradách 831 Letovice
SUMMARY:JM-U14Z-IIA4: Orel jednota Křenovice 'Čtverky' 'Chlapci\, mix'-TJ S
 okol Letovice 'E' 'Čtverky' 'Chlapci\, mix'
END:VEVENT
BEGIN:VEVENT
UID:66323362-3866-4134-b332-313565623534
DTSTAMP:20260422T211748Z
DESCRIPTION:1/1 TJ Sokol Letovice 'E' 'Čtverky' 'Chlapci\, mix' - TJ Sokol 
 Letovice 'A' 'Čtverky' 'Dívky' 2:0 (12\,11)
DTSTART;TZID=Europe/Berlin:20251214T090000
DTEND;TZID=Europe/Berlin:20251214T110000
LOCATION:ZŠ Komenského Letovice\, Komenského 902 Letovice
SUMMARY:JM-U14Z-IIIA4: TJ Sokol Letovice 'E' 'Čtverky' 'Chlapci\, mix'-TJ S
 okol Letovice 'A' 'Čtverky' 'Dívky'
END:VEVENT
BEGIN:VEVENT
UID:62316563-6162-4362-b165-316565326535
DTSTAMP:20260422T211748Z
DESCRIPTION:4/4 TJ Sokol Letovice 'E' 'Čtverky' 'Chlapci\, mix' - SK SKUNK 
 Unkovice 'A' 'Čtverky' 'Chlapci\, mix' 2:0 (17\,16)
DTSTART;TZID=Europe/Berlin:20251214T130000
DTEND;TZID=Europe/Berlin:20251214T150000
LOCATION:ZŠ Komenského Letovice\, Komenského 902 Letovice
SUMMARY:JM-U14Z-IIIA4: TJ Sokol Letovice 'E' 'Čtverky' 'Chlapci\, mix'-SK S
 KUNK Unkovice 'A' 'Čtverky' 'Chlapci\, mix'
END:VEVENT
BEGIN:VEVENT
UID:36306365-3136-4064-a137-333738366261
DTSTAMP:20260422T211748Z
DESCRIPTION:6/6 TJ Sokol Šlapanice u Brna 'C' 'Čtverky' 'Chlapci\, mix' - T
 J Sokol Letovice 'E' 'Čtverky' 'Chlapci\, mix' 2:0 (25\,20)
DTSTART;TZID=Europe/Berlin:20251214T153000
DTEND;TZID=Europe/Berlin:20251214T173000
LOCATION:ZŠ Komenského Letovice\, Komenského 902 Letovice
SUMMARY:JM-U14Z-IIIA4: TJ Sokol Šlapanice u Brna 'C' 'Čtverky' 'Chlapci\, m
 ix'-TJ Sokol Letovice 'E' 'Čtverky' 'Chlapci\, mix'
END:VEVENT
BEGIN:VEVENT
UID:31373263-6538-4665-a232-613664333137
DTSTAMP:20260422T211748Z
DESCRIPTION:2/2 TJ Sokol Letovice 'E' 'Čtverky' 'Chlapci\, mix' - TJ Sokol 
 Šlapanice u Brna 'C' 'Čtverky' 'Chlapci\, mix' 2:0 (13\,18)
DTSTART;TZID=Europe/Berlin:20260111T103000
DTEND;TZID=Europe/Berlin:20260111T123000
LOCATION:Kulturní dům Unkovice\,  Unkovice38
SUMMARY:JM-U14Z-IVA4: TJ Sokol Letovice 'E' 'Čtverky' 'Chlapci\, mix'-TJ So
 kol Šlapanice u Brna 'C' 'Čtverky' 'Chlapci\, mix'
END:VEVENT
BEGIN:VEVENT
UID:37663235-3637-4664-b531-626638303736
DTSTAMP:20260422T211748Z
DESCRIPTION:5/5 TJ Sokol Letovice 'E' 'Čtverky' 'Chlapci\, mix' - Orel jedn
 ota Křenovice 'Čtverky' 'Chlapci\, mix' 2:0 (9\,13)
DTSTART;TZID=Europe/Berlin:20260111T141500
DTEND;TZID=Europe/Berlin:20260111T161500
LOCATION:Kulturní dům Unkovice\,  Unkovice38
SUMMARY:JM-U14Z-IVA4: TJ Sokol Letovice 'E' 'Čtverky' 'Chlapci\, mix'-Orel 
 jednota Křenovice 'Čtverky' 'Chlapci\, mix'
END:VEVENT
BEGIN:VEVENT
UID:65303463-6564-4261-a238-343363666336
DTSTAMP:20260422T211748Z
DESCRIPTION:4/4 SK SKUNK Unkovice 'A' 'Čtverky' 'Chlapci\, mix' - TJ Sokol 
 Letovice 'E' 'Čtverky' 'Chlapci\, mix' 0:2 (-24\,-14)
DTSTART;TZID=Europe/Berlin:20260111T130000
DTEND;TZID=Europe/Berlin:20260111T150000
LOCATION:Kulturní dům Unkovice\,  Unkovice38
SUMMARY:JM-U14Z-IVA4: SK SKUNK Unkovice 'A' 'Čtverky' 'Chlapci\, mix'-TJ So
 kol Letovice 'E' 'Čtverky' 'Chlapci\, mix'
END:VEVENT
BEGIN:VEVENT
UID:37373735-3430-4534-b632-306338313230
DTSTAMP:20260422T211748Z
DESCRIPTION:1/1 TJ Sokol Letovice 'E' 'Čtverky' 'Chlapci\, mix' - TJ Sokol 
 Letovice 'A' 'Čtverky' 'Dívky' 2:0 (11\,9)
DTSTART;TZID=Europe/Berlin:20260208T090000
DTEND;TZID=Europe/Berlin:20260208T110000
LOCATION:Sportovní hala Letovice\, V zahradách 831 Letovice
SUMMARY:JM-U14Z-VA4: TJ Sokol Letovice 'E' 'Čtverky' 'Chlapci\, mix'-TJ Sok
 ol Letovice 'A' 'Čtverky' 'Dívky'
END:VEVENT
BEGIN:VEVENT
UID:31643638-3064-4061-b435-373562633834
DTSTAMP:20260422T211748Z
DESCRIPTION:2/4 TJ Sokol Letovice 'E' 'Čtverky' 'Chlapci\, mix' - SK SKUNK 
 Unkovice 'A' 'Čtverky' 'Chlapci\, mix' 2:0 (20\,16)
DTSTART;TZID=Europe/Berlin:20260208T103000
DTEND;TZID=Europe/Berlin:20260208T123000
LOCATION:Sportovní hala Letovice\, V zahradách 831 Letovice
SUMMARY:JM-U14Z-VA4: TJ Sokol Letovice 'E' 'Čtverky' 'Chlapci\, mix'-SK SKU
 NK Unkovice 'A' 'Čtverky' 'Chlapci\, mix'
END:VEVENT
BEGIN:VEVENT
UID:39366530-3530-4634-a463-646631373232
DTSTAMP:20260422T211748Z
DESCRIPTION:3/6 TJ Sokol Šlapanice u Brna 'C' 'Čtverky' 'Chlapci\, mix' - T
 J Sokol Letovice 'E' 'Čtverky' 'Chlapci\, mix' 2:0 (13\,16)
DTSTART;TZID=Europe/Berlin:20260208T114500
DTEND;TZID=Europe/Berlin:20260208T134500
LOCATION:Sportovní hala Letovice\, V zahradách 831 Letovice
SUMMARY:JM-U14Z-VA4: TJ Sokol Šlapanice u Brna 'C' 'Čtverky' 'Chlapci\, mix
 '-TJ Sokol Letovice 'E' 'Čtverky' 'Chlapci\, mix'
END:VEVENT
BEGIN:VEVENT
UID:65633435-3534-4131-b233-303633636331
DTSTAMP:20260422T211748Z
DESCRIPTION:2/2 TJ Sokol Letovice 'E' 'Čtverky' 'Chlapci\, mix' - TJ Sokol 
 Předklášteří 'Čtverky' 'Dívky' 2:0 (14\,19)
DTSTART;TZID=Europe/Berlin:20260315T103000
DTEND;TZID=Europe/Berlin:20260315T123000
LOCATION:Kulturní dům Unkovice\,  Unkovice38
SUMMARY:JM-U14Z-VIA4: TJ Sokol Letovice 'E' 'Čtverky' 'Chlapci\, mix'-TJ So
 kol Předklášteří 'Čtverky' 'Dívky'
END:VEVENT
BEGIN:VEVENT
UID:34616465-3234-4733-a334-343036663462
DTSTAMP:20260422T211748Z
DESCRIPTION:5/5 TJ Sokol Letovice 'E' 'Čtverky' 'Chlapci\, mix' - TJ Sokol 
 Šlapanice u Brna 'C' 'Čtverky' 'Chlapci\, mix' 2:0 (15\,21)
DTSTART;TZID=Europe/Berlin:20260315T141500
DTEND;TZID=Europe/Berlin:20260315T161500
LOCATION:Kulturní dům Unkovice\,  Unkovice38
SUMMARY:JM-U14Z-VIA4: TJ Sokol Letovice 'E' 'Čtverky' 'Chlapci\, mix'-TJ So
 kol Šlapanice u Brna 'C' 'Čtverky' 'Chlapci\, mix'
END:VEVENT
BEGIN:VEVENT
UID:38303534-3432-4137-b565-666332643564
DTSTAMP:20260422T211748Z
DESCRIPTION:4/4 SK SKUNK Unkovice 'A' 'Čtverky' 'Chlapci\, mix' - TJ Sokol 
 Letovice 'E' 'Čtverky' 'Chlapci\, mix' 0:2 (-17\,-12)
DTSTART;TZID=Europe/Berlin:20260315T130000
DTEND;TZID=Europe/Berlin:20260315T150000
LOCATION:Kulturní dům Unkovice\,  Unkovice38
SUMMARY:JM-U14Z-VIA4: SK SKUNK Unkovice 'A' 'Čtverky' 'Chlapci\, mix'-TJ So
 kol Letovice 'E' 'Čtverky' 'Chlapci\, mix'
END:VEVENT
BEGIN:VEVENT
UID:65623263-3336-4133-b239-656639306362
DTSTAMP:20260422T211748Z
DESCRIPTION:1/1 TJ Sokol Letovice 'E' 'Čtverky' 'Chlapci\, mix' - Orel jedn
 ota Křenovice 'Čtverky' 'Dívky' 2:0 (3\,6)\n1. vs 8. Kurt 1
DTSTART;TZID=Europe/Berlin:20260412T083000
DTEND;TZID=Europe/Berlin:20260412T103000
SUMMARY:JM-U14Z-FC: TJ Sokol Letovice 'E' 'Čtverky' 'Chlapci\, mix'-Orel je
 dnota Křenovice 'Čtverky' 'Dívky'
END:VEVENT
BEGIN:VEVENT
UID:32353366-6434-4637-a236-346538633736
DTSTAMP:20260422T211748Z
DESCRIPTION:4/7 TJ Sokol Letovice 'E' 'Čtverky' 'Chlapci\, mix' - TJ Sokol 
 Předklášteří 'Čtverky' 'Dívky' 2:0 (12\,16)\nW1 vs W4 Kurt 1
DTSTART;TZID=Europe/Berlin:20260412T124500
DTEND;TZID=Europe/Berlin:20260412T144500
SUMMARY:JM-U14Z-FC: TJ Sokol Letovice 'E' 'Čtverky' 'Chlapci\, mix'-TJ Soko
 l Předklášteří 'Čtverky' 'Dívky'
END:VEVENT
BEGIN:VEVENT
UID:63653731-6166-4430-a266-663136663933
DTSTAMP:20260422T211748Z
DESCRIPTION:6/12 TJ Sokol Letovice 'E' 'Čtverky' 'Chlapci\, mix' - TJ Sokol
  Šlapanice u Brna 'C' 'Čtverky' 'Chlapci\, mix' 2:1 (-17\,19\,10)\nW7 vs W
 8 Kurt 1
DTSTART;TZID=Europe/Berlin:20260412T141500
DTEND;TZID=Europe/Berlin:20260412T161500
SUMMARY:JM-U14Z-FC: TJ Sokol Letovice 'E' 'Čtverky' 'Chlapci\, mix'-TJ Soko
 l Šlapanice u Brna 'C' 'Čtverky' 'Chlapci\, mix'
END:VEVENT
END:VCALENDAR
