BEGIN:VCALENDAR
VERSION:2.0
PRODID:-//TJ Fosfa Lokomotiva Břeclav "Dívky"91875//NONSGML kigkonsult.se iCalcreator 2.41.80//
CALSCALE:GREGORIAN
UID:61303535-6530-4931-b433-393664626437
BEGIN:VEVENT
UID:32383239-3132-4364-b330-356130343866
DTSTAMP:20260422T033909Z
DESCRIPTION:3/3 Fosfa Břeclav 'Dívky' - TJ TESLA Brno 'B' 'Chlapci\, mix' 0
 :2 (-15\,-18)
DTSTART;TZID=Europe/Berlin:20251005T103000
DTEND;TZID=Europe/Berlin:20251005T123000
LOCATION:tělocvičny ZŠ Novolíšeňská\, Brno\, Novolíšeňská 2411 Brno - Líšeň
SUMMARY:JM-U14Z-KVB: Fosfa Břeclav 'Dívky'-TJ TESLA Brno 'B' 'Chlapci\, mix
 '
END:VEVENT
BEGIN:VEVENT
UID:62626665-3038-4364-a438-663566373333
DTSTAMP:20260422T033909Z
DESCRIPTION:8/8 Fosfa Břeclav 'Dívky' - VK Královo Pole 'F' 'Dívky' 2:0 (22
 \,12)
DTSTART;TZID=Europe/Berlin:20251005T141500
DTEND;TZID=Europe/Berlin:20251005T161500
LOCATION:tělocvičny ZŠ Novolíšeňská\, Brno\, Novolíšeňská 2411 Brno - Líšeň
SUMMARY:JM-U14Z-KVB: Fosfa Břeclav 'Dívky'-VK Královo Pole 'F' 'Dívky'
END:VEVENT
BEGIN:VEVENT
UID:30363861-6663-4939-b462-346664373536
DTSTAMP:20260422T033909Z
DESCRIPTION:2/2 ZŠ Milénova Brno 'A' 'Dívky' - Fosfa Břeclav 'Dívky' 2:0 (9
 \,13)
DTSTART;TZID=Europe/Berlin:20251005T093000
DTEND;TZID=Europe/Berlin:20251005T113000
LOCATION:tělocvičny ZŠ Novolíšeňská\, Brno\, Novolíšeňská 2411 Brno - Líšeň
SUMMARY:JM-U14Z-KVB: ZŠ Milénova Brno 'A' 'Dívky'-Fosfa Břeclav 'Dívky'
END:VEVENT
BEGIN:VEVENT
UID:34353235-6463-4364-b635-653437646465
DTSTAMP:20260422T033909Z
DESCRIPTION:6/6 Volejbal Vyškov 'Dívky' - Fosfa Břeclav 'Dívky' 2:0 (6\,13)
DTSTART;TZID=Europe/Berlin:20251005T124500
DTEND;TZID=Europe/Berlin:20251005T144500
LOCATION:tělocvičny ZŠ Novolíšeňská\, Brno\, Novolíšeňská 2411 Brno - Líšeň
SUMMARY:JM-U14Z-KVB: Volejbal Vyškov 'Dívky'-Fosfa Břeclav 'Dívky'
END:VEVENT
BEGIN:VEVENT
UID:31623433-6630-4465-a533-366261303533
DTSTAMP:20260422T033909Z
DESCRIPTION:1/2 Fosfa Břeclav 'Dívky' - TJ JUNIOR Brno 'A' 'Dívky' 0:2 (-12
 \,-13)
DTSTART;TZID=Europe/Berlin:20251109T090000
DTEND;TZID=Europe/Berlin:20251109T110000
LOCATION:ZŠ Vejrostova\, Vejrostova 1066 Brno - Bystrc
SUMMARY:JM-U14Z-ID: Fosfa Břeclav 'Dívky'-TJ JUNIOR Brno 'A' 'Dívky'
END:VEVENT
BEGIN:VEVENT
UID:63636430-3035-4433-a230-646139313833
DTSTAMP:20260422T033909Z
DESCRIPTION:3/5 Fosfa Břeclav 'Dívky' - VK Brno 'A' 'Dívky' 2:0 (9\,19)
DTSTART;TZID=Europe/Berlin:20251109T114500
DTEND;TZID=Europe/Berlin:20251109T134500
LOCATION:ZŠ Vejrostova\, Vejrostova 1066 Brno - Bystrc
SUMMARY:JM-U14Z-ID: Fosfa Břeclav 'Dívky'-VK Brno 'A' 'Dívky'
END:VEVENT
BEGIN:VEVENT
UID:64373431-3538-4632-b365-656239613765
DTSTAMP:20260422T033909Z
DESCRIPTION:2/4 VK Brno 'Chlapci\, mix' - Fosfa Břeclav 'Dívky' 0:2 (-22\,-
 23)
DTSTART;TZID=Europe/Berlin:20251109T103000
DTEND;TZID=Europe/Berlin:20251109T123000
LOCATION:ZŠ Vejrostova\, Vejrostova 1066 Brno - Bystrc
SUMMARY:JM-U14Z-ID: VK Brno 'Chlapci\, mix'-Fosfa Břeclav 'Dívky'
END:VEVENT
BEGIN:VEVENT
UID:66323633-6232-4131-a430-666332353962
DTSTAMP:20260422T033909Z
DESCRIPTION:1/1 Fosfa Břeclav 'Dívky' - VK Rousínov 'Dívky' 2:1 (-15\,15\,1
 0)
DTSTART;TZID=Europe/Berlin:20251130T090000
DTEND;TZID=Europe/Berlin:20251130T110000
LOCATION:TJ Lokomotiva Břeclav\, Veslařská 2753 Břeclav
SUMMARY:JM-U14Z-IID: Fosfa Břeclav 'Dívky'-VK Rousínov 'Dívky'
END:VEVENT
BEGIN:VEVENT
UID:64336366-6136-4630-b636-363435323266
DTSTAMP:20260422T033909Z
DESCRIPTION:2/4 Fosfa Břeclav 'Dívky' - VS Drásov 'Dívky' 2:0 (18\,12)
DTSTART;TZID=Europe/Berlin:20251130T103000
DTEND;TZID=Europe/Berlin:20251130T123000
LOCATION:TJ Lokomotiva Břeclav\, Veslařská 2753 Břeclav
SUMMARY:JM-U14Z-IID: Fosfa Břeclav 'Dívky'-VS Drásov 'Dívky'
END:VEVENT
BEGIN:VEVENT
UID:62303966-3537-4135-a530-396463393834
DTSTAMP:20260422T033909Z
DESCRIPTION:3/6 VK Brno 'A' 'Dívky' - Fosfa Břeclav 'Dívky' 0:2 (-25\,-11)
DTSTART;TZID=Europe/Berlin:20251130T114500
DTEND;TZID=Europe/Berlin:20251130T134500
LOCATION:TJ Lokomotiva Břeclav\, Veslařská 2753 Břeclav
SUMMARY:JM-U14Z-IID: VK Brno 'A' 'Dívky'-Fosfa Břeclav 'Dívky'
END:VEVENT
BEGIN:VEVENT
UID:39663939-3838-4962-b530-663338336365
DTSTAMP:20260422T033909Z
DESCRIPTION:2/2 Fosfa Břeclav 'Dívky' - SK Vedrovice 'Chlapci\, mix' 2:1 (1
 0\,-22\,2)
DTSTART;TZID=Europe/Berlin:20251214T103000
DTEND;TZID=Europe/Berlin:20251214T123000
LOCATION:ZŠ Milénova 14\, Milénova 808 Brno - Lesná
SUMMARY:JM-U14Z-IIIC: Fosfa Břeclav 'Dívky'-SK Vedrovice 'Chlapci\, mix'
END:VEVENT
BEGIN:VEVENT
UID:30643733-3161-4666-b337-393064663165
DTSTAMP:20260422T033909Z
DESCRIPTION:5/5 Fosfa Břeclav 'Dívky' - VK Královo Pole 'E' 'Dívky' 2:0 (20
 \,20)
DTSTART;TZID=Europe/Berlin:20251214T141500
DTEND;TZID=Europe/Berlin:20251214T161500
LOCATION:ZŠ Milénova 14\, Milénova 808 Brno - Lesná
SUMMARY:JM-U14Z-IIIC: Fosfa Břeclav 'Dívky'-VK Královo Pole 'E' 'Dívky'
END:VEVENT
BEGIN:VEVENT
UID:36363533-3330-4439-a435-613963623935
DTSTAMP:20260422T033909Z
DESCRIPTION:4/4 TJ TESLA Brno 'B' 'Chlapci\, mix' - Fosfa Břeclav 'Dívky' 2
 :0 (12\,13)
DTSTART;TZID=Europe/Berlin:20251214T130000
DTEND;TZID=Europe/Berlin:20251214T150000
LOCATION:ZŠ Milénova 14\, Milénova 808 Brno - Lesná
SUMMARY:JM-U14Z-IIIC: TJ TESLA Brno 'B' 'Chlapci\, mix'-Fosfa Břeclav 'Dívk
 y'
END:VEVENT
BEGIN:VEVENT
UID:36623235-3631-4264-b462-383865396561
DTSTAMP:20260422T033909Z
DESCRIPTION:2/2 Fosfa Břeclav 'Dívky' - Volejbal Vyškov 'Dívky' 0:2 (-15\,-
 14)
DTSTART;TZID=Europe/Berlin:20260111T103000
DTEND;TZID=Europe/Berlin:20260111T123000
LOCATION:tělocvičny ZŠ Novolíšeňská\, Brno\, Novolíšeňská 2411 Brno - Líšeň
SUMMARY:JM-U14Z-IVB: Fosfa Břeclav 'Dívky'-Volejbal Vyškov 'Dívky'
END:VEVENT
BEGIN:VEVENT
UID:37623965-3661-4233-b961-393931613966
DTSTAMP:20260422T033909Z
DESCRIPTION:5/5 Fosfa Břeclav 'Dívky' - VK Rousínov 'Dívky' 2:0 (10\,12)
DTSTART;TZID=Europe/Berlin:20260111T141500
DTEND;TZID=Europe/Berlin:20260111T161500
LOCATION:tělocvičny ZŠ Novolíšeňská\, Brno\, Novolíšeňská 2411 Brno - Líšeň
SUMMARY:JM-U14Z-IVB: Fosfa Břeclav 'Dívky'-VK Rousínov 'Dívky'
END:VEVENT
BEGIN:VEVENT
UID:31383664-3335-4466-b731-656135663534
DTSTAMP:20260422T033909Z
DESCRIPTION:4/4 TJ JUNIOR Brno 'A' 'Dívky' - Fosfa Břeclav 'Dívky' 2:0 (13\
 ,12)
DTSTART;TZID=Europe/Berlin:20260111T130000
DTEND;TZID=Europe/Berlin:20260111T150000
LOCATION:tělocvičny ZŠ Novolíšeňská\, Brno\, Novolíšeňská 2411 Brno - Líšeň
SUMMARY:JM-U14Z-IVB: TJ JUNIOR Brno 'A' 'Dívky'-Fosfa Břeclav 'Dívky'
END:VEVENT
BEGIN:VEVENT
UID:65323162-3230-4466-a537-633637386536
DTSTAMP:20260422T033909Z
DESCRIPTION:3/6 Fosfa Břeclav 'Dívky' - TJ JUNIOR Brno 'A' 'Dívky' 1:2 (23\
 ,-11\,-13)
DTSTART;TZID=Europe/Berlin:20260208T153000
DTEND;TZID=Europe/Berlin:20260208T173000
LOCATION:tělocvičny ZŠ Novolíšeňská\, Brno\, Novolíšeňská 2411 Brno - Líšeň
SUMMARY:JM-U14Z-VB: Fosfa Břeclav 'Dívky'-TJ JUNIOR Brno 'A' 'Dívky'
END:VEVENT
BEGIN:VEVENT
UID:38393935-3065-4034-b335-633564656362
DTSTAMP:20260422T033909Z
DESCRIPTION:1/2 TJ Sokol Letovice 'Dívky' - Fosfa Břeclav 'Dívky' 2:1 (-19\
 ,15\,8)
DTSTART;TZID=Europe/Berlin:20260208T103000
DTEND;TZID=Europe/Berlin:20260208T123000
LOCATION:tělocvičny ZŠ Novolíšeňská\, Brno\, Novolíšeňská 2411 Brno - Líšeň
SUMMARY:JM-U14Z-VB: TJ Sokol Letovice 'Dívky'-Fosfa Břeclav 'Dívky'
END:VEVENT
BEGIN:VEVENT
UID:37323638-3665-4230-b736-306536343536
DTSTAMP:20260422T033909Z
DESCRIPTION:2/3 VK Královo Pole 'E' 'Dívky' - Fosfa Břeclav 'Dívky' 0:2 (-1
 3\,-16)
DTSTART;TZID=Europe/Berlin:20260208T114500
DTEND;TZID=Europe/Berlin:20260208T134500
LOCATION:tělocvičny ZŠ Novolíšeňská\, Brno\, Novolíšeňská 2411 Brno - Líšeň
SUMMARY:JM-U14Z-VB: VK Královo Pole 'E' 'Dívky'-Fosfa Břeclav 'Dívky'
END:VEVENT
BEGIN:VEVENT
UID:64333464-3831-4134-b838-373433333963
DTSTAMP:20260422T033909Z
DESCRIPTION:1/2 Fosfa Břeclav 'Dívky' - VK Rousínov 'Dívky' 2:0 (16\,12)
DTSTART;TZID=Europe/Berlin:20260315T090000
DTEND;TZID=Europe/Berlin:20260315T110000
LOCATION:Sportovní hala Letovice\, V zahradách 831 Letovice
SUMMARY:JM-U14Z-VIB: Fosfa Břeclav 'Dívky'-VK Rousínov 'Dívky'
END:VEVENT
BEGIN:VEVENT
UID:62643562-6431-4838-b231-383338333730
DTSTAMP:20260422T033909Z
DESCRIPTION:3/5 Fosfa Břeclav 'Dívky' - VK Královo Pole 'D' 'Dívky' 0:2 (-1
 9\,-21)
DTSTART;TZID=Europe/Berlin:20260315T114500
DTEND;TZID=Europe/Berlin:20260315T134500
LOCATION:Sportovní hala Letovice\, V zahradách 831 Letovice
SUMMARY:JM-U14Z-VIB: Fosfa Břeclav 'Dívky'-VK Královo Pole 'D' 'Dívky'
END:VEVENT
BEGIN:VEVENT
UID:66396634-3663-4361-a561-333730323036
DTSTAMP:20260422T033909Z
DESCRIPTION:2/4 TJ Sokol Letovice 'Dívky' - Fosfa Břeclav 'Dívky' 0:2 (-14\
 ,-20)
DTSTART;TZID=Europe/Berlin:20260315T103000
DTEND;TZID=Europe/Berlin:20260315T123000
LOCATION:Sportovní hala Letovice\, V zahradách 831 Letovice
SUMMARY:JM-U14Z-VIB: TJ Sokol Letovice 'Dívky'-Fosfa Břeclav 'Dívky'
END:VEVENT
BEGIN:VEVENT
UID:35336364-6434-4263-a433-366562306234
DTSTAMP:20260422T033909Z
DESCRIPTION:3/6 Fosfa Břeclav 'Dívky' - TJ Sokol Letovice 'Dívky' 2:1 (14\,
 -21\,8)\nL2 vs L3 Kurt 2
DTSTART;TZID=Europe/Berlin:20260412T114500
DTEND;TZID=Europe/Berlin:20260412T134500
SUMMARY:JM-U14Z-FD: Fosfa Břeclav 'Dívky'-TJ Sokol Letovice 'Dívky'
END:VEVENT
BEGIN:VEVENT
UID:34613665-3864-4361-a239-386133313735
DTSTAMP:20260422T033909Z
DESCRIPTION:1/2 PFN Znojmo 'C' 'Dívky' - Fosfa Břeclav 'Dívky' 2:0 (14\,24)
 \n2. vs 7. Kurt 2
DTSTART;TZID=Europe/Berlin:20260412T090000
DTEND;TZID=Europe/Berlin:20260412T110000
SUMMARY:JM-U14Z-FD: PFN Znojmo 'C' 'Dívky'-Fosfa Břeclav 'Dívky'
END:VEVENT
BEGIN:VEVENT
UID:36306437-6664-4232-a538-663864373838
DTSTAMP:20260422T033909Z
DESCRIPTION:5/10 VK Královo Pole 'D' 'Dívky' - Fosfa Břeclav 'Dívky' 2:0 (9
 \,23)\nW5 vs W6 Kurt 1
DTSTART;TZID=Europe/Berlin:20260412T141500
DTEND;TZID=Europe/Berlin:20260412T161500
SUMMARY:JM-U14Z-FD: VK Královo Pole 'D' 'Dívky'-Fosfa Břeclav 'Dívky'
END:VEVENT
END:VCALENDAR
