BEGIN:VCALENDAR
VERSION:2.0
PRODID:-//TJ Lokomotiva, z.s.91906//NONSGML kigkonsult.se iCalcreator 2.41.80//
CALSCALE:GREGORIAN
UID:38393438-3637-4335-b237-336134656665
BEGIN:VEVENT
UID:37356366-3362-4533-b036-336133313763
DTSTAMP:20260423T000357Z
DESCRIPTION:1/4 TJ Lokomotiva Č.Velenice - Jiskra Třeboň 0:0 ()
DTSTART;TZID=Europe/Berlin:20251122T100000
DTEND;TZID=Europe/Berlin:20251122T120000
SUMMARY:JH-U14Z1: TJ Lokomotiva Č.Velenice-Jiskra Třeboň
END:VEVENT
BEGIN:VEVENT
UID:35663661-6132-4230-a330-613832653665
DTSTAMP:20260423T000357Z
DESCRIPTION:1/2 Slovan J.Hradec C - TJ Lokomotiva Č.Velenice 0:0 ()
DTSTART;TZID=Europe/Berlin:20251122T090000
DTEND;TZID=Europe/Berlin:20251122T110000
SUMMARY:JH-U14Z1: Slovan J.Hradec C-TJ Lokomotiva Č.Velenice
END:VEVENT
BEGIN:VEVENT
UID:39393761-3633-4938-a461-663462363964
DTSTAMP:20260423T000357Z
DESCRIPTION:1/6 Slovan J.Hradec B - TJ Lokomotiva Č.Velenice 0:0 ()
DTSTART;TZID=Europe/Berlin:20251122T110000
DTEND;TZID=Europe/Berlin:20251122T130000
SUMMARY:JH-U14Z1: Slovan J.Hradec B-TJ Lokomotiva Č.Velenice
END:VEVENT
BEGIN:VEVENT
UID:63623763-6465-4531-a562-666433306631
DTSTAMP:20260423T000357Z
DESCRIPTION:1/4 TJ Lokomotiva Č.Velenice - Jiskra Třeboň
DTSTART;TZID=Europe/Berlin:20260214T100000
DTEND;TZID=Europe/Berlin:20260214T120000
SUMMARY:JH-U14Z2: TJ Lokomotiva Č.Velenice-Jiskra Třeboň
END:VEVENT
BEGIN:VEVENT
UID:66353766-3236-4833-b734-386634356230
DTSTAMP:20260423T000357Z
DESCRIPTION:1/2 Slovan J.Hradec C - TJ Lokomotiva Č.Velenice
DTSTART;TZID=Europe/Berlin:20260214T090000
DTEND;TZID=Europe/Berlin:20260214T110000
SUMMARY:JH-U14Z2: Slovan J.Hradec C-TJ Lokomotiva Č.Velenice
END:VEVENT
BEGIN:VEVENT
UID:38383830-6535-4438-b532-666666636264
DTSTAMP:20260423T000357Z
DESCRIPTION:1/6 Slovan J.Hradec B - TJ Lokomotiva Č.Velenice\n2.kolo
DTSTART;TZID=Europe/Berlin:20260214T110000
DTEND;TZID=Europe/Berlin:20260214T130000
SUMMARY:JH-U14Z2: Slovan J.Hradec B-TJ Lokomotiva Č.Velenice
END:VEVENT
BEGIN:VEVENT
UID:35326437-6130-4538-b665-373038343832
DTSTAMP:20260423T000357Z
DESCRIPTION:1/4 TJ Lokomotiva Č.Velenice - Jiskra Třeboň
DTSTART;TZID=Europe/Berlin:20260524T100000
DTEND;TZID=Europe/Berlin:20260524T120000
SUMMARY:JH-U14Z3: TJ Lokomotiva Č.Velenice-Jiskra Třeboň
END:VEVENT
BEGIN:VEVENT
UID:65383439-3634-4164-b335-353635306264
DTSTAMP:20260423T000357Z
DESCRIPTION:1/2 Slovan J.Hradec C - TJ Lokomotiva Č.Velenice
DTSTART;TZID=Europe/Berlin:20260524T090000
DTEND;TZID=Europe/Berlin:20260524T110000
SUMMARY:JH-U14Z3: Slovan J.Hradec C-TJ Lokomotiva Č.Velenice
END:VEVENT
BEGIN:VEVENT
UID:34656135-3461-4862-b133-666537356637
DTSTAMP:20260423T000357Z
DESCRIPTION:1/6 Slovan J.Hradec B - TJ Lokomotiva Č.Velenice
DTSTART;TZID=Europe/Berlin:20260524T110000
DTEND;TZID=Europe/Berlin:20260524T130000
SUMMARY:JH-U14Z3: Slovan J.Hradec B-TJ Lokomotiva Č.Velenice
END:VEVENT
END:VCALENDAR
