BEGIN:VCALENDAR
VERSION:2.0
PRODID:-//Volejbalový klub Rokycany91930//NONSGML kigkonsult.se iCalcreator 2.41.80//
CALSCALE:GREGORIAN
UID:35363333-6335-4464-a634-356332393032
BEGIN:VEVENT
UID:38323830-6630-4965-b434-353363623232
DTSTAMP:20260422T122437Z
DESCRIPTION:1/11 Volejbalový klub Rokycany - Volejbal Ústí U14 0:2 (-14\,-2
 1)
DTSTART;TZID=Europe/Berlin:20251011T154000
DTEND;TZID=Europe/Berlin:20251011T174000
LOCATION:Hala Gymnázia Rokycany\, Mládežníků 1115 Rokycany - Nové Město
SUMMARY:TA-U16Z-PK-U14Z: Volejbalový klub Rokycany-Volejbal Ústí U14
END:VEVENT
BEGIN:VEVENT
UID:62333133-6130-4130-a665-313030363765
DTSTAMP:20260422T122437Z
DESCRIPTION:1/17 Volejbalový klub Rokycany - Volejbal Rudolfov 0:2 (-12\,-1
 2)
DTSTART;TZID=Europe/Berlin:20251012T102000
DTEND;TZID=Europe/Berlin:20251012T122000
LOCATION:Hala Gymnázia Rokycany\, Mládežníků 1115 Rokycany - Nové Město
SUMMARY:TA-U16Z-PK-U14Z: Volejbalový klub Rokycany-Volejbal Rudolfov
END:VEVENT
BEGIN:VEVENT
UID:37653239-6431-4332-b533-663437653536
DTSTAMP:20260422T122437Z
DESCRIPTION:2/23 Volejbalový klub Rokycany - TJ Lokomotiva Plzeň z.s. 2:0 (
 15\,20)
DTSTART;TZID=Europe/Berlin:20251025T100000
DTEND;TZID=Europe/Berlin:20251025T120000
LOCATION:Hala Gymnázia Rokycany\, Mládežníků 1115 Rokycany - Nové Město
SUMMARY:TA-U16Z-PK-U14Z: Volejbalový klub Rokycany-TJ Lokomotiva Plzeň z.s.
END:VEVENT
BEGIN:VEVENT
UID:34623663-3332-4133-a164-386161373238
DTSTAMP:20260422T122437Z
DESCRIPTION:2/31 Volejbalový klub Rokycany - Volejbal Rudolfov 0:2 (-17\,-1
 9)
DTSTART;TZID=Europe/Berlin:20251025T152000
DTEND;TZID=Europe/Berlin:20251025T172000
LOCATION:Hala Gymnázia Rokycany\, Mládežníků 1115 Rokycany - Nové Město
SUMMARY:TA-U16Z-PK-U14Z: Volejbalový klub Rokycany-Volejbal Rudolfov
END:VEVENT
BEGIN:VEVENT
UID:62613133-6230-4462-a231-306166393134
DTSTAMP:20260422T122437Z
DESCRIPTION:2/41 Volejbalový klub Rokycany - Volejbal Tábor U14 2:0 (0\,0)
DTSTART;TZID=Europe/Berlin:20251026T114000
DTEND;TZID=Europe/Berlin:20251026T134000
LOCATION:Hala Gymnázia Rokycany\, Mládežníků 1115 Rokycany - Nové Město
SUMMARY:TA-U16Z-PK-U14Z: Volejbalový klub Rokycany-Volejbal Tábor U14
END:VEVENT
BEGIN:VEVENT
UID:36646266-3534-4432-a233-643932306362
DTSTAMP:20260422T122437Z
DESCRIPTION:3/49 Volejbalový klub Rokycany - Volejbalový klub Slavia Plzeň\
 , z.s. 2:1 (19\,-18\,11)
DTSTART;TZID=Europe/Berlin:20251115T140000
DTEND;TZID=Europe/Berlin:20251115T160000
LOCATION:Hala Gymnázia Rokycany\, Mládežníků 1115 Rokycany - Nové Město
SUMMARY:TA-U16Z-PK-U14Z: Volejbalový klub Rokycany-Volejbalový klub Slavia 
 Plzeň\, z.s.
END:VEVENT
BEGIN:VEVENT
UID:63316133-3538-4333-a233-666563356663
DTSTAMP:20260422T122437Z
DESCRIPTION:3/59 Volejbalový klub Rokycany - Volejbal Ústí U14 0:2 (-25\,-1
 8)
DTSTART;TZID=Europe/Berlin:20251116T090000
DTEND;TZID=Europe/Berlin:20251116T110000
LOCATION:Hala Gymnázia Rokycany\, Mládežníků 1115 Rokycany - Nové Město
SUMMARY:TA-U16Z-PK-U14Z: Volejbalový klub Rokycany-Volejbal Ústí U14
END:VEVENT
BEGIN:VEVENT
UID:36383062-6266-4164-b938-646664313333
DTSTAMP:20260422T122437Z
DESCRIPTION:3/62 Volejbalový klub Rokycany - TJ Lokomotiva Plzeň z.s. 2:0 (
 10\,13)
DTSTART;TZID=Europe/Berlin:20251116T100000
DTEND;TZID=Europe/Berlin:20251116T120000
LOCATION:Hala Gymnázia Rokycany\, Mládežníků 1115 Rokycany - Nové Město
SUMMARY:TA-U16Z-PK-U14Z: Volejbalový klub Rokycany-TJ Lokomotiva Plzeň z.s.
END:VEVENT
BEGIN:VEVENT
UID:38376631-3731-4932-a138-393863623337
DTSTAMP:20260422T122437Z
DESCRIPTION:4/64 Volejbalový klub Rokycany - Beach volleyball club Chodov\,
  zapsaný spolek 2:0 (5\,9)
DTSTART;TZID=Europe/Berlin:20260124T090000
DTEND;TZID=Europe/Berlin:20260124T110000
LOCATION:Hala Gymnázia Rokycany\, Mládežníků 1115 Rokycany - Nové Město
SUMMARY:TA-U16Z-PK-U14Z: Volejbalový klub Rokycany-Beach volleyball club Ch
 odov\, zapsaný spolek
END:VEVENT
BEGIN:VEVENT
UID:32636633-6234-4462-a131-383430306539
DTSTAMP:20260422T122437Z
DESCRIPTION:4/66 Volejbalový klub Rokycany - Volejbal Tábor U14 2:0 (21\,14
 )
DTSTART;TZID=Europe/Berlin:20260124T103000
DTEND;TZID=Europe/Berlin:20260124T123000
LOCATION:Hala Gymnázia Rokycany\, Mládežníků 1115 Rokycany - Nové Město
SUMMARY:TA-U16Z-PK-U14Z: Volejbalový klub Rokycany-Volejbal Tábor U14
END:VEVENT
BEGIN:VEVENT
UID:37396638-6663-4536-a534-616133633436
DTSTAMP:20260422T122437Z
DESCRIPTION:4/69 Volejbalový klub Rokycany - Volejbalový klub Slavia Plzeň\
 , z.s. 1:2 (15\,-26\,-11)
DTSTART;TZID=Europe/Berlin:20260124T120000
DTEND;TZID=Europe/Berlin:20260124T140000
LOCATION:Hala Gymnázia Rokycany\, Mládežníků 1115 Rokycany - Nové Město
SUMMARY:TA-U16Z-PK-U14Z: Volejbalový klub Rokycany-Volejbalový klub Slavia 
 Plzeň\, z.s.
END:VEVENT
BEGIN:VEVENT
UID:64373065-6633-4134-b434-363033373364
DTSTAMP:20260422T122437Z
DESCRIPTION:4/72 Volejbalový klub Rokycany - Volejbal Rudolfov 1:2 (25\,-11
 \,-9)
DTSTART;TZID=Europe/Berlin:20260124T133000
DTEND;TZID=Europe/Berlin:20260124T153000
LOCATION:Hala Gymnázia Rokycany\, Mládežníků 1115 Rokycany - Nové Město
SUMMARY:TA-U16Z-PK-U14Z: Volejbalový klub Rokycany-Volejbal Rudolfov
END:VEVENT
BEGIN:VEVENT
UID:36353464-6232-4337-b637-643433616635
DTSTAMP:20260422T122437Z
DESCRIPTION:4/75 Volejbalový klub Rokycany - TJ Lokomotiva Plzeň z.s. 0:2 (
 -23\,-22)
DTSTART;TZID=Europe/Berlin:20260124T150000
DTEND;TZID=Europe/Berlin:20260124T170000
LOCATION:Hala Gymnázia Rokycany\, Mládežníků 1115 Rokycany - Nové Město
SUMMARY:TA-U16Z-PK-U14Z: Volejbalový klub Rokycany-TJ Lokomotiva Plzeň z.s.
END:VEVENT
BEGIN:VEVENT
UID:31323035-3566-4231-b536-313765663032
DTSTAMP:20260422T122437Z
DESCRIPTION:4/78 Volejbalový klub Rokycany - Volejbal Ústí U14 2:0 (0\,0)
DTSTART;TZID=Europe/Berlin:20260124T163000
DTEND;TZID=Europe/Berlin:20260124T183000
LOCATION:Hala Gymnázia Rokycany\, Mládežníků 1115 Rokycany - Nové Město
SUMMARY:TA-U16Z-PK-U14Z: Volejbalový klub Rokycany-Volejbal Ústí U14
END:VEVENT
BEGIN:VEVENT
UID:36643762-3965-4832-b133-663761383538
DTSTAMP:20260422T122437Z
DESCRIPTION:5/95 Volejbalový klub Rokycany - Volejbal Ústí U14 1:2 (-9\,22\
 ,-12)
DTSTART;TZID=Europe/Berlin:20260221T154000
DTEND;TZID=Europe/Berlin:20260221T174000
LOCATION:Hala Gymnázia Rokycany\, Mládežníků 1115 Rokycany - Nové Město
SUMMARY:TA-U16Z-PK-U14Z: Volejbalový klub Rokycany-Volejbal Ústí U14
END:VEVENT
BEGIN:VEVENT
UID:38633635-6330-4538-a434-373638663430
DTSTAMP:20260422T122437Z
DESCRIPTION:5/101 Volejbalový klub Rokycany - Volejbal Rudolfov 0:2 (-8\,-9
 )
DTSTART;TZID=Europe/Berlin:20260222T102000
DTEND;TZID=Europe/Berlin:20260222T122000
LOCATION:Hala Gymnázia Rokycany\, Mládežníků 1115 Rokycany - Nové Město
SUMMARY:TA-U16Z-PK-U14Z: Volejbalový klub Rokycany-Volejbal Rudolfov
END:VEVENT
BEGIN:VEVENT
UID:38653236-3131-4564-b736-613039626237
DTSTAMP:20260422T122437Z
DESCRIPTION:6/107 Volejbalový klub Rokycany - TJ Lokomotiva Plzeň z.s. 0:2 
 (-23\,-11)
DTSTART;TZID=Europe/Berlin:20260307T100000
DTEND;TZID=Europe/Berlin:20260307T120000
LOCATION:Hala Gymnázia Rokycany\, Mládežníků 1115 Rokycany - Nové Město
SUMMARY:TA-U16Z-PK-U14Z: Volejbalový klub Rokycany-TJ Lokomotiva Plzeň z.s.
END:VEVENT
BEGIN:VEVENT
UID:36613432-6363-4264-a165-393035313936
DTSTAMP:20260422T122437Z
DESCRIPTION:6/110 Volejbalový klub Rokycany - Volejbal Ústí U14 0:2 (-15\,-
 15)
DTSTART;TZID=Europe/Berlin:20260307T121000
DTEND;TZID=Europe/Berlin:20260307T141000
LOCATION:Hala Gymnázia Rokycany\, Mládežníků 1115 Rokycany - Nové Město
SUMMARY:TA-U16Z-PK-U14Z: Volejbalový klub Rokycany-Volejbal Ústí U14
END:VEVENT
BEGIN:VEVENT
UID:34313835-3835-4430-b235-376138623361
DTSTAMP:20260422T122437Z
DESCRIPTION:7/131 Volejbalový klub Rokycany - Volejbalový klub Slavia Plzeň
 \, z.s.
DTSTART;TZID=Europe/Berlin:20260425T112000
DTEND;TZID=Europe/Berlin:20260425T132000
LOCATION:Hala Gymnázia Rokycany\, Mládežníků 1115 Rokycany - Nové Město
SUMMARY:TA-U16Z-PK-U14Z: Volejbalový klub Rokycany-Volejbalový klub Slavia 
 Plzeň\, z.s.
END:VEVENT
BEGIN:VEVENT
UID:64363964-3961-4234-a135-343232623036
DTSTAMP:20260422T122437Z
DESCRIPTION:7/135 Volejbalový klub Rokycany - TJ Lokomotiva Plzeň z.s.
DTSTART;TZID=Europe/Berlin:20260425T124000
DTEND;TZID=Europe/Berlin:20260425T144000
LOCATION:Hala Gymnázia Rokycany\, Mládežníků 1115 Rokycany - Nové Město
SUMMARY:TA-U16Z-PK-U14Z: Volejbalový klub Rokycany-TJ Lokomotiva Plzeň z.s.
END:VEVENT
BEGIN:VEVENT
UID:66643164-3065-4530-b830-666336626633
DTSTAMP:20260422T122437Z
DESCRIPTION:7/136 Volejbalový klub Rokycany - Volejbal Rudolfov
DTSTART;TZID=Europe/Berlin:20260425T140000
DTEND;TZID=Europe/Berlin:20260425T160000
LOCATION:Hala Gymnázia Rokycany\, Mládežníků 1115 Rokycany - Nové Město
SUMMARY:TA-U16Z-PK-U14Z: Volejbalový klub Rokycany-Volejbal Rudolfov
END:VEVENT
BEGIN:VEVENT
UID:34646132-6430-4731-b138-656332616463
DTSTAMP:20260422T122437Z
DESCRIPTION:7/139 Volejbalový klub Rokycany - Beach volleyball club Chodov\
 , zapsaný spolek
DTSTART;TZID=Europe/Berlin:20260426T090000
DTEND;TZID=Europe/Berlin:20260426T110000
LOCATION:Hala Gymnázia Rokycany\, Mládežníků 1115 Rokycany - Nové Město
SUMMARY:TA-U16Z-PK-U14Z: Volejbalový klub Rokycany-Beach volleyball club Ch
 odov\, zapsaný spolek
END:VEVENT
BEGIN:VEVENT
UID:32373638-3930-4437-a637-313430663439
DTSTAMP:20260422T122437Z
DESCRIPTION:7/146 Volejbalový klub Rokycany - Volejbal Ústí U14
DTSTART;TZID=Europe/Berlin:20260426T114000
DTEND;TZID=Europe/Berlin:20260426T134000
LOCATION:Hala Gymnázia Rokycany\, Mládežníků 1115 Rokycany - Nové Město
SUMMARY:TA-U16Z-PK-U14Z: Volejbalový klub Rokycany-Volejbal Ústí U14
END:VEVENT
BEGIN:VEVENT
UID:34356164-3934-4230-b161-663361663563
DTSTAMP:20260422T122437Z
DESCRIPTION:1/2 Beach volleyball club Chodov\, zapsaný spolek - Volejbalový
  klub Rokycany 0:2 (-14\,-24)
DTSTART;TZID=Europe/Berlin:20251011T090000
DTEND;TZID=Europe/Berlin:20251011T110000
LOCATION:volejbalové a beachvolejbalové kurty (venkovní)\, Západní 1824 Kar
 lovy Vary
SUMMARY:TA-U16Z-PK-U14Z: Beach volleyball club Chodov\, zapsaný spolek-Vole
 jbalový klub Rokycany
END:VEVENT
BEGIN:VEVENT
UID:38333538-3938-4336-b265-643332333461
DTSTAMP:20260422T122437Z
DESCRIPTION:1/6 Volejbal Tábor U14 - Volejbalový klub Rokycany 0:2 (-9\,-20
 )
DTSTART;TZID=Europe/Berlin:20251011T114000
DTEND;TZID=Europe/Berlin:20251011T134000
LOCATION:Sportovní Hala Mír\, U Stadionu Míru 1579 Tábor
SUMMARY:TA-U16Z-PK-U14Z: Volejbal Tábor U14-Volejbalový klub Rokycany
END:VEVENT
BEGIN:VEVENT
UID:63396332-6135-4533-b931-616234303132
DTSTAMP:20260422T122437Z
DESCRIPTION:1/8 Volejbalový klub Slavia Plzeň\, z.s. - Volejbalový klub Rok
 ycany 2:1 (-22\,18\,11)
DTSTART;TZID=Europe/Berlin:20251011T130000
DTEND;TZID=Europe/Berlin:20251011T150000
LOCATION:Tělocvična 15.ZŠ\, Terezie Brzkové 863 Plzeň - Skvrňany
SUMMARY:TA-U16Z-PK-U14Z: Volejbalový klub Slavia Plzeň\, z.s.-Volejbalový k
 lub Rokycany
END:VEVENT
BEGIN:VEVENT
UID:34373665-3333-4635-b162-366630653431
DTSTAMP:20260422T122437Z
DESCRIPTION:1/21 TJ Lokomotiva Plzeň z.s. - Volejbalový klub Rokycany 0:2 (
 -18\,-14)
DTSTART;TZID=Europe/Berlin:20251012T130000
DTEND;TZID=Europe/Berlin:20251012T150000
LOCATION:Městská sportovní hala  -  hala 2\, Úslavská 2357 Plzeň - Východní
  Předměstí
SUMMARY:TA-U16Z-PK-U14Z: TJ Lokomotiva Plzeň z.s.-Volejbalový klub Rokycany
END:VEVENT
BEGIN:VEVENT
UID:31373237-6661-4237-a366-396561393937
DTSTAMP:20260422T122437Z
DESCRIPTION:2/26 Volejbal Ústí U14 - Volejbalový klub Rokycany 2:1 (-22\,18
 \,6)
DTSTART;TZID=Europe/Berlin:20251025T124000
DTEND;TZID=Europe/Berlin:20251025T144000
LOCATION:Tělocvična Gymnázia a Střední odborné školy dr. Václava Šmejkala\,
  Stará 3299 Ústí nad Labem - Severní Terasa
SUMMARY:TA-U16Z-PK-U14Z: Volejbal Ústí U14-Volejbalový klub Rokycany
END:VEVENT
BEGIN:VEVENT
UID:37356163-6234-4963-b735-343639393335
DTSTAMP:20260422T122437Z
DESCRIPTION:2/33 Beach volleyball club Chodov\, zapsaný spolek - Volejbalov
 ý klub Rokycany 0:2 (-10\,-10)
DTSTART;TZID=Europe/Berlin:20251025T164000
DTEND;TZID=Europe/Berlin:20251025T184000
LOCATION:volejbalové a beachvolejbalové kurty (venkovní)\, Západní 1824 Kar
 lovy Vary
SUMMARY:TA-U16Z-PK-U14Z: Beach volleyball club Chodov\, zapsaný spolek-Vole
 jbalový klub Rokycany
END:VEVENT
BEGIN:VEVENT
UID:63373038-6430-4165-b566-336337663233
DTSTAMP:20260422T122437Z
DESCRIPTION:2/39 Volejbalový klub Slavia Plzeň\, z.s. - Volejbalový klub Ro
 kycany 2:1 (21\,-22\,9)
DTSTART;TZID=Europe/Berlin:20251026T102000
DTEND;TZID=Europe/Berlin:20251026T122000
LOCATION:Tělocvična 15.ZŠ\, Terezie Brzkové 863 Plzeň - Skvrňany
SUMMARY:TA-U16Z-PK-U14Z: Volejbalový klub Slavia Plzeň\, z.s.-Volejbalový k
 lub Rokycany
END:VEVENT
BEGIN:VEVENT
UID:30373164-6337-4565-b732-656261396562
DTSTAMP:20260422T122437Z
DESCRIPTION:3/43 Volejbal Rudolfov - Volejbalový klub Rokycany 2:0 (19\,12)
DTSTART;TZID=Europe/Berlin:20251115T110000
DTEND;TZID=Europe/Berlin:20251115T130000
LOCATION:Sportovní hala Rudolfov\, Adamovská 511 Rudolfov
SUMMARY:TA-U16Z-PK-U14Z: Volejbal Rudolfov-Volejbalový klub Rokycany
END:VEVENT
BEGIN:VEVENT
UID:30373265-3639-4262-a631-333738643837
DTSTAMP:20260422T122437Z
DESCRIPTION:3/52 Volejbal Tábor U14 - Volejbalový klub Rokycany 0:2 (-22\,-
 14)
DTSTART;TZID=Europe/Berlin:20251115T153000
DTEND;TZID=Europe/Berlin:20251115T173000
LOCATION:Sportovní Hala Mír\, U Stadionu Míru 1579 Tábor
SUMMARY:TA-U16Z-PK-U14Z: Volejbal Tábor U14-Volejbalový klub Rokycany
END:VEVENT
BEGIN:VEVENT
UID:36313436-6638-4661-a165-613536333439
DTSTAMP:20260422T122437Z
DESCRIPTION:3/55 Beach volleyball club Chodov\, zapsaný spolek - Volejbalov
 ý klub Rokycany 0:2 (-15\,-13)
DTSTART;TZID=Europe/Berlin:20251115T163000
DTEND;TZID=Europe/Berlin:20251115T183000
LOCATION:volejbalové a beachvolejbalové kurty (venkovní)\, Západní 1824 Kar
 lovy Vary
SUMMARY:TA-U16Z-PK-U14Z: Beach volleyball club Chodov\, zapsaný spolek-Vole
 jbalový klub Rokycany
END:VEVENT
BEGIN:VEVENT
UID:39366137-3135-4535-b364-313465376634
DTSTAMP:20260422T122437Z
DESCRIPTION:5/86 Beach volleyball club Chodov\, zapsaný spolek - Volejbalov
 ý klub Rokycany 0:2 (-12\,-22)
DTSTART;TZID=Europe/Berlin:20260221T090000
DTEND;TZID=Europe/Berlin:20260221T110000
LOCATION:volejbalové a beachvolejbalové kurty (venkovní)\, Západní 1824 Kar
 lovy Vary
SUMMARY:TA-U16Z-PK-U14Z: Beach volleyball club Chodov\, zapsaný spolek-Vole
 jbalový klub Rokycany
END:VEVENT
BEGIN:VEVENT
UID:35373731-3131-4234-a136-333035343832
DTSTAMP:20260422T122437Z
DESCRIPTION:5/90 Volejbal Tábor U14 - Volejbalový klub Rokycany 0:2 (-12\,-
 21)
DTSTART;TZID=Europe/Berlin:20260221T114000
DTEND;TZID=Europe/Berlin:20260221T134000
LOCATION:Sportovní Hala Mír\, U Stadionu Míru 1579 Tábor
SUMMARY:TA-U16Z-PK-U14Z: Volejbal Tábor U14-Volejbalový klub Rokycany
END:VEVENT
BEGIN:VEVENT
UID:33643961-3032-4862-a665-616536343930
DTSTAMP:20260422T122437Z
DESCRIPTION:5/92 Volejbalový klub Slavia Plzeň\, z.s. - Volejbalový klub Ro
 kycany 0:2 (-21\,-24)
DTSTART;TZID=Europe/Berlin:20260221T130000
DTEND;TZID=Europe/Berlin:20260221T150000
LOCATION:Tělocvična 15.ZŠ\, Terezie Brzkové 863 Plzeň - Skvrňany
SUMMARY:TA-U16Z-PK-U14Z: Volejbalový klub Slavia Plzeň\, z.s.-Volejbalový k
 lub Rokycany
END:VEVENT
BEGIN:VEVENT
UID:61373866-3666-4935-b564-383031343937
DTSTAMP:20260422T122437Z
DESCRIPTION:5/105 TJ Lokomotiva Plzeň z.s. - Volejbalový klub Rokycany 2:0 
 (20\,19)
DTSTART;TZID=Europe/Berlin:20260222T130000
DTEND;TZID=Europe/Berlin:20260222T150000
LOCATION:Městská sportovní hala  -  hala 2\, Úslavská 2357 Plzeň - Východní
  Předměstí
SUMMARY:TA-U16Z-PK-U14Z: TJ Lokomotiva Plzeň z.s.-Volejbalový klub Rokycany
END:VEVENT
BEGIN:VEVENT
UID:36353331-3562-4462-b532-613266383132
DTSTAMP:20260422T122437Z
DESCRIPTION:6/115 Volejbalový klub Slavia Plzeň\, z.s. - Volejbalový klub R
 okycany 2:0 (19\,22)
DTSTART;TZID=Europe/Berlin:20260307T154500
DTEND;TZID=Europe/Berlin:20260307T174500
LOCATION:Tělocvična 15.ZŠ\, Terezie Brzkové 863 Plzeň - Skvrňany
SUMMARY:TA-U16Z-PK-U14Z: Volejbalový klub Slavia Plzeň\, z.s.-Volejbalový k
 lub Rokycany
END:VEVENT
BEGIN:VEVENT
UID:39656264-6362-4535-b866-333663666462
DTSTAMP:20260422T122437Z
DESCRIPTION:6/117 Beach volleyball club Chodov\, zapsaný spolek - Volejbalo
 vý klub Rokycany 0:2 (-10\,-7)
DTSTART;TZID=Europe/Berlin:20260307T171500
DTEND;TZID=Europe/Berlin:20260307T191500
LOCATION:volejbalové a beachvolejbalové kurty (venkovní)\, Západní 1824 Kar
 lovy Vary
SUMMARY:TA-U16Z-PK-U14Z: Beach volleyball club Chodov\, zapsaný spolek-Vole
 jbalový klub Rokycany
END:VEVENT
BEGIN:VEVENT
UID:30346131-3639-4535-b630-396463653666
DTSTAMP:20260422T122437Z
DESCRIPTION:6/121 Volejbal Tábor U14 - Volejbalový klub Rokycany 0:2 (-14\,
 -10)
DTSTART;TZID=Europe/Berlin:20260308T090000
DTEND;TZID=Europe/Berlin:20260308T110000
LOCATION:Sportovní Hala Mír\, U Stadionu Míru 1579 Tábor
SUMMARY:TA-U16Z-PK-U14Z: Volejbal Tábor U14-Volejbalový klub Rokycany
END:VEVENT
BEGIN:VEVENT
UID:65366235-6536-4138-b533-333433633962
DTSTAMP:20260422T122437Z
DESCRIPTION:6/124 Volejbal Rudolfov - Volejbalový klub Rokycany 2:0 (17\,15
 )
DTSTART;TZID=Europe/Berlin:20260308T114500
DTEND;TZID=Europe/Berlin:20260308T134500
LOCATION:Sportovní hala Rudolfov\, Adamovská 511 Rudolfov
SUMMARY:TA-U16Z-PK-U14Z: Volejbal Rudolfov-Volejbalový klub Rokycany
END:VEVENT
BEGIN:VEVENT
UID:61373234-3037-4036-a664-393338396339
DTSTAMP:20260422T122437Z
DESCRIPTION:7/127 Volejbal Tábor U14 - Volejbalový klub Rokycany
DTSTART;TZID=Europe/Berlin:20260425T100000
DTEND;TZID=Europe/Berlin:20260425T120000
LOCATION:Sportovní Hala Mír\, U Stadionu Míru 1579 Tábor
SUMMARY:TA-U16Z-PK-U14Z: Volejbal Tábor U14-Volejbalový klub Rokycany
END:VEVENT
END:VCALENDAR
