BEGIN:VCALENDAR
VERSION:2.0
PRODID:-//Volejbal Ústí U1491933//NONSGML kigkonsult.se iCalcreator 2.41.80//
CALSCALE:GREGORIAN
UID:31316138-3734-4235-a166-346264323333
BEGIN:VEVENT
UID:65656163-6239-4731-a364-373466666338
DTSTAMP:20260421T090650Z
DESCRIPTION:2/22 Volejbal Ústí U14 - Beach volleyball club Chodov\, zapsaný
  spolek 2:0 (8\,17)
DTSTART;TZID=Europe/Berlin:20251025T100000
DTEND;TZID=Europe/Berlin:20251025T120000
LOCATION:Tělocvična Gymnázia a Střední odborné školy dr. Václava Šmejkala\,
  Stará 3299 Ústí nad Labem - Severní Terasa
SUMMARY:TA-U16Z-PK-U14Z: Volejbal Ústí U14-Beach volleyball club Chodov\, z
 apsaný spolek
END:VEVENT
BEGIN:VEVENT
UID:64393661-6163-4061-a432-666464643166
DTSTAMP:20260421T090650Z
DESCRIPTION:2/26 Volejbal Ústí U14 - Volejbalový klub Rokycany 2:1 (-22\,18
 \,6)
DTSTART;TZID=Europe/Berlin:20251025T124000
DTEND;TZID=Europe/Berlin:20251025T144000
LOCATION:Tělocvična Gymnázia a Střední odborné školy dr. Václava Šmejkala\,
  Stará 3299 Ústí nad Labem - Severní Terasa
SUMMARY:TA-U16Z-PK-U14Z: Volejbal Ústí U14-Volejbalový klub Rokycany
END:VEVENT
BEGIN:VEVENT
UID:33303436-3763-4565-a135-363133616331
DTSTAMP:20260421T090650Z
DESCRIPTION:2/30 Volejbal Ústí U14 - Volejbalový klub Slavia Plzeň\, z.s. 2
 :1 (-17\,25\,12)
DTSTART;TZID=Europe/Berlin:20251025T152000
DTEND;TZID=Europe/Berlin:20251025T172000
LOCATION:Tělocvična Gymnázia a Střední odborné školy dr. Václava Šmejkala\,
  Stará 3299 Ústí nad Labem - Severní Terasa
SUMMARY:TA-U16Z-PK-U14Z: Volejbal Ústí U14-Volejbalový klub Slavia Plzeň\, 
 z.s.
END:VEVENT
BEGIN:VEVENT
UID:61636437-3439-4464-b737-383366356166
DTSTAMP:20260421T090650Z
DESCRIPTION:2/34 Volejbal Ústí U14 - Volejbal Rudolfov 0:2 (-21\,-13)
DTSTART;TZID=Europe/Berlin:20251025T180000
DTEND;TZID=Europe/Berlin:20251025T200000
LOCATION:Tělocvična Gymnázia a Střední odborné školy dr. Václava Šmejkala\,
  Stará 3299 Ústí nad Labem - Severní Terasa
SUMMARY:TA-U16Z-PK-U14Z: Volejbal Ústí U14-Volejbal Rudolfov
END:VEVENT
BEGIN:VEVENT
UID:39303561-3835-4765-a334-326439643863
DTSTAMP:20260421T090650Z
DESCRIPTION:2/36 Volejbal Ústí U14 - Volejbal Tábor U14 2:0 (0\,0)
DTSTART;TZID=Europe/Berlin:20251026T090000
DTEND;TZID=Europe/Berlin:20251026T110000
LOCATION:Tělocvična Gymnázia a Střední odborné školy dr. Václava Šmejkala\,
  Stará 3299 Ústí nad Labem - Severní Terasa
SUMMARY:TA-U16Z-PK-U14Z: Volejbal Ústí U14-Volejbal Tábor U14
END:VEVENT
BEGIN:VEVENT
UID:62626130-3265-4635-a238-373938646537
DTSTAMP:20260421T090650Z
DESCRIPTION:2/42 Volejbal Ústí U14 - TJ Lokomotiva Plzeň z.s. 2:0 (16\,6)
DTSTART;TZID=Europe/Berlin:20251026T130000
DTEND;TZID=Europe/Berlin:20251026T150000
LOCATION:Tělocvična Gymnázia a Střední odborné školy dr. Václava Šmejkala\,
  Stará 3299 Ústí nad Labem - Severní Terasa
SUMMARY:TA-U16Z-PK-U14Z: Volejbal Ústí U14-TJ Lokomotiva Plzeň z.s.
END:VEVENT
BEGIN:VEVENT
UID:66626263-6663-4138-a235-326339636638
DTSTAMP:20260421T090650Z
DESCRIPTION:3/54 Volejbal Ústí U14 - Volejbal Rudolfov 0:2 (-16\,-18)
DTSTART;TZID=Europe/Berlin:20251115T153000
DTEND;TZID=Europe/Berlin:20251115T173000
LOCATION:Tělocvična Gymnázia a Střední odborné školy dr. Václava Šmejkala\,
  Stará 3299 Ústí nad Labem - Severní Terasa
SUMMARY:TA-U16Z-PK-U14Z: Volejbal Ústí U14-Volejbal Rudolfov
END:VEVENT
BEGIN:VEVENT
UID:30633962-3834-4932-b035-623065383639
DTSTAMP:20260421T090650Z
DESCRIPTION:3/56 Volejbal Ústí U14 - Volejbalový klub Slavia Plzeň\, z.s. 1
 :2 (-21\,21\,-10)
DTSTART;TZID=Europe/Berlin:20251115T163000
DTEND;TZID=Europe/Berlin:20251115T183000
LOCATION:Tělocvična Gymnázia a Střední odborné školy dr. Václava Šmejkala\,
  Stará 3299 Ústí nad Labem - Severní Terasa
SUMMARY:TA-U16Z-PK-U14Z: Volejbal Ústí U14-Volejbalový klub Slavia Plzeň\, 
 z.s.
END:VEVENT
BEGIN:VEVENT
UID:62366265-3732-4030-b865-376566373130
DTSTAMP:20260421T090650Z
DESCRIPTION:4/80 Volejbal Ústí U14 - Volejbalový klub Slavia Plzeň\, z.s. 0
 :2 (-0\,-0)
DTSTART;TZID=Europe/Berlin:20260124T163000
DTEND;TZID=Europe/Berlin:20260124T183000
LOCATION:Tělocvična Gymnázia a Střední odborné školy dr. Václava Šmejkala\,
  Stará 3299 Ústí nad Labem - Severní Terasa
SUMMARY:TA-U16Z-PK-U14Z: Volejbal Ústí U14-Volejbalový klub Slavia Plzeň\, 
 z.s.
END:VEVENT
BEGIN:VEVENT
UID:38316363-3538-4163-b666-396262333132
DTSTAMP:20260421T090650Z
DESCRIPTION:4/81 Volejbal Ústí U14 - Volejbal Tábor U14 0:2 (-0\,-0)
DTSTART;TZID=Europe/Berlin:20260124T173000
DTEND;TZID=Europe/Berlin:20260124T193000
LOCATION:Tělocvična Gymnázia a Střední odborné školy dr. Václava Šmejkala\,
  Stará 3299 Ústí nad Labem - Severní Terasa
SUMMARY:TA-U16Z-PK-U14Z: Volejbal Ústí U14-Volejbal Tábor U14
END:VEVENT
BEGIN:VEVENT
UID:33386661-3932-4537-a432-313530333630
DTSTAMP:20260421T090650Z
DESCRIPTION:4/83 Volejbal Ústí U14 - Volejbal Rudolfov 0:2 (-0\,-0)
DTSTART;TZID=Europe/Berlin:20260124T173000
DTEND;TZID=Europe/Berlin:20260124T193000
LOCATION:Tělocvična Gymnázia a Střední odborné školy dr. Václava Šmejkala\,
  Stará 3299 Ústí nad Labem - Severní Terasa
SUMMARY:TA-U16Z-PK-U14Z: Volejbal Ústí U14-Volejbal Rudolfov
END:VEVENT
BEGIN:VEVENT
UID:61353635-3062-4166-a236-306336393935
DTSTAMP:20260421T090650Z
DESCRIPTION:6/113 Volejbal Ústí U14 - Volejbal Tábor U14 2:0 (7\,14)
DTSTART;TZID=Europe/Berlin:20260307T142500
DTEND;TZID=Europe/Berlin:20260307T162500
LOCATION:Tělocvična Gymnázia a Střední odborné školy dr. Václava Šmejkala\,
  Stará 3299 Ústí nad Labem - Severní Terasa
SUMMARY:TA-U16Z-PK-U14Z: Volejbal Ústí U14-Volejbal Tábor U14
END:VEVENT
BEGIN:VEVENT
UID:63316561-3934-4165-a130-333430623334
DTSTAMP:20260421T090650Z
DESCRIPTION:7/129 Volejbal Ústí U14 - TJ Lokomotiva Plzeň z.s.
DTSTART;TZID=Europe/Berlin:20260425T100000
DTEND;TZID=Europe/Berlin:20260425T120000
LOCATION:Tělocvična Gymnázia a Střední odborné školy dr. Václava Šmejkala\,
  Stará 3299 Ústí nad Labem - Severní Terasa
SUMMARY:TA-U16Z-PK-U14Z: Volejbal Ústí U14-TJ Lokomotiva Plzeň z.s.
END:VEVENT
BEGIN:VEVENT
UID:34393236-6233-4438-b865-653536333038
DTSTAMP:20260421T090650Z
DESCRIPTION:7/134 Volejbal Ústí U14 - Volejbal Rudolfov
DTSTART;TZID=Europe/Berlin:20260425T124000
DTEND;TZID=Europe/Berlin:20260425T144000
LOCATION:Tělocvična Gymnázia a Střední odborné školy dr. Václava Šmejkala\,
  Stará 3299 Ústí nad Labem - Severní Terasa
SUMMARY:TA-U16Z-PK-U14Z: Volejbal Ústí U14-Volejbal Rudolfov
END:VEVENT
BEGIN:VEVENT
UID:36353166-6633-4266-b861-393630356461
DTSTAMP:20260421T090650Z
DESCRIPTION:7/140 Volejbal Ústí U14 - Volejbalový klub Slavia Plzeň\, z.s.
DTSTART;TZID=Europe/Berlin:20260426T090000
DTEND;TZID=Europe/Berlin:20260426T110000
LOCATION:Tělocvična Gymnázia a Střední odborné školy dr. Václava Šmejkala\,
  Stará 3299 Ústí nad Labem - Severní Terasa
SUMMARY:TA-U16Z-PK-U14Z: Volejbal Ústí U14-Volejbalový klub Slavia Plzeň\, 
 z.s.
END:VEVENT
BEGIN:VEVENT
UID:39316264-6465-4662-b236-366238376139
DTSTAMP:20260421T090650Z
DESCRIPTION:7/142 Volejbal Ústí U14 - Beach volleyball club Chodov\, zapsan
 ý spolek
DTSTART;TZID=Europe/Berlin:20260426T102000
DTEND;TZID=Europe/Berlin:20260426T122000
LOCATION:Tělocvična Gymnázia a Střední odborné školy dr. Václava Šmejkala\,
  Stará 3299 Ústí nad Labem - Severní Terasa
SUMMARY:TA-U16Z-PK-U14Z: Volejbal Ústí U14-Beach volleyball club Chodov\, z
 apsaný spolek
END:VEVENT
BEGIN:VEVENT
UID:36633333-3365-4030-a663-363538383962
DTSTAMP:20260421T090650Z
DESCRIPTION:1/4 Volejbalový klub Slavia Plzeň\, z.s. - Volejbal Ústí U14 1:
 2 (-20\,21\,-10)
DTSTART;TZID=Europe/Berlin:20251011T102000
DTEND;TZID=Europe/Berlin:20251011T122000
LOCATION:Tělocvična 15.ZŠ\, Terezie Brzkové 863 Plzeň - Skvrňany
SUMMARY:TA-U16Z-PK-U14Z: Volejbalový klub Slavia Plzeň\, z.s.-Volejbal Ústí
  U14
END:VEVENT
BEGIN:VEVENT
UID:32313939-6266-4334-b865-666533346165
DTSTAMP:20260421T090650Z
DESCRIPTION:1/7 Volejbal Rudolfov - Volejbal Ústí U14 2:0 (18\,18)
DTSTART;TZID=Europe/Berlin:20251011T130000
DTEND;TZID=Europe/Berlin:20251011T150000
LOCATION:Sportovní hala Rudolfov\, Adamovská 511 Rudolfov
SUMMARY:TA-U16Z-PK-U14Z: Volejbal Rudolfov-Volejbal Ústí U14
END:VEVENT
BEGIN:VEVENT
UID:63636365-3538-4331-a138-306236303134
DTSTAMP:20260421T090650Z
DESCRIPTION:1/11 Volejbalový klub Rokycany - Volejbal Ústí U14 0:2 (-14\,-2
 1)
DTSTART;TZID=Europe/Berlin:20251011T154000
DTEND;TZID=Europe/Berlin:20251011T174000
LOCATION:Hala Gymnázia Rokycany\, Mládežníků 1115 Rokycany - Nové Město
SUMMARY:TA-U16Z-PK-U14Z: Volejbalový klub Rokycany-Volejbal Ústí U14
END:VEVENT
BEGIN:VEVENT
UID:35306662-3538-4561-b662-666564336632
DTSTAMP:20260421T090650Z
DESCRIPTION:1/14 Volejbal Tábor U14 - Volejbal Ústí U14 0:2 (-15\,-8)
DTSTART;TZID=Europe/Berlin:20251011T170000
DTEND;TZID=Europe/Berlin:20251011T190000
LOCATION:Sportovní Hala Mír\, U Stadionu Míru 1579 Tábor
SUMMARY:TA-U16Z-PK-U14Z: Volejbal Tábor U14-Volejbal Ústí U14
END:VEVENT
BEGIN:VEVENT
UID:62313837-6163-4563-b933-663531386462
DTSTAMP:20260421T090650Z
DESCRIPTION:1/15 TJ Lokomotiva Plzeň z.s. - Volejbal Ústí U14 0:2 (-20\,-10
 )
DTSTART;TZID=Europe/Berlin:20251012T090000
DTEND;TZID=Europe/Berlin:20251012T110000
LOCATION:Městská sportovní hala  -  hala 2\, Úslavská 2357 Plzeň - Východní
  Předměstí
SUMMARY:TA-U16Z-PK-U14Z: TJ Lokomotiva Plzeň z.s.-Volejbal Ústí U14
END:VEVENT
BEGIN:VEVENT
UID:32326233-3966-4363-b265-306239623733
DTSTAMP:20260421T090650Z
DESCRIPTION:1/20 Beach volleyball club Chodov\, zapsaný spolek - Volejbal Ú
 stí U14 0:2 (-13\,-12)
DTSTART;TZID=Europe/Berlin:20251012T114000
DTEND;TZID=Europe/Berlin:20251012T134000
LOCATION:volejbalové a beachvolejbalové kurty (venkovní)\, Západní 1824 Kar
 lovy Vary
SUMMARY:TA-U16Z-PK-U14Z: Beach volleyball club Chodov\, zapsaný spolek-Vole
 jbal Ústí U14
END:VEVENT
BEGIN:VEVENT
UID:63353066-3435-4162-a236-653066643663
DTSTAMP:20260421T090650Z
DESCRIPTION:3/47 Beach volleyball club Chodov\, zapsaný spolek - Volejbal Ú
 stí U14 0:2 (-9\,-18)
DTSTART;TZID=Europe/Berlin:20251115T123000
DTEND;TZID=Europe/Berlin:20251115T143000
LOCATION:volejbalové a beachvolejbalové kurty (venkovní)\, Západní 1824 Kar
 lovy Vary
SUMMARY:TA-U16Z-PK-U14Z: Beach volleyball club Chodov\, zapsaný spolek-Vole
 jbal Ústí U14
END:VEVENT
BEGIN:VEVENT
UID:63663665-6235-4637-b032-353935633666
DTSTAMP:20260421T090650Z
DESCRIPTION:3/50 TJ Lokomotiva Plzeň z.s. - Volejbal Ústí U14 0:2 (-20\,-19
 )
DTSTART;TZID=Europe/Berlin:20251115T140000
DTEND;TZID=Europe/Berlin:20251115T160000
LOCATION:Městská sportovní hala  -  hala 2\, Úslavská 2357 Plzeň - Východní
  Předměstí
SUMMARY:TA-U16Z-PK-U14Z: TJ Lokomotiva Plzeň z.s.-Volejbal Ústí U14
END:VEVENT
BEGIN:VEVENT
UID:35323235-3438-4166-a662-383738336238
DTSTAMP:20260421T090650Z
DESCRIPTION:3/59 Volejbalový klub Rokycany - Volejbal Ústí U14 0:2 (-25\,-1
 8)
DTSTART;TZID=Europe/Berlin:20251116T090000
DTEND;TZID=Europe/Berlin:20251116T110000
LOCATION:Hala Gymnázia Rokycany\, Mládežníků 1115 Rokycany - Nové Město
SUMMARY:TA-U16Z-PK-U14Z: Volejbalový klub Rokycany-Volejbal Ústí U14
END:VEVENT
BEGIN:VEVENT
UID:61396366-3862-4932-b431-663162326638
DTSTAMP:20260421T090650Z
DESCRIPTION:3/60 Volejbal Tábor U14 - Volejbal Ústí U14 1:2 (23\,-12\,-4)
DTSTART;TZID=Europe/Berlin:20251116T100000
DTEND;TZID=Europe/Berlin:20251116T120000
LOCATION:Sportovní Hala Mír\, U Stadionu Míru 1579 Tábor
SUMMARY:TA-U16Z-PK-U14Z: Volejbal Tábor U14-Volejbal Ústí U14
END:VEVENT
BEGIN:VEVENT
UID:61666336-6134-4232-b939-336562313566
DTSTAMP:20260421T090650Z
DESCRIPTION:4/78 Volejbalový klub Rokycany - Volejbal Ústí U14 2:0 (0\,0)
DTSTART;TZID=Europe/Berlin:20260124T163000
DTEND;TZID=Europe/Berlin:20260124T183000
LOCATION:Hala Gymnázia Rokycany\, Mládežníků 1115 Rokycany - Nové Město
SUMMARY:TA-U16Z-PK-U14Z: Volejbalový klub Rokycany-Volejbal Ústí U14
END:VEVENT
BEGIN:VEVENT
UID:38323031-3834-4464-b662-313062343832
DTSTAMP:20260421T090650Z
DESCRIPTION:4/82 TJ Lokomotiva Plzeň z.s. - Volejbal Ústí U14 0:2 (-0\,-0)
DTSTART;TZID=Europe/Berlin:20260124T173000
DTEND;TZID=Europe/Berlin:20260124T193000
LOCATION:Městská sportovní hala  -  hala 2\, Úslavská 2357 Plzeň - Východní
  Předměstí
SUMMARY:TA-U16Z-PK-U14Z: TJ Lokomotiva Plzeň z.s.-Volejbal Ústí U14
END:VEVENT
BEGIN:VEVENT
UID:30623666-3864-4431-a539-623538313432
DTSTAMP:20260421T090650Z
DESCRIPTION:4/84 Beach volleyball club Chodov\, zapsaný spolek - Volejbal Ú
 stí U14 2:0 (0\,0)
DTSTART;TZID=Europe/Berlin:20260124T183000
DTEND;TZID=Europe/Berlin:20260124T203000
LOCATION:volejbalové a beachvolejbalové kurty (venkovní)\, Západní 1824 Kar
 lovy Vary
SUMMARY:TA-U16Z-PK-U14Z: Beach volleyball club Chodov\, zapsaný spolek-Vole
 jbal Ústí U14
END:VEVENT
BEGIN:VEVENT
UID:39626636-3735-4663-a533-343362656635
DTSTAMP:20260421T090650Z
DESCRIPTION:5/88 Volejbalový klub Slavia Plzeň\, z.s. - Volejbal Ústí U14 1
 :2 (-10\,20\,-12)
DTSTART;TZID=Europe/Berlin:20260221T102000
DTEND;TZID=Europe/Berlin:20260221T122000
LOCATION:Tělocvična 15.ZŠ\, Terezie Brzkové 863 Plzeň - Skvrňany
SUMMARY:TA-U16Z-PK-U14Z: Volejbalový klub Slavia Plzeň\, z.s.-Volejbal Ústí
  U14
END:VEVENT
BEGIN:VEVENT
UID:34396462-3931-4634-b233-633062313138
DTSTAMP:20260421T090650Z
DESCRIPTION:5/91 Volejbal Rudolfov - Volejbal Ústí U14 2:0 (13\,9)
DTSTART;TZID=Europe/Berlin:20260221T130000
DTEND;TZID=Europe/Berlin:20260221T150000
LOCATION:Sportovní hala Rudolfov\, Adamovská 511 Rudolfov
SUMMARY:TA-U16Z-PK-U14Z: Volejbal Rudolfov-Volejbal Ústí U14
END:VEVENT
BEGIN:VEVENT
UID:35303364-6461-4661-b138-313632376166
DTSTAMP:20260421T090650Z
DESCRIPTION:5/95 Volejbalový klub Rokycany - Volejbal Ústí U14 1:2 (-9\,22\
 ,-12)
DTSTART;TZID=Europe/Berlin:20260221T154000
DTEND;TZID=Europe/Berlin:20260221T174000
LOCATION:Hala Gymnázia Rokycany\, Mládežníků 1115 Rokycany - Nové Město
SUMMARY:TA-U16Z-PK-U14Z: Volejbalový klub Rokycany-Volejbal Ústí U14
END:VEVENT
BEGIN:VEVENT
UID:35373563-3033-4961-a661-303439393565
DTSTAMP:20260421T090650Z
DESCRIPTION:5/98 Volejbal Tábor U14 - Volejbal Ústí U14 0:2 (-22\,-15)
DTSTART;TZID=Europe/Berlin:20260221T170000
DTEND;TZID=Europe/Berlin:20260221T190000
LOCATION:Sportovní Hala Mír\, U Stadionu Míru 1579 Tábor
SUMMARY:TA-U16Z-PK-U14Z: Volejbal Tábor U14-Volejbal Ústí U14
END:VEVENT
BEGIN:VEVENT
UID:30633465-3165-4435-b336-343134336538
DTSTAMP:20260421T090650Z
DESCRIPTION:5/99 TJ Lokomotiva Plzeň z.s. - Volejbal Ústí U14 0:2 (-14\,-12
 )
DTSTART;TZID=Europe/Berlin:20260222T090000
DTEND;TZID=Europe/Berlin:20260222T110000
LOCATION:Městská sportovní hala  -  hala 2\, Úslavská 2357 Plzeň - Východní
  Předměstí
SUMMARY:TA-U16Z-PK-U14Z: TJ Lokomotiva Plzeň z.s.-Volejbal Ústí U14
END:VEVENT
BEGIN:VEVENT
UID:64363832-6430-4136-a566-643235326165
DTSTAMP:20260421T090650Z
DESCRIPTION:5/104 Beach volleyball club Chodov\, zapsaný spolek - Volejbal 
 Ústí U14 0:2 (-5\,-18)
DTSTART;TZID=Europe/Berlin:20260222T114000
DTEND;TZID=Europe/Berlin:20260222T134000
LOCATION:volejbalové a beachvolejbalové kurty (venkovní)\, Západní 1824 Kar
 lovy Vary
SUMMARY:TA-U16Z-PK-U14Z: Beach volleyball club Chodov\, zapsaný spolek-Vole
 jbal Ústí U14
END:VEVENT
BEGIN:VEVENT
UID:38633830-3264-4638-a438-306461373739
DTSTAMP:20260421T090650Z
DESCRIPTION:6/108 Volejbalový klub Slavia Plzeň\, z.s. - Volejbal Ústí U14 
 0:2 (-22\,-23)
DTSTART;TZID=Europe/Berlin:20260307T104000
DTEND;TZID=Europe/Berlin:20260307T124000
LOCATION:Tělocvična 15.ZŠ\, Terezie Brzkové 863 Plzeň - Skvrňany
SUMMARY:TA-U16Z-PK-U14Z: Volejbalový klub Slavia Plzeň\, z.s.-Volejbal Ústí
  U14
END:VEVENT
BEGIN:VEVENT
UID:32386263-3232-4538-a661-646561646333
DTSTAMP:20260421T090650Z
DESCRIPTION:6/110 Volejbalový klub Rokycany - Volejbal Ústí U14 0:2 (-15\,-
 15)
DTSTART;TZID=Europe/Berlin:20260307T121000
DTEND;TZID=Europe/Berlin:20260307T141000
LOCATION:Hala Gymnázia Rokycany\, Mládežníků 1115 Rokycany - Nové Město
SUMMARY:TA-U16Z-PK-U14Z: Volejbalový klub Rokycany-Volejbal Ústí U14
END:VEVENT
BEGIN:VEVENT
UID:37313561-3166-4263-b130-353830616364
DTSTAMP:20260421T090650Z
DESCRIPTION:6/116 TJ Lokomotiva Plzeň z.s. - Volejbal Ústí U14 0:2 (-13\,-2
 3)
DTSTART;TZID=Europe/Berlin:20260307T164500
DTEND;TZID=Europe/Berlin:20260307T184500
LOCATION:Městská sportovní hala  -  hala 2\, Úslavská 2357 Plzeň - Východní
  Předměstí
SUMMARY:TA-U16Z-PK-U14Z: TJ Lokomotiva Plzeň z.s.-Volejbal Ústí U14
END:VEVENT
BEGIN:VEVENT
UID:63653836-3231-4462-b431-333863313266
DTSTAMP:20260421T090650Z
DESCRIPTION:6/120 Beach volleyball club Chodov\, zapsaný spolek - Volejbal 
 Ústí U14 0:2 (-20\,-19)
DTSTART;TZID=Europe/Berlin:20260308T084500
DTEND;TZID=Europe/Berlin:20260308T104500
LOCATION:volejbalové a beachvolejbalové kurty (venkovní)\, Západní 1824 Kar
 lovy Vary
SUMMARY:TA-U16Z-PK-U14Z: Beach volleyball club Chodov\, zapsaný spolek-Vole
 jbal Ústí U14
END:VEVENT
BEGIN:VEVENT
UID:30333336-6563-4239-a632-343438326436
DTSTAMP:20260421T090650Z
DESCRIPTION:6/122 Volejbal Rudolfov - Volejbal Ústí U14 2:0 (21\,16)
DTSTART;TZID=Europe/Berlin:20260308T101500
DTEND;TZID=Europe/Berlin:20260308T121500
LOCATION:Sportovní hala Rudolfov\, Adamovská 511 Rudolfov
SUMMARY:TA-U16Z-PK-U14Z: Volejbal Rudolfov-Volejbal Ústí U14
END:VEVENT
BEGIN:VEVENT
UID:62636633-3232-4366-a630-303432333534
DTSTAMP:20260421T090650Z
DESCRIPTION:7/130 Volejbal Tábor U14 - Volejbal Ústí U14
DTSTART;TZID=Europe/Berlin:20260425T112000
DTEND;TZID=Europe/Berlin:20260425T132000
LOCATION:Sportovní Hala Mír\, U Stadionu Míru 1579 Tábor
SUMMARY:TA-U16Z-PK-U14Z: Volejbal Tábor U14-Volejbal Ústí U14
END:VEVENT
BEGIN:VEVENT
UID:31653166-3662-4266-b861-313061656633
DTSTAMP:20260421T090650Z
DESCRIPTION:7/146 Volejbalový klub Rokycany - Volejbal Ústí U14
DTSTART;TZID=Europe/Berlin:20260426T114000
DTEND;TZID=Europe/Berlin:20260426T134000
LOCATION:Hala Gymnázia Rokycany\, Mládežníků 1115 Rokycany - Nové Město
SUMMARY:TA-U16Z-PK-U14Z: Volejbalový klub Rokycany-Volejbal Ústí U14
END:VEVENT
END:VCALENDAR
