BEGIN:VCALENDAR
VERSION:2.0
PRODID:-//Tělocvičná jednota Sokol Nechanice C92033//NONSGML kigkonsult.se iCalcreator 2.41.80//
CALSCALE:GREGORIAN
UID:30626330-3662-4362-b264-663230636437
BEGIN:VEVENT
UID:38303936-3262-4435-b364-356266356439
DTSTAMP:20260421T120723Z
DESCRIPTION:1/3 Sokol Nechanice C - Sokol Pouchov A 2:0 (14\,13)
DTSTART;TZID=Europe/Berlin:20251109T090000
DTEND;TZID=Europe/Berlin:20251109T110000
LOCATION:Tělocvičná jednota Sokol Nechanice\, Školská 348 Nechanice
SUMMARY:H-MINI-CE: Sokol Nechanice C-Sokol Pouchov A
END:VEVENT
BEGIN:VEVENT
UID:35633731-6634-4533-b962-363363613862
DTSTAMP:20260421T120723Z
DESCRIPTION:1/10 Sokol Nechanice C - Sokol Nechanice A 0:2 (-22\,-20)
DTSTART;TZID=Europe/Berlin:20251109T090000
DTEND;TZID=Europe/Berlin:20251109T110000
LOCATION:Tělocvičná jednota Sokol Nechanice\, Školská 348 Nechanice
SUMMARY:H-MINI-CE: Sokol Nechanice C-Sokol Nechanice A
END:VEVENT
BEGIN:VEVENT
UID:64633334-3336-4166-a639-626233666565
DTSTAMP:20260421T120723Z
DESCRIPTION:2/13 Sokol Nechanice C - Sokol Pouchov A 2:0 (14\,15)
DTSTART;TZID=Europe/Berlin:20260110T093000
DTEND;TZID=Europe/Berlin:20260110T113000
LOCATION:Tělocvičná jednota Sokol Nechanice\, Školská 348 Nechanice
SUMMARY:H-MINI-CE: Sokol Nechanice C-Sokol Pouchov A
END:VEVENT
BEGIN:VEVENT
UID:32303733-6237-4033-b465-663730383466
DTSTAMP:20260421T120723Z
DESCRIPTION:2/20 Sokol Nechanice C - Sokol Nechanice A 2:0 (14\,23)
DTSTART;TZID=Europe/Berlin:20260110T103000
DTEND;TZID=Europe/Berlin:20260110T123000
LOCATION:Tělocvičná jednota Sokol Nechanice\, Školská 348 Nechanice
SUMMARY:H-MINI-CE: Sokol Nechanice C-Sokol Nechanice A
END:VEVENT
BEGIN:VEVENT
UID:32613731-3866-4337-a439-653731643438
DTSTAMP:20260421T120723Z
DESCRIPTION:3/23 Sokol Nechanice C - Sokol Pouchov A
DTSTART;TZID=Europe/Berlin:20260411T090000
DTEND;TZID=Europe/Berlin:20260411T110000
LOCATION:Tělocvičná jednota Sokol Nechanice\, Školská 348 Nechanice
SUMMARY:H-MINI-CE: Sokol Nechanice C-Sokol Pouchov A
END:VEVENT
BEGIN:VEVENT
UID:38633534-3164-4333-b434-353461633232
DTSTAMP:20260421T120723Z
DESCRIPTION:3/30 Sokol Nechanice C - Sokol Nechanice A
DTSTART;TZID=Europe/Berlin:20260411T090000
DTEND;TZID=Europe/Berlin:20260411T110000
LOCATION:Tělocvičná jednota Sokol Nechanice\, Školská 348 Nechanice
SUMMARY:H-MINI-CE: Sokol Nechanice C-Sokol Nechanice A
END:VEVENT
BEGIN:VEVENT
UID:64653632-3166-4966-b934-316565393465
DTSTAMP:20260421T120723Z
DESCRIPTION:4/33 Sokol Nechanice C - Sokol Pouchov A
DTSTART;TZID=Europe/Berlin:20260531T100000
DTEND;TZID=Europe/Berlin:20260531T120000
LOCATION:Tělocvičná jednota Sokol Nechanice\, Školská 348 Nechanice
SUMMARY:H-MINI-CE: Sokol Nechanice C-Sokol Pouchov A
END:VEVENT
BEGIN:VEVENT
UID:30656232-3335-4930-a336-633138393134
DTSTAMP:20260421T120723Z
DESCRIPTION:4/40 Sokol Nechanice C - Sokol Nechanice A
DTSTART;TZID=Europe/Berlin:20260531T100000
DTEND;TZID=Europe/Berlin:20260531T120000
LOCATION:Tělocvičná jednota Sokol Nechanice\, Školská 348 Nechanice
SUMMARY:H-MINI-CE: Sokol Nechanice C-Sokol Nechanice A
END:VEVENT
BEGIN:VEVENT
UID:33343032-3837-4234-b031-613461383665
DTSTAMP:20260421T120723Z
DESCRIPTION:1/5 Sokol Nechanice B - Sokol Nechanice C 2:0 (19\,25)
DTSTART;TZID=Europe/Berlin:20251109T090000
DTEND;TZID=Europe/Berlin:20251109T110000
LOCATION:Tělocvičná jednota Sokol Nechanice\, Školská 348 Nechanice
SUMMARY:H-MINI-CE: Sokol Nechanice B-Sokol Nechanice C
END:VEVENT
BEGIN:VEVENT
UID:30613633-3663-4166-b834-616633396133
DTSTAMP:20260421T120723Z
DESCRIPTION:1/8 Sokol Pouchov B - Sokol Nechanice C 0:2 (-23\,-16)
DTSTART;TZID=Europe/Berlin:20251109T090000
DTEND;TZID=Europe/Berlin:20251109T110000
LOCATION:Hala Pouchov\, K Sokolovně 544 Hradec Králové - Pouchov
SUMMARY:H-MINI-CE: Sokol Pouchov B-Sokol Nechanice C
END:VEVENT
BEGIN:VEVENT
UID:65613237-6630-4338-b564-373139353434
DTSTAMP:20260421T120723Z
DESCRIPTION:2/15 Sokol Nechanice B - Sokol Nechanice C 0:2 (-18\,-15)
DTSTART;TZID=Europe/Berlin:20260110T095000
DTEND;TZID=Europe/Berlin:20260110T115000
LOCATION:Tělocvičná jednota Sokol Nechanice\, Školská 348 Nechanice
SUMMARY:H-MINI-CE: Sokol Nechanice B-Sokol Nechanice C
END:VEVENT
BEGIN:VEVENT
UID:65363233-3566-4137-b465-316430623231
DTSTAMP:20260421T120723Z
DESCRIPTION:2/18 Sokol Pouchov B - Sokol Nechanice C 0:2 (-14\,-22)
DTSTART;TZID=Europe/Berlin:20260110T101000
DTEND;TZID=Europe/Berlin:20260110T121000
LOCATION:Hala Pouchov\, K Sokolovně 544 Hradec Králové - Pouchov
SUMMARY:H-MINI-CE: Sokol Pouchov B-Sokol Nechanice C
END:VEVENT
BEGIN:VEVENT
UID:62366330-6664-4334-b664-393135316632
DTSTAMP:20260421T120723Z
DESCRIPTION:3/25 Sokol Nechanice B - Sokol Nechanice C
DTSTART;TZID=Europe/Berlin:20260411T090000
DTEND;TZID=Europe/Berlin:20260411T110000
LOCATION:Tělocvičná jednota Sokol Nechanice\, Školská 348 Nechanice
SUMMARY:H-MINI-CE: Sokol Nechanice B-Sokol Nechanice C
END:VEVENT
BEGIN:VEVENT
UID:39356336-3663-4539-b266-653661656338
DTSTAMP:20260421T120723Z
DESCRIPTION:3/28 Sokol Pouchov B - Sokol Nechanice C
DTSTART;TZID=Europe/Berlin:20260411T090000
DTEND;TZID=Europe/Berlin:20260411T110000
LOCATION:Hala Pouchov\, K Sokolovně 544 Hradec Králové - Pouchov
SUMMARY:H-MINI-CE: Sokol Pouchov B-Sokol Nechanice C
END:VEVENT
BEGIN:VEVENT
UID:38326632-6366-4265-a338-666363646335
DTSTAMP:20260421T120723Z
DESCRIPTION:4/35 Sokol Nechanice B - Sokol Nechanice C
DTSTART;TZID=Europe/Berlin:20260531T100000
DTEND;TZID=Europe/Berlin:20260531T120000
LOCATION:Tělocvičná jednota Sokol Nechanice\, Školská 348 Nechanice
SUMMARY:H-MINI-CE: Sokol Nechanice B-Sokol Nechanice C
END:VEVENT
BEGIN:VEVENT
UID:65326430-3363-4862-a364-616136363234
DTSTAMP:20260421T120723Z
DESCRIPTION:4/38 Sokol Pouchov B - Sokol Nechanice C
DTSTART;TZID=Europe/Berlin:20260531T100000
DTEND;TZID=Europe/Berlin:20260531T120000
LOCATION:Hala Pouchov\, K Sokolovně 544 Hradec Králové - Pouchov
SUMMARY:H-MINI-CE: Sokol Pouchov B-Sokol Nechanice C
END:VEVENT
END:VCALENDAR
