BEGIN:VCALENDAR
VERSION:2.0
PRODID:-//Blue Ostrava, ZŠ Albrechtice92037//NONSGML kigkonsult.se iCalcreator 2.41.80//
CALSCALE:GREGORIAN
UID:35353532-3139-4163-b363-313130396532
BEGIN:VEVENT
UID:33383466-3832-4936-b533-316165393332
DTSTAMP:20260422T053817Z
DESCRIPTION:1/1 VK Ostrava 'B' - Blue Ostrava\, ZŠ Albrechtice 3:0 (20\,15\
 ,16)
DTSTART;TZID=Europe/Berlin:20251109T090000
DTEND;TZID=Europe/Berlin:20251109T110000
LOCATION:ZŠ ALBRECHTICE\, Školní 20 Albrechtice
SUMMARY:MS-U14M-T1C: VK Ostrava 'B'-Blue Ostrava\, ZŠ Albrechtice
END:VEVENT
BEGIN:VEVENT
UID:64323866-3965-4663-b064-393835666565
DTSTAMP:20260422T053817Z
DESCRIPTION:3/3 VK Raškovice - Blue Ostrava\, ZŠ Albrechtice 3:0 (19\,17\,1
 3)
DTSTART;TZID=Europe/Berlin:20251109T130000
DTEND;TZID=Europe/Berlin:20251109T150000
LOCATION:ZŠ ALBRECHTICE\, Školní 20 Albrechtice
SUMMARY:MS-U14M-T1C: VK Raškovice-Blue Ostrava\, ZŠ Albrechtice
END:VEVENT
BEGIN:VEVENT
UID:38343232-3135-4937-b839-383562366665
DTSTAMP:20260422T053817Z
DESCRIPTION:2/2 Vlčáci Nový Jičín - Blue Ostrava\, ZŠ Albrechtice 3:0 (8\,1
 3\,6)
DTSTART;TZID=Europe/Berlin:20251207T110000
DTEND;TZID=Europe/Berlin:20251207T130000
LOCATION:Víceúčelová sportovní hala\,  Raškovice18
SUMMARY:MS-U14M-T2C: Vlčáci Nový Jičín-Blue Ostrava\, ZŠ Albrechtice
END:VEVENT
BEGIN:VEVENT
UID:32613131-3931-4436-b361-656135373533
DTSTAMP:20260422T053817Z
DESCRIPTION:3/3 VK Raškovice - Blue Ostrava\, ZŠ Albrechtice 3:0 (16\,13\,1
 3)
DTSTART;TZID=Europe/Berlin:20251207T130000
DTEND;TZID=Europe/Berlin:20251207T150000
LOCATION:Víceúčelová sportovní hala\,  Raškovice18
SUMMARY:MS-U14M-T2C: VK Raškovice-Blue Ostrava\, ZŠ Albrechtice
END:VEVENT
BEGIN:VEVENT
UID:62663436-6433-4664-b031-636635303232
DTSTAMP:20260422T053817Z
DESCRIPTION:1/1 VK Ostrava 'B' - Blue Ostrava\, ZŠ Albrechtice 3:0 (12\,11\
 ,6)
DTSTART;TZID=Europe/Berlin:20260111T090000
DTEND;TZID=Europe/Berlin:20260111T110000
LOCATION:Hala ZŠ Šenov\, Radniční náměstí 1040 Šenov
SUMMARY:MS-U14M-T3C: VK Ostrava 'B'-Blue Ostrava\, ZŠ Albrechtice
END:VEVENT
BEGIN:VEVENT
UID:64643461-3933-4561-b861-363935356263
DTSTAMP:20260422T053817Z
DESCRIPTION:2/2 Vlčáci Nový Jičín - Blue Ostrava\, ZŠ Albrechtice 3:0 (9\,1
 3\,11)
DTSTART;TZID=Europe/Berlin:20260111T110000
DTEND;TZID=Europe/Berlin:20260111T130000
LOCATION:Hala ZŠ Šenov\, Radniční náměstí 1040 Šenov
SUMMARY:MS-U14M-T3C: Vlčáci Nový Jičín-Blue Ostrava\, ZŠ Albrechtice
END:VEVENT
BEGIN:VEVENT
UID:66336561-3361-4331-b332-336339363965
DTSTAMP:20260422T053817Z
DESCRIPTION:1/1 VK Raškovice - Blue Ostrava\, ZŠ Albrechtice 3:0 (19\,11\,1
 8)
DTSTART;TZID=Europe/Berlin:20260215T090000
DTEND;TZID=Europe/Berlin:20260215T110000
LOCATION:Víceúčelová sportovní hala\,  Raškovice18
SUMMARY:MS-U14M-T4C: VK Raškovice-Blue Ostrava\, ZŠ Albrechtice
END:VEVENT
BEGIN:VEVENT
UID:35666631-3664-4533-a235-356363346563
DTSTAMP:20260422T053817Z
DESCRIPTION:2/2 Vlčáci Nový Jičín - Blue Ostrava\, ZŠ Albrechtice 3:0 (10\,
 7\,2)
DTSTART;TZID=Europe/Berlin:20260215T110000
DTEND;TZID=Europe/Berlin:20260215T130000
LOCATION:Víceúčelová sportovní hala\,  Raškovice18
SUMMARY:MS-U14M-T4C: Vlčáci Nový Jičín-Blue Ostrava\, ZŠ Albrechtice
END:VEVENT
BEGIN:VEVENT
UID:65313833-3830-4633-a631-663637393766
DTSTAMP:20260422T053817Z
DESCRIPTION:1/1 VK Raškovice - Blue Ostrava\, ZŠ Albrechtice 3:0 (13\,13\,8
 )
DTSTART;TZID=Europe/Berlin:20260315T090000
DTEND;TZID=Europe/Berlin:20260315T110000
LOCATION:Víceúčelová sportovní hala\,  Raškovice18
SUMMARY:MS-U14M-T5C: VK Raškovice-Blue Ostrava\, ZŠ Albrechtice
END:VEVENT
BEGIN:VEVENT
UID:34646161-3335-4234-a263-303434356439
DTSTAMP:20260422T053817Z
DESCRIPTION:2/2 VK Ostrava 'B' - Blue Ostrava\, ZŠ Albrechtice 2:1 (16\,10\
 ,-25)
DTSTART;TZID=Europe/Berlin:20260315T110000
DTEND;TZID=Europe/Berlin:20260315T130000
LOCATION:Víceúčelová sportovní hala\,  Raškovice18
SUMMARY:MS-U14M-T5C: VK Ostrava 'B'-Blue Ostrava\, ZŠ Albrechtice
END:VEVENT
BEGIN:VEVENT
UID:64396564-6463-4464-b238-333932623164
DTSTAMP:20260422T053817Z
DESCRIPTION:1/1 VK Raškovice - Blue Ostrava\, ZŠ Albrechtice 3:0 (10\,9\,11
 )
DTSTART;TZID=Europe/Berlin:20260419T090000
DTEND;TZID=Europe/Berlin:20260419T110000
LOCATION:Víceúčelová sportovní hala\,  Raškovice18
SUMMARY:MS-U14M-T6C: VK Raškovice-Blue Ostrava\, ZŠ Albrechtice
END:VEVENT
BEGIN:VEVENT
UID:65633036-6637-4932-b066-356366306466
DTSTAMP:20260422T053817Z
DESCRIPTION:2/2 Blue Ostrava - Blue Ostrava\, ZŠ AlbrechticeHlisnikovský Vo
 jtěch
DTSTART;TZID=Europe/Berlin:20260419T110000
DTEND;TZID=Europe/Berlin:20260419T130000
LOCATION:Víceúčelová sportovní hala\,  Raškovice18
SUMMARY:MS-U14M-T6C: Blue Ostrava-Blue Ostrava\, ZŠ Albrechtice
END:VEVENT
END:VCALENDAR
