BEGIN:VCALENDAR
VERSION:2.0
PRODID:-//Volejbalový Realistic klub Karlovy Vary z.s. “A”92057//NONSGML kigkonsult.se iCalcreator 2.41.80//
CALSCALE:GREGORIAN
UID:37343332-3931-4038-b738-613033656433
BEGIN:VEVENT
UID:35326337-3765-4336-b763-366532616666
DTSTAMP:20260423T070851Z
DESCRIPTION:2/6 Volejbalový klub Karlovy Vary z.s. A - Volejbalový sportovn
 í klub Baník Sokolov\, z.s. 2:3 (21\,-21\,-18\,20\,-16)
DTSTART;TZID=Europe/Berlin:20251209T170000
DTEND;TZID=Europe/Berlin:20251209T190000
LOCATION:Mattoni Arena Hala míčových sportů\, Západní 1812 Karlovy Vary
SUMMARY:SO-Z-OP: Volejbalový klub Karlovy Vary z.s. A-Volejbalový sportovní
  klub Baník Sokolov\, z.s.
END:VEVENT
BEGIN:VEVENT
UID:37656335-6631-4634-a531-636233306535
DTSTAMP:20260423T070851Z
DESCRIPTION:4/11 Volejbalový klub Karlovy Vary z.s. A - TJ Slavoj Kynšperk 
 nad Ohří\, z.s. 3:1 (17\,19\,-23\,21)
DTSTART;TZID=Europe/Berlin:20260414T170000
DTEND;TZID=Europe/Berlin:20260414T190000
LOCATION:Mattoni Arena Hala míčových sportů\, Západní 1812 Karlovy Vary
SUMMARY:SO-Z-OP: Volejbalový klub Karlovy Vary z.s. A-TJ Slavoj Kynšperk na
 d Ohří\, z.s.
END:VEVENT
BEGIN:VEVENT
UID:63633639-6134-4832-a564-623465663834
DTSTAMP:20260423T070851Z
DESCRIPTION:8/23 Volejbalový klub Karlovy Vary z.s. A - Sportovní klub Soko
 lov UNITOP ČR\, z.s. 3:0 (11\,8\,12)\nTelocvicna Policie CR - kraj.urad
DTSTART;TZID=Europe/Berlin:20260317T174500
DTEND;TZID=Europe/Berlin:20260317T194500
LOCATION:Mattoni Arena Hala míčových sportů\, Západní 1812 Karlovy Vary
SUMMARY:SO-Z-OP: Volejbalový klub Karlovy Vary z.s. A-Sportovní klub Sokolo
 v UNITOP ČR\, z.s.
END:VEVENT
BEGIN:VEVENT
UID:39636163-3330-4534-b162-363136366431
DTSTAMP:20260423T070851Z
DESCRIPTION:10/30 Volejbalový klub Karlovy Vary z.s. A - Tělovýchovná jedno
 ta Spartak Horní Slavkov\, z.s. 3:1 (18\,-19\,13\,25)
DTSTART;TZID=Europe/Berlin:20260331T170000
DTEND;TZID=Europe/Berlin:20260331T190000
LOCATION:Mattoni Arena Hala míčových sportů\, Západní 1812 Karlovy Vary
SUMMARY:SO-Z-OP: Volejbalový klub Karlovy Vary z.s. A-Tělovýchovná jednota 
 Spartak Horní Slavkov\, z.s.
END:VEVENT
BEGIN:VEVENT
UID:36643062-6331-4464-b361-366332303134
DTSTAMP:20260423T070851Z
DESCRIPTION:3/8 Sportovní klub Sokolov UNITOP ČR\, z.s. - Volejbalový klub 
 Karlovy Vary z.s. A 0:3 (-8\,-10\,-10)
DTSTART;TZID=Europe/Berlin:20251125T170000
DTEND;TZID=Europe/Berlin:20251125T190000
SUMMARY:SO-Z-OP: Sportovní klub Sokolov UNITOP ČR\, z.s.-Volejbalový klub K
 arlovy Vary z.s. A
END:VEVENT
BEGIN:VEVENT
UID:63363730-3462-4838-a332-636339633463
DTSTAMP:20260423T070851Z
DESCRIPTION:5/15 Tělovýchovná jednota Spartak Horní Slavkov\, z.s. - Volejb
 alový klub Karlovy Vary z.s. A 0:3 (-21\,-24\,-13)
DTSTART;TZID=Europe/Berlin:20260303T183000
DTEND;TZID=Europe/Berlin:20260303T203000
SUMMARY:SO-Z-OP: Tělovýchovná jednota Spartak Horní Slavkov\, z.s.-Volejbal
 ový klub Karlovy Vary z.s. A
END:VEVENT
BEGIN:VEVENT
UID:34363763-3631-4633-b932-336534306662
DTSTAMP:20260423T070851Z
DESCRIPTION:7/21 Volejbalový sportovní klub Baník Sokolov\, z.s. - Volejbal
 ový klub Karlovy Vary z.s. A 3:0 (21\,22\,21)
DTSTART;TZID=Europe/Berlin:20260310T195000
DTEND;TZID=Europe/Berlin:20260310T215000
SUMMARY:SO-Z-OP: Volejbalový sportovní klub Baník Sokolov\, z.s.-Volejbalov
 ý klub Karlovy Vary z.s. A
END:VEVENT
BEGIN:VEVENT
UID:36613161-3138-4364-b239-323764363561
DTSTAMP:20260423T070851Z
DESCRIPTION:9/26 TJ Slavoj Kynšperk nad Ohří\, z.s. - Volejbalový klub Karl
 ovy Vary z.s. A 0:3 (-20\,-18\,-16)
DTSTART;TZID=Europe/Berlin:20260326T170000
DTEND;TZID=Europe/Berlin:20260326T190000
SUMMARY:SO-Z-OP: TJ Slavoj Kynšperk nad Ohří\, z.s.-Volejbalový klub Karlov
 y Vary z.s. A
END:VEVENT
END:VCALENDAR
