BEGIN:VCALENDAR
VERSION:2.0
PRODID:-//Volejbalový sportovní klub Zlín, z.s.92127//NONSGML kigkonsult.se iCalcreator 2.41.80//
CALSCALE:GREGORIAN
UID:32333336-6665-4461-a632-353032653661
BEGIN:VEVENT
UID:34633739-6333-4633-a365-353534366137
DTSTAMP:20260422T111935Z
DESCRIPTION:4/6 VSC Zlín - Blue Ostrava 2:0 (9\,13)
DTSTART;TZID=Europe/Berlin:20251206T120000
DTEND;TZID=Europe/Berlin:20251206T140000
LOCATION:Sportovní hala Brušperk\, Sportovní 584 Brušperk
SUMMARY:CP-U14M-VB: VSC Zlín-Blue Ostrava
END:VEVENT
BEGIN:VEVENT
UID:38636136-6636-4063-a163-333762393637
DTSTAMP:20260422T111935Z
DESCRIPTION:5/7 VSC Zlín - VK SPORT Rychnov nad Kněžnou\, z.s. 0:2 (-16\,-1
 3)
DTSTART;TZID=Europe/Berlin:20251206T130000
DTEND;TZID=Europe/Berlin:20251206T150000
LOCATION:Sportovní hala Brušperk\, Sportovní 584 Brušperk
SUMMARY:CP-U14M-VB: VSC Zlín-VK SPORT Rychnov nad Kněžnou\, z.s.
END:VEVENT
BEGIN:VEVENT
UID:39313239-3761-4230-b463-373834383138
DTSTAMP:20260422T111935Z
DESCRIPTION:2/2 Red Frýdlant n/O - VSC Zlín 0:2 (-20\,-8)
DTSTART;TZID=Europe/Berlin:20251206T100000
DTEND;TZID=Europe/Berlin:20251206T120000
LOCATION:Sportovní hala Brušperk\, Sportovní 584 Brušperk
SUMMARY:CP-U14M-VB: Red Frýdlant n/O-VSC Zlín
END:VEVENT
BEGIN:VEVENT
UID:61666134-3338-4639-a635-623666613932
DTSTAMP:20260422T111935Z
DESCRIPTION:7/10 VK Ostrava\, z.s. - VSC Zlín 0:2 (-15\,-20)
DTSTART;TZID=Europe/Berlin:20251206T150000
DTEND;TZID=Europe/Berlin:20251206T170000
LOCATION:Sportovní hala Brušperk\, Sportovní 584 Brušperk
SUMMARY:CP-U14M-VB: VK Ostrava\, z.s.-VSC Zlín
END:VEVENT
BEGIN:VEVENT
UID:65623964-3261-4166-b965-336636626336
DTSTAMP:20260422T111935Z
DESCRIPTION:2/5 Volejbalový oddíl TJ Lanškroun\, z.s. - VSC Zlín 1:1 (18\,-
 15)\n2A-2B o 3.-4. místo
DTSTART;TZID=Europe/Berlin:20251206T170000
DTEND;TZID=Europe/Berlin:20251206T190000
LOCATION:Sportovní hala Brušperk\, Sportovní 584 Brušperk
SUMMARY:CP-U14M-VC: Volejbalový oddíl TJ Lanškroun\, z.s.-VSC Zlín
END:VEVENT
END:VCALENDAR
